Workbook

Sheet Mau A2
Q1: Mẫu A2
A2: UBND THÀNH PHỐ HỒ CHÍ MINH | K2: CỘNG HÒA XÃ HỘI CHỦ NGHĨA VIỆT NAM
A3: TRƯỜNG CAO ĐẲNG LÝ TỰ TRỌNG THÀNH PHỐ HỒ CHÍ MINH | K3: Độc lập - Tự do - Hạnh phúc
A4: BẢNG TỔNG KẾT KHỐI LƯỢNG CÔNG VIỆC CỦA GIẢNG VIÊN TRONG NĂM HỌC 2017 - 2018
A5: KHOA : CÔNG NGHỆ THÔNG TIN
A7: TT | B7: Họ và Tên | D7: Thực hiện trong năm học | J7: Số tiết chuẩn giảng dạy cả năm còn lại | K7: Số tiết chuẩn "Học tập, bồi dưỡng chuẩn hóa, bồi dưỡng nâng cao, nghiên cứu khoa học" còn lại | L7: Số tiết chuẩn "Thực tập tại doanh nghiệp hoặc cơ quan chuyên môn" còn lại | M7: Số tiết thừa, thiếu giảng dạy | N7: Số tiết thừa, thiếu "Học tập, bồi dưỡng chuẩn hóa, bồi dưỡng nâng cao, nghiên cứu khoa học" | O7: Số tiết thừa, thiếu "Thực tập tại doanh nghiệp hoặc cơ quan chuyên môn" | P7: Tổng số tiết thừa, thiếu năm học 2017-2018 | Q7: Số tiết thiếu năm học 2016-2017 | R7: Tổng số tiết thừa, thiếu (sau khi cộng số tiết thiếu năm học 2016-2017)
D8: Số tiết quy đổi và đã nhân hệ số | E8: Kiêm nhiệm | F8: Số tiết soạn đề, coi thi, chấm thi | G8: Tổng tiết thực hiện | H8: Số tiết "Học tập, bồi dưỡng chuẩn hóa, bồi dưỡng nâng cao, nghiên cứu khoa học" | I8: Số tiết "Thực tập tại doanh nghiệp hoặc cơ quan chuyên môn"
R9: Khối lượng vượt giờ (tính phụ trội) | S9: Khối lượng thỉnh giảng (tiết thỉnh giảng) | T9: Số tiết thiếu năm học 2017-2018
A10: (1) | B10: (2) | D10: (3) | E10: (4) | F10: (5) | G10: (6) | H10: (7) | I10: (8) | J10: (9) | K10: (10) | L10: (11) | M10: (12) | N10: (13) | O10: (14) | Q10: (15) | R10: (16) | S10: (17) | T10: (18)
A11: 1 | B11: =IF('Mau A1'!B11="","",'Mau A1'!B11) -> Nguyễn Vân | C11: =IF('Mau A1'!C11="","",'Mau A1'!C11) -> Giang | D11: =SUM('Mau A1'!M11:M22) -> 390 | E11: =SUM('Mau A1'!N11:N22) -> 157.5 | F11: =SUM('Mau A1'!O11:O22) -> 0 | G11: =SUM('Mau A1'!P11:P22) -> 547.5 | H11: =SUM('Mau A1'!Q11:Q22) -> 21.4 | I11: =SUM('Mau A1'!R11:R22) -> 52 | J11: =SUM('Mau A1'!T11:T22) -> 450 | K11: =SUM('Mau A1'!V11:V22) -> 112 | L11: =SUM('Mau A1'!X11:X22) -> 56 | M11: =SUM('Mau A1'!Y11:Y22) -> 97.5 | N11: =SUM('Mau A1'!Z11:Z22) -> -90.6 | O11: =SUM('Mau A1'!AA11:AA22) -> -4 | P11: =SUM('Mau A1'!AC11:AC22) -> 2.9 | Q11: =SUM('Mau A1'!AB11:AB22) -> 0 | R11: =ROUND(IF(AND(0<M11<200,0<(M11-Q11)<200,N11>=0,O11>=0),M11-Q11,IF(OR(AND(P11>0,P11>200),(P11-Q11)>200),"200",IF(OR(AND(N11<=0,O11=0,P11<200),AND(N11=0,O11<0,P11<200),AND(N11<0,O11<0,P11<200)),P11-Q11, ))),1) -> 2.9 | S11: =ROUND(IF(AND(N11>0,O11>0,M11<=0,R11=0),P11-Q11,IF(AND(P11>0,R11=200),P11-Q11-R11, )),1) -> 0 | T11: =ROUND(IF(SUM(M11:O11)-Q11<0,SUM(M11:O11)-Q11, ),1) -> 0
A12: 2 | B12: =IF('Mau A1'!B23="","",'Mau A1'!B23) -> Nguyễn | C12: =IF('Mau A1'!C23="","",'Mau A1'!C23) -> Khoa | D12: =SUM('Mau A1'!M23:M33) -> 0 | E12: =SUM('Mau A1'!N23:N33) -> 213.8 | F12: =SUM('Mau A1'!O23:O33) -> 0 | G12: =SUM('Mau A1'!P23:P33) -> 213.8 | H12: =SUM('Mau A1'!Q23:Q33) -> 0 | I12: =SUM('Mau A1'!R23:R33) -> 29 | J12: =SUM('Mau A1'!T23:T33) -> 450 | K12: =SUM('Mau A1'!V23:V33) -> 112 | L12: =SUM('Mau A1'!X23:X33) -> 56 | M12: =SUM('Mau A1'!Y23:Y33) -> -236.2 | N12: =SUM('Mau A1'!Z23:Z33) -> -112 | O12: =SUM('Mau A1'!AA23:AA33) -> -27 | P12: =SUM('Mau A1'!AC23:AC33) -> -375.2 | Q12: =SUM('Mau A1'!AB23:AB33) -> 0 | R12: =ROUND(IF(AND(0<M12<200,0<(M12-Q12)<200,N12>=0,O12>=0),M12-Q12,IF(OR(AND(P12>0,P12>200),(P12-Q12)>200),"200",IF(OR(AND(N12<=0,O12=0,P12<200),AND(N12=0,O12<0,P12<200),AND(N12<0,O12<0,P12<200)),P12-Q12, ))),1) -> -375.2 | S12: =ROUND(IF(AND(N12>0,O12>0,M12<=0,R12=0),P12-Q12,IF(AND(P12>0,R12=200),P12-Q12-R12, )),1) -> 0 | T12: =ROUND(IF(SUM(M12:O12)-Q12<0,SUM(M12:O12)-Q12, ),1) -> -375.2
A13: 3 | B13: =IF('Mau A1'!B34="","",'Mau A1'!B34) -> Nguyễn Văn | C13: =IF('Mau A1'!C34="","",'Mau A1'!C34) -> Minh | D13: =SUM('Mau A1'!M34:M44) -> 379.5 | E13: =SUM('Mau A1'!N34:N44) -> 37.5 | F13: =SUM('Mau A1'!O34:O44) -> 0 | G13: =SUM('Mau A1'!P34:P44) -> 417 | H13: =SUM('Mau A1'!Q34:Q44) -> 0 | I13: =SUM('Mau A1'!R34:R44) -> 38 | J13: =SUM('Mau A1'!T34:T44) -> 450 | K13: =SUM('Mau A1'!V34:V44) -> 112 | L13: =SUM('Mau A1'!X34:X44) -> 56 | M13: =SUM('Mau A1'!Y34:Y44) -> -33 | N13: =SUM('Mau A1'!Z34:Z44) -> -112 | O13: =SUM('Mau A1'!AA34:AA44) -> -18 | P13: =SUM('Mau A1'!AC34:AC44) -> -163 | Q13: =SUM('Mau A1'!AB34:AB44) -> 0 | R13: =ROUND(IF(AND(0<M13<200,0<(M13-Q13)<200,N13>=0,O13>=0),M13-Q13,IF(OR(AND(P13>0,P13>200),(P13-Q13)>200),"200",IF(OR(AND(N13<=0,O13=0,P13<200),AND(N13=0,O13<0,P13<200),AND(N13<0,O13<0,P13<200)),P13-Q13, ))),1) -> -163 | S13: =ROUND(IF(AND(N13>0,O13>0,M13<=0,R13=0),P13-Q13,IF(AND(P13>0,R13=200),P13-Q13-R13, )),1) -> 0 | T13: =ROUND(IF(SUM(M13:O13)-Q13<0,SUM(M13:O13)-Q13, ),1) -> -163
A14: 4 | B14: =IF('Mau A1'!B45="","",'Mau A1'!B45) -> Vũ Thị Thái | C14: =IF('Mau A1'!C45="","",'Mau A1'!C45) -> Linh | D14: =SUM('Mau A1'!M45:M63) -> 0 | E14: =SUM('Mau A1'!N45:N63) -> 139.5 | F14: =SUM('Mau A1'!O45:O63) -> 0 | G14: =SUM('Mau A1'!P45:P63) -> 139.5 | H14: =SUM('Mau A1'!Q45:Q63) -> 0 | I14: =SUM('Mau A1'!R45:R63) -> 40 | J14: =SUM('Mau A1'!T45:T63) -> 450 | K14: =SUM('Mau A1'!V45:V63) -> 112 | L14: =SUM('Mau A1'!X45:X63) -> 56 | M14: =SUM('Mau A1'!Y45:Y63) -> -310.5 | N14: =SUM('Mau A1'!Z45:Z63) -> -112 | O14: =SUM('Mau A1'!AA45:AA63) -> -16 | P14: =SUM('Mau A1'!AC45:AC63) -> -438.5 | Q14: =SUM('Mau A1'!AB45:AB63) -> 0 | R14: =ROUND(IF(AND(0<M14<200,0<(M14-Q14)<200,N14>=0,O14>=0),M14-Q14,IF(OR(AND(P14>0,P14>200),(P14-Q14)>200),"200",IF(OR(AND(N14<=0,O14=0,P14<200),AND(N14=0,O14<0,P14<200),AND(N14<0,O14<0,P14<200)),P14-Q14, ))),1) -> -438.5 | S14: =ROUND(IF(AND(N14>0,O14>0,M14<=0,R14=0),P14-Q14,IF(AND(P14>0,R14=200),P14-Q14-R14, )),1) -> 0 | T14: =ROUND(IF(SUM(M14:O14)-Q14<0,SUM(M14:O14)-Q14, ),1) -> -438.5
A15: 5 | B15: =IF('Mau A1'!B64="","",'Mau A1'!B64) -> Nguyễn Văn | C15: =IF('Mau A1'!C64="","",'Mau A1'!C64) -> Danh | D15: =SUM('Mau A1'!M64:M82) -> 0 | E15: =SUM('Mau A1'!N64:N82) -> 67.5 | F15: =SUM('Mau A1'!O64:O82) -> 0 | G15: =SUM('Mau A1'!P64:P82) -> 67.5 | H15: =SUM('Mau A1'!Q64:Q82) -> 0 | I15: =SUM('Mau A1'!R64:R82) -> 39 | J15: =SUM('Mau A1'!T64:T82) -> 450 | K15: =SUM('Mau A1'!V64:V82) -> 112 | L15: =SUM('Mau A1'!X64:X82) -> 56 | M15: =SUM('Mau A1'!Y64:Y82) -> -382.5 | N15: =SUM('Mau A1'!Z64:Z82) -> -112 | O15: =SUM('Mau A1'!AA64:AA82) -> -17 | P15: =SUM('Mau A1'!AC64:AC82) -> -511.5 | Q15: =SUM('Mau A1'!AB64:AB82) -> 0 | R15: =ROUND(IF(AND(0<M15<200,0<(M15-Q15)<200,N15>=0,O15>=0),M15-Q15,IF(OR(AND(P15>0,P15>200),(P15-Q15)>200),"200",IF(OR(AND(N15<=0,O15=0,P15<200),AND(N15=0,O15<0,P15<200),AND(N15<0,O15<0,P15<200)),P15-Q15, ))),1) -> -511.5 | S15: =ROUND(IF(AND(N15>0,O15>0,M15<=0,R15=0),P15-Q15,IF(AND(P15>0,R15=200),P15-Q15-R15, )),1) -> 0 | T15: =ROUND(IF(SUM(M15:O15)-Q15<0,SUM(M15:O15)-Q15, ),1) -> -511.5
A16: 6 | B16: =IF('Mau A1'!B83="","",'Mau A1'!B83) -> Nguyễn Thị | C16: =IF('Mau A1'!C83="","",'Mau A1'!C83) -> Thủy | D16: =SUM('Mau A1'!M83:M98) -> 0 | E16: =SUM('Mau A1'!N83:N98) -> 67.5 | F16: =SUM('Mau A1'!O83:O98) -> 0 | G16: =SUM('Mau A1'!P83:P98) -> 67.5 | H16: =SUM('Mau A1'!Q83:Q98) -> 0 | I16: =SUM('Mau A1'!R83:R98) -> 53 | J16: =SUM('Mau A1'!T83:T98) -> 450 | K16: =SUM('Mau A1'!V83:V98) -> 112 | L16: =SUM('Mau A1'!X83:X98) -> 56 | M16: =SUM('Mau A1'!Y83:Y98) -> -382.5 | N16: =SUM('Mau A1'!Z83:Z98) -> -112 | O16: =SUM('Mau A1'!AA83:AA98) -> -3 | P16: =SUM('Mau A1'!AC83:AC98) -> -497.5 | Q16: =SUM('Mau A1'!AB83:AB98) -> 0 | R16: =ROUND(IF(AND(0<M16<200,0<(M16-Q16)<200,N16>=0,O16>=0),M16-Q16,IF(OR(AND(P16>0,P16>200),(P16-Q16)>200),"200",IF(OR(AND(N16<=0,O16=0,P16<200),AND(N16=0,O16<0,P16<200),AND(N16<0,O16<0,P16<200)),P16-Q16, ))),1) -> -497.5 | S16: =ROUND(IF(AND(N16>0,O16>0,M16<=0,R16=0),P16-Q16,IF(AND(P16>0,R16=200),P16-Q16-R16, )),1) -> 0 | T16: =ROUND(IF(SUM(M16:O16)-Q16<0,SUM(M16:O16)-Q16, ),1) -> -497.5
A17: 7 | B17: =IF('Mau A1'!B99="","",'Mau A1'!B99) -> Nguyễn Thị Thu | C17: =IF('Mau A1'!C99="","",'Mau A1'!C99) -> Hồng | D17: =SUM('Mau A1'!M99:M117) -> 0 | E17: =SUM('Mau A1'!N99:N117) -> 67.5 | F17: =SUM('Mau A1'!O99:O117) -> 0 | G17: =SUM('Mau A1'!P99:P117) -> 67.5 | H17: =SUM('Mau A1'!Q99:Q117) -> 0 | I17: =SUM('Mau A1'!R99:R117) -> 55 | J17: =SUM('Mau A1'!T99:T117) -> 450 | K17: =SUM('Mau A1'!V99:V117) -> 112 | L17: =SUM('Mau A1'!X99:X117) -> 56 | M17: =SUM('Mau A1'!Y99:Y117) -> -382.5 | N17: =SUM('Mau A1'!Z99:Z117) -> -112 | O17: =SUM('Mau A1'!AA99:AA117) -> -1 | P17: =SUM('Mau A1'!AC99:AC117) -> -495.5 | Q17: =SUM('Mau A1'!AB99:AB117) -> 0 | R17: =ROUND(IF(AND(0<M17<200,0<(M17-Q17)<200,N17>=0,O17>=0),M17-Q17,IF(OR(AND(P17>0,P17>200),(P17-Q17)>200),"200",IF(OR(AND(N17<=0,O17=0,P17<200),AND(N17=0,O17<0,P17<200),AND(N17<0,O17<0,P17<200)),P17-Q17, ))),1) -> -495.5 | S17: =ROUND(IF(AND(N17>0,O17>0,M17<=0,R17=0),P17-Q17,IF(AND(P17>0,R17=200),P17-Q17-R17, )),1) -> 0 | T17: =ROUND(IF(SUM(M17:O17)-Q17<0,SUM(M17:O17)-Q17, ),1) -> -495.5
A18: 8 | B18: =IF('Mau A1'!B118="","",'Mau A1'!B118) -> Lê Hồng | C18: =IF('Mau A1'!C118="","",'Mau A1'!C118) -> Thái | D18: =SUM('Mau A1'!M118:M133) -> 0 | E18: =SUM('Mau A1'!N118:N133) -> 89.5 | F18: =SUM('Mau A1'!O118:O133) -> 0 | G18: =SUM('Mau A1'!P118:P133) -> 89.5 | H18: =SUM('Mau A1'!Q118:Q133) -> 0 | I18: =SUM('Mau A1'!R118:R133) -> 36 | J18: =SUM('Mau A1'!T118:T133) -> 267.2 | K18: =SUM('Mau A1'!V118:V133) -> 112 | L18: =SUM('Mau A1'!X118:X133) -> 56 | M18: =SUM('Mau A1'!Y118:Y133) -> -177.7 | N18: =SUM('Mau A1'!Z118:Z133) -> -112 | O18: =SUM('Mau A1'!AA118:AA133) -> -20 | P18: =SUM('Mau A1'!AC118:AC133) -> -309.7 | Q18: =SUM('Mau A1'!AB118:AB133) -> 0 | R18: =ROUND(IF(AND(0<M18<200,0<(M18-Q18)<200,N18>=0,O18>=0),M18-Q18,IF(OR(AND(P18>0,P18>200),(P18-Q18)>200),"200",IF(OR(AND(N18<=0,O18=0,P18<200),AND(N18=0,O18<0,P18<200),AND(N18<0,O18<0,P18<200)),P18-Q18, ))),1) -> -309.7 | S18: =ROUND(IF(AND(N18>0,O18>0,M18<=0,R18=0),P18-Q18,IF(AND(P18>0,R18=200),P18-Q18-R18, )),1) -> 0 | T18: =ROUND(IF(SUM(M18:O18)-Q18<0,SUM(M18:O18)-Q18, ),1) -> -309.7
A19: 9 | B19: =IF('Mau A1'!B134="","",'Mau A1'!B134) -> Nguyễn Thị Khánh | C19: =IF('Mau A1'!C134="","",'Mau A1'!C134) -> Thư | D19: =SUM('Mau A1'!M134:M148) -> 0 | E19: =SUM('Mau A1'!N134:N148) -> 67.5 | F19: =SUM('Mau A1'!O134:O148) -> 0 | G19: =SUM('Mau A1'!P134:P148) -> 67.5 | H19: =SUM('Mau A1'!Q134:Q148) -> 0 | I19: =SUM('Mau A1'!R134:R148) -> 44 | J19: =SUM('Mau A1'!T134:T148) -> 450 | K19: =SUM('Mau A1'!V134:V148) -> 112 | L19: =SUM('Mau A1'!X134:X148) -> 56 | M19: =SUM('Mau A1'!Y134:Y148) -> -382.5 | N19: =SUM('Mau A1'!Z134:Z148) -> -112 | O19: =SUM('Mau A1'!AA134:AA148) -> -12 | P19: =SUM('Mau A1'!AC134:AC148) -> -506.5 | Q19: =SUM('Mau A1'!AB134:AB148) -> 0 | R19: =ROUND(IF(AND(0<M19<200,0<(M19-Q19)<200,N19>=0,O19>=0),M19-Q19,IF(OR(AND(P19>0,P19>200),(P19-Q19)>200),"200",IF(OR(AND(N19<=0,O19=0,P19<200),AND(N19=0,O19<0,P19<200),AND(N19<0,O19<0,P19<200)),P19-Q19, ))),1) -> -506.5 | S19: =ROUND(IF(AND(N19>0,O19>0,M19<=0,R19=0),P19-Q19,IF(AND(P19>0,R19=200),P19-Q19-R19, )),1) -> 0 | T19: =ROUND(IF(SUM(M19:O19)-Q19<0,SUM(M19:O19)-Q19, ),1) -> -506.5
A20: 10 | B20: =IF('Mau A1'!B149="","",'Mau A1'!B149) -> Nguyễn Sanh | C20: Cường | D20: =SUM('Mau A1'!M149:M159) -> 0 | E20: =SUM('Mau A1'!N149:N159) -> 67.5 | F20: =SUM('Mau A1'!O149:O159) -> 0 | G20: =SUM('Mau A1'!P149:P159) -> 67.5 | H20: =SUM('Mau A1'!Q149:Q159) -> 0 | I20: =SUM('Mau A1'!R149:R159) -> 55 | J20: =SUM('Mau A1'!T149:T159) -> 0 | K20: =SUM('Mau A1'!V149:V159) -> 112 | L20: =SUM('Mau A1'!X149:X159) -> 56 | M20: =SUM('Mau A1'!Y149:Y159) -> -382.5 | N20: =SUM('Mau A1'!Z149:Z159) -> -112 | O20: =SUM('Mau A1'!AA149:AA159) -> -1 | P20: =SUM('Mau A1'!AC149:AC159) -> -495.5 | Q20: =SUM('Mau A1'!AB149:AB159) -> 0 | R20: =ROUND(IF(AND(0<M20<200,0<(M20-Q20)<200,N20>=0,O20>=0),M20-Q20,IF(OR(AND(P20>0,P20>200),(P20-Q20)>200),"200",IF(OR(AND(N20<=0,O20=0,P20<200),AND(N20=0,O20<0,P20<200),AND(N20<0,O20<0,P20<200)),P20-Q20, ))),1) -> -495.5 | S20: =ROUND(IF(AND(N20>0,O20>0,M20<=0,R20=0),P20-Q20,IF(AND(P20>0,R20=200),P20-Q20-R20, )),1) -> 0 | T20: =ROUND(IF(SUM(M20:O20)-Q20<0,SUM(M20:O20)-Q20, ),1) -> -495.5
A21: 11 | B21: =IF('Mau A1'!B164="","",'Mau A1'!B164) -> Võ Anh | C21: Trang | D21: =SUM('Mau A1'!M164:M172) -> 0 | E21: =SUM('Mau A1'!N164:N172) -> 67.5 | F21: =SUM('Mau A1'!O164:O172) -> 0 | G21: =SUM('Mau A1'!P164:P172) -> 67.5 | H21: =SUM('Mau A1'!Q164:Q172) -> 0 | I21: =SUM('Mau A1'!R164:R172) -> 56 | J21: =SUM('Mau A1'!T164:T172) -> 0 | K21: =SUM('Mau A1'!V164:V172) -> 112 | L21: =SUM('Mau A1'!X164:X172) -> 56 | M21: =SUM('Mau A1'!Y164:Y172) -> -382.5 | N21: =SUM('Mau A1'!Z164:Z172) -> -112 | O21: =SUM('Mau A1'!AA164:AA172) -> 0 | P21: =SUM('Mau A1'!AC164:AC172) -> -494.5 | Q21: =SUM('Mau A1'!AB164:AB172) -> 0 | R21: =ROUND(IF(AND(0<M21<200,0<(M21-Q21)<200,N21>=0,O21>=0),M21-Q21,IF(OR(AND(P21>0,P21>200),(P21-Q21)>200),"200",IF(OR(AND(N21<=0,O21=0,P21<200),AND(N21=0,O21<0,P21<200),AND(N21<0,O21<0,P21<200)),P21-Q21, ))),1) -> -494.5 | S21: =ROUND(IF(AND(N21>0,O21>0,M21<=0,R21=0),P21-Q21,IF(AND(P21>0,R21=200),P21-Q21-R21, )),1) -> 0 | T21: =ROUND(IF(SUM(M21:O21)-Q21<0,SUM(M21:O21)-Q21, ),1) -> -494.5
A22: 12 | B22: =IF('Mau A1'!B179="","",'Mau A1'!B179) -> Ng Ng Hoàng Ngọc | C22: Quyên | D22: =SUM('Mau A1'!J179:K189) -> 0 | E22: =SUM('Mau A1'!K179:L189) -> 0 | F22: =SUM('Mau A1'!L179:M189) -> 0 | G22: =SUM('Mau A1'!M179:N189) -> 67.5 | H22: =SUM('Mau A1'!N179:O189) -> 67.5 | I22: =SUM('Mau A1'!O179:P189) -> 67.5 | J22: =SUM('Mau A1'!Q179:Q189) -> 0 | K22: =SUM('Mau A1'!S179:S189) -> 0 | L22: =SUM('Mau A1'!U179:U189) -> 0 | M22: =SUM('Mau A1'!V179:V189) -> 112 | N22: =SUM('Mau A1'!Z179:Z189) -> -112 | O22: =SUM('Mau A1'!AA179:AA189) -> -6 | P22: =SUM('Mau A1'!AC179:AC189) -> -500.5 | Q22: =SUM('Mau A1'!AB179:AB189) -> 0 | R22: =ROUND(IF(AND(0<M22<200,0<(M22-Q22)<200,N22>=0,O22>=0),M22-Q22,IF(OR(AND(P22>0,P22>200),(P22-Q22)>200),"200",IF(OR(AND(N22<=0,O22=0,P22<200),AND(N22=0,O22<0,P22<200),AND(N22<0,O22<0,P22<200)),P22-Q22, ))),1) -> -500.5 | S22: =ROUND(IF(AND(N22>0,O22>0,M22<=0,R22=0),P22-Q22,IF(AND(P22>0,R22=200),P22-Q22-R22, )),1) -> 0 | T22: =ROUND(IF(SUM(M22:O22)-Q22<0,SUM(M22:O22)-Q22, ),1) -> -6
A23: 13 | B23: =IF('Mau A1'!B192="","",'Mau A1'!B192) -> Trần Việt | C23: =IF('Mau A1'!C192="","",'Mau A1'!C192) -> Khánh | D23: =SUM('Mau A1'!M192:M203) -> 0 | E23: =SUM('Mau A1'!N192:N203) -> 112.5 | F23: =SUM('Mau A1'!O192:O203) -> 0 | G23: =SUM('Mau A1'!P192:P203) -> 112.5 | H23: =SUM('Mau A1'!Q192:Q203) -> 0 | I23: =SUM('Mau A1'!R192:R203) -> 50 | J23: =SUM('Mau A1'!T192:T203) -> 450 | K23: =SUM('Mau A1'!V192:V203) -> 112 | L23: =SUM('Mau A1'!X192:X203) -> 56 | M23: =SUM('Mau A1'!Y192:Y203) -> -337.5 | N23: =SUM('Mau A1'!Z192:Z203) -> -112 | O23: =SUM('Mau A1'!AA192:AA203) -> -6 | P23: =SUM('Mau A1'!AC192:AC203) -> -455.5 | Q23: =SUM('Mau A1'!AB192:AB203) -> 0 | R23: =ROUND(IF(AND(0<M23<200,0<(M23-Q23)<200,N23>=0,O23>=0),M23-Q23,IF(OR(AND(P23>0,P23>200),(P23-Q23)>200),"200",IF(OR(AND(N23<=0,O23=0,P23<200),AND(N23=0,O23<0,P23<200),AND(N23<0,O23<0,P23<200)),P23-Q23, ))),1) -> -455.5 | S23: =ROUND(IF(AND(N23>0,O23>0,M23<=0,R23=0),P23-Q23,IF(AND(P23>0,R23=200),P23-Q23-R23, )),1) -> 0 | T23: =ROUND(IF(SUM(M23:O23)-Q23<0,SUM(M23:O23)-Q23, ),1) -> -455.5
A24: 14 | B24: =IF('Mau A1'!B204="","",'Mau A1'!B204) -> Đỗ Thị Hải | C24: =IF('Mau A1'!C204="","",'Mau A1'!C204) -> Yến | D24: =SUM('Mau A1'!M204:M215) -> 0 | E24: =SUM('Mau A1'!N204:N215) -> 67.5 | F24: =SUM('Mau A1'!O204:O215) -> 0 | G24: =SUM('Mau A1'!P204:P215) -> 67.5 | H24: =SUM('Mau A1'!Q204:Q215) -> 0 | I24: =SUM('Mau A1'!R204:R215) -> 55 | J24: =SUM('Mau A1'!T204:T215) -> 450 | K24: =SUM('Mau A1'!V204:V215) -> 112 | L24: =SUM('Mau A1'!X204:X215) -> 56 | M24: =SUM('Mau A1'!Y204:Y215) -> -382.5 | N24: =SUM('Mau A1'!Z204:Z215) -> -112 | O24: =SUM('Mau A1'!AA204:AA215) -> -1 | P24: =SUM('Mau A1'!AC204:AC215) -> -495.5 | Q24: =SUM('Mau A1'!AB204:AB215) -> 0 | R24: =ROUND(IF(AND(0<M24<200,0<(M24-Q24)<200,N24>=0,O24>=0),M24-Q24,IF(OR(AND(P24>0,P24>200),(P24-Q24)>200),"200",IF(OR(AND(N24<=0,O24=0,P24<200),AND(N24=0,O24<0,P24<200),AND(N24<0,O24<0,P24<200)),P24-Q24, ))),1) -> -495.5 | S24: =ROUND(IF(AND(N24>0,O24>0,M24<=0,R24=0),P24-Q24,IF(AND(P24>0,R24=200),P24-Q24-R24, )),1) -> 0 | T24: =ROUND(IF(SUM(M24:O24)-Q24<0,SUM(M24:O24)-Q24, ),1) -> -495.5
A25: 15 | B25: =IF('Mau A1'!B216="","",'Mau A1'!B216) -> Trần Vĩnh | C25: =IF('Mau A1'!C216="","",'Mau A1'!C216) -> Xuyên | D25: =SUM('Mau A1'!M216:M228) -> 0 | E25: =SUM('Mau A1'!N216:N228) -> 67.5 | F25: =SUM('Mau A1'!O216:O228) -> 0 | G25: =SUM('Mau A1'!P216:P228) -> 67.5 | H25: =SUM('Mau A1'!Q216:Q228) -> 0 | I25: =SUM('Mau A1'!R216:R228) -> 52 | J25: =SUM('Mau A1'!T216:T228) -> 450 | K25: =SUM('Mau A1'!V216:V228) -> 112 | L25: =SUM('Mau A1'!X216:X228) -> 56 | M25: =SUM('Mau A1'!Y216:Y228) -> -382.5 | N25: =SUM('Mau A1'!Z216:Z228) -> -112 | O25: =SUM('Mau A1'!AA216:AA228) -> -4 | P25: =SUM('Mau A1'!AC216:AC228) -> -498.5 | Q25: =SUM('Mau A1'!AB216:AB228) -> 0 | R25: =ROUND(IF(AND(0<M25<200,0<(M25-Q25)<200,N25>=0,O25>=0),M25-Q25,IF(OR(AND(P25>0,P25>200),(P25-Q25)>200),"200",IF(OR(AND(N25<=0,O25=0,P25<200),AND(N25=0,O25<0,P25<200),AND(N25<0,O25<0,P25<200)),P25-Q25, ))),1) -> -498.5 | S25: =ROUND(IF(AND(N25>0,O25>0,M25<=0,R25=0),P25-Q25,IF(AND(P25>0,R25=200),P25-Q25-R25, )),1) -> 0 | T25: =ROUND(IF(SUM(M25:O25)-Q25<0,SUM(M25:O25)-Q25, ),1) -> -498.5
A26: 16 | B26: =IF('Mau A1'!B229="","",'Mau A1'!B229) -> Nguyễn Cao | C26: =IF('Mau A1'!C229="","",'Mau A1'!C229) -> Phong | D26: =SUM('Mau A1'!M229:M243) -> 0 | E26: =SUM('Mau A1'!N229:N243) -> 89.5 | F26: =SUM('Mau A1'!O229:O243) -> 0 | G26: =SUM('Mau A1'!P229:P243) -> 89.5 | H26: =SUM('Mau A1'!Q229:Q243) -> 0 | I26: =SUM('Mau A1'!R229:R243) -> 35 | J26: =SUM('Mau A1'!T229:T243) -> 450 | K26: =SUM('Mau A1'!V229:V243) -> 112 | L26: =SUM('Mau A1'!X229:X243) -> 56 | M26: =SUM('Mau A1'!Y229:Y243) -> -360.5 | N26: =SUM('Mau A1'!Z229:Z243) -> -112 | O26: =SUM('Mau A1'!AA229:AA243) -> -21 | P26: =SUM('Mau A1'!AC229:AC243) -> -493.5 | Q26: =SUM('Mau A1'!AB229:AB243) -> 0 | R26: =ROUND(IF(AND(0<M26<200,0<(M26-Q26)<200,N26>=0,O26>=0),M26-Q26,IF(OR(AND(P26>0,P26>200),(P26-Q26)>200),"200",IF(OR(AND(N26<=0,O26=0,P26<200),AND(N26=0,O26<0,P26<200),AND(N26<0,O26<0,P26<200)),P26-Q26, ))),1) -> -493.5 | S26: =ROUND(IF(AND(N26>0,O26>0,M26<=0,R26=0),P26-Q26,IF(AND(P26>0,R26=200),P26-Q26-R26, )),1) -> 0 | T26: =ROUND(IF(SUM(M26:O26)-Q26<0,SUM(M26:O26)-Q26, ),1) -> -493.5
A27: 17 | B27: =IF('Mau A1'!B244="","",'Mau A1'!B244) -> Mai Chiếm | C27: =IF('Mau A1'!C244="","",'Mau A1'!C244) -> Tuấn | D27: =SUM('Mau A1'!M244:M255) -> 0 | E27: =SUM('Mau A1'!N244:N255) -> 67.5 | F27: =SUM('Mau A1'!O244:O255) -> 0 | G27: =SUM('Mau A1'!P244:P255) -> 67.5 | H27: =SUM('Mau A1'!Q244:Q255) -> 0 | I27: =SUM('Mau A1'!R244:R255) -> 55 | J27: =SUM('Mau A1'!T244:T255) -> 450 | K27: =SUM('Mau A1'!V244:V255) -> 112 | L27: =SUM('Mau A1'!X244:X255) -> 56 | M27: =SUM('Mau A1'!Y244:Y255) -> -382.5 | N27: =SUM('Mau A1'!Z244:Z255) -> -112 | O27: =SUM('Mau A1'!AA244:AA255) -> -1 | P27: =SUM('Mau A1'!AC244:AC255) -> -495.5 | Q27: =SUM('Mau A1'!AB244:AB255) -> 0 | R27: =ROUND(IF(AND(0<M27<200,0<(M27-Q27)<200,N27>=0,O27>=0),M27-Q27,IF(OR(AND(P27>0,P27>200),(P27-Q27)>200),"200",IF(OR(AND(N27<=0,O27=0,P27<200),AND(N27=0,O27<0,P27<200),AND(N27<0,O27<0,P27<200)),P27-Q27, ))),1) -> -495.5 | S27: =ROUND(IF(AND(N27>0,O27>0,M27<=0,R27=0),P27-Q27,IF(AND(P27>0,R27=200),P27-Q27-R27, )),1) -> 0 | T27: =ROUND(IF(SUM(M27:O27)-Q27<0,SUM(M27:O27)-Q27, ),1) -> -495.5
A28: 18 | B28: =IF('Mau A1'!B256="","",'Mau A1'!B256) -> Lê Quý Hưng | C28: =IF('Mau A1'!C256="","",'Mau A1'!C256) -> Quốc | D28: =SUM('Mau A1'!M256:M278) -> 0 | E28: =SUM('Mau A1'!N256:N278) -> 67.5 | F28: =SUM('Mau A1'!O256:O278) -> 0 | G28: =SUM('Mau A1'!P256:P278) -> 67.5 | H28: =SUM('Mau A1'!Q256:Q278) -> 0 | I28: =SUM('Mau A1'!R256:R278) -> 45 | J28: =SUM('Mau A1'!T256:T278) -> 450 | K28: =SUM('Mau A1'!V256:V278) -> 112 | L28: =SUM('Mau A1'!X256:X278) -> 56 | M28: =SUM('Mau A1'!Y256:Y278) -> -382.5 | N28: =SUM('Mau A1'!Z256:Z278) -> -112 | O28: =SUM('Mau A1'!AA256:AA278) -> -11 | P28: =SUM('Mau A1'!AC256:AC278) -> -505.5 | Q28: =SUM('Mau A1'!AB256:AB278) -> 0 | R28: =ROUND(IF(AND(0<M28<200,0<(M28-Q28)<200,N28>=0,O28>=0),M28-Q28,IF(OR(AND(P28>0,P28>200),(P28-Q28)>200),"200",IF(OR(AND(N28<=0,O28=0,P28<200),AND(N28=0,O28<0,P28<200),AND(N28<0,O28<0,P28<200)),P28-Q28, ))),1) -> -505.5 | S28: =ROUND(IF(AND(N28>0,O28>0,M28<=0,R28=0),P28-Q28,IF(AND(P28>0,R28=200),P28-Q28-R28, )),1) -> 0 | T28: =ROUND(IF(SUM(M28:O28)-Q28<0,SUM(M28:O28)-Q28, ),1) -> -505.5
A29: 19 | B29: =IF('Mau A1'!B279="","",'Mau A1'!B279) -> Nguyễn Văn | C29: =IF('Mau A1'!C279="","",'Mau A1'!C279) -> Đôn | D29: =SUM('Mau A1'!M279:M293) -> 0 | E29: =SUM('Mau A1'!N279:N293) -> 112.5 | F29: =SUM('Mau A1'!O279:O293) -> 0 | G29: =SUM('Mau A1'!P279:P293) -> 112.5 | H29: =SUM('Mau A1'!Q279:Q293) -> 42.9 | I29: =SUM('Mau A1'!R279:R293) -> 56 | J29: =SUM('Mau A1'!T279:T293) -> 450 | K29: =SUM('Mau A1'!V279:V293) -> 112 | L29: =SUM('Mau A1'!X279:X293) -> 56 | M29: =SUM('Mau A1'!Y279:Y293) -> -337.5 | N29: =SUM('Mau A1'!Z279:Z293) -> -69.1 | O29: =SUM('Mau A1'!AA279:AA293) -> 0 | P29: =SUM('Mau A1'!AC279:AC293) -> -406.6 | Q29: =SUM('Mau A1'!AB279:AB293) -> 0 | R29: =ROUND(IF(AND(0<M29<200,0<(M29-Q29)<200,N29>=0,O29>=0),M29-Q29,IF(OR(AND(P29>0,P29>200),(P29-Q29)>200),"200",IF(OR(AND(N29<=0,O29=0,P29<200),AND(N29=0,O29<0,P29<200),AND(N29<0,O29<0,P29<200)),P29-Q29, ))),1) -> -406.6 | S29: =ROUND(IF(AND(N29>0,O29>0,M29<=0,R29=0),P29-Q29,IF(AND(P29>0,R29=200),P29-Q29-R29, )),1) -> 0 | T29: =ROUND(IF(SUM(M29:O29)-Q29<0,SUM(M29:O29)-Q29, ),1) -> -406.6
A30: 20 | B30: =IF('Mau A1'!B294="","",'Mau A1'!B294) -> Bùi Văn | C30: =IF('Mau A1'!C294="","",'Mau A1'!C294) -> Dũng | D30: =SUM('Mau A1'!M294:M314) -> 0 | E30: =SUM('Mau A1'!N294:N314) -> 67.5 | F30: =SUM('Mau A1'!O294:O314) -> 0 | G30: =SUM('Mau A1'!P294:P314) -> 67.5 | H30: =SUM('Mau A1'!Q294:Q314) -> 0 | I30: =SUM('Mau A1'!R294:R314) -> 56 | J30: =SUM('Mau A1'!T294:T314) -> 450 | K30: =SUM('Mau A1'!V294:V314) -> 112 | L30: =SUM('Mau A1'!X294:X314) -> 56 | M30: =SUM('Mau A1'!Y294:Y314) -> -382.5 | N30: =SUM('Mau A1'!Z294:Z314) -> -112 | O30: =SUM('Mau A1'!AA294:AA314) -> 0 | P30: =SUM('Mau A1'!AC294:AC314) -> -494.5 | Q30: =SUM('Mau A1'!AB294:AB314) -> 0 | R30: =ROUND(IF(AND(0<M30<200,0<(M30-Q30)<200,N30>=0,O30>=0),M30-Q30,IF(OR(AND(P30>0,P30>200),(P30-Q30)>200),"200",IF(OR(AND(N30<=0,O30=0,P30<200),AND(N30=0,O30<0,P30<200),AND(N30<0,O30<0,P30<200)),P30-Q30, ))),1) -> -494.5 | S30: =ROUND(IF(AND(N30>0,O30>0,M30<=0,R30=0),P30-Q30,IF(AND(P30>0,R30=200),P30-Q30-R30, )),1) -> 0 | T30: =ROUND(IF(SUM(M30:O30)-Q30<0,SUM(M30:O30)-Q30, ),1) -> -494.5
A31: 21 | B31: =IF('Mau A1'!B315="","",'Mau A1'!B315) -> Đậng Ngọc | C31: =IF('Mau A1'!C315="","",'Mau A1'!C315) -> Đoàn | D31: =SUM('Mau A1'!M315:M344) -> 0 | E31: =SUM('Mau A1'!N315:N344) -> 67.5 | F31: =SUM('Mau A1'!O315:O344) -> 0 | G31: =SUM('Mau A1'!P315:P344) -> 67.5 | H31: =SUM('Mau A1'!Q315:Q344) -> 0 | I31: =SUM('Mau A1'!R315:R344) -> 56 | J31: =SUM('Mau A1'!T315:T344) -> 450 | K31: =SUM('Mau A1'!V315:V344) -> 112 | L31: =SUM('Mau A1'!X315:X344) -> 56 | M31: =SUM('Mau A1'!Y315:Y344) -> -382.5 | N31: =SUM('Mau A1'!Z315:Z344) -> -112 | O31: =SUM('Mau A1'!AA315:AA344) -> 0 | P31: =SUM('Mau A1'!AC315:AC344) -> -494.5 | Q31: =SUM('Mau A1'!AB315:AB344) -> 0 | R31: =ROUND(IF(AND(0<M31<200,0<(M31-Q31)<200,N31>=0,O31>=0),M31-Q31,IF(OR(AND(P31>0,P31>200),(P31-Q31)>200),"200",IF(OR(AND(N31<=0,O31=0,P31<200),AND(N31=0,O31<0,P31<200),AND(N31<0,O31<0,P31<200)),P31-Q31, ))),1) -> -494.5 | S31: =ROUND(IF(AND(N31>0,O31>0,M31<=0,R31=0),P31-Q31,IF(AND(P31>0,R31=200),P31-Q31-R31, )),1) -> 0 | T31: =ROUND(IF(SUM(M31:O31)-Q31<0,SUM(M31:O31)-Q31, ),1) -> -494.5
A32: 22 | B32: =IF('Mau A1'!B345="","",'Mau A1'!B345) -> Lê Tất | C32: =IF('Mau A1'!C345="","",'Mau A1'!C345) -> Đạt | D32: =SUM('Mau A1'!M345:M361) -> 0 | E32: =SUM('Mau A1'!N345:N361) -> 67.5 | F32: =SUM('Mau A1'!O345:O361) -> 0 | G32: =SUM('Mau A1'!P345:P361) -> 67.5 | H32: =SUM('Mau A1'!Q345:Q361) -> 0 | I32: =SUM('Mau A1'!R345:R361) -> 41 | J32: =SUM('Mau A1'!T345:T361) -> 450 | K32: =SUM('Mau A1'!V345:V361) -> 112 | L32: =SUM('Mau A1'!X345:X361) -> 56 | M32: =SUM('Mau A1'!Y345:Y361) -> -382.5 | N32: =SUM('Mau A1'!Z345:Z361) -> -112 | O32: =SUM('Mau A1'!AA345:AA361) -> -15 | P32: =SUM('Mau A1'!AC345:AC361) -> -509.5 | Q32: =SUM('Mau A1'!AB345:AB361) -> 0 | R32: =ROUND(IF(AND(0<M32<200,0<(M32-Q32)<200,N32>=0,O32>=0),M32-Q32,IF(OR(AND(P32>0,P32>200),(P32-Q32)>200),"200",IF(OR(AND(N32<=0,O32=0,P32<200),AND(N32=0,O32<0,P32<200),AND(N32<0,O32<0,P32<200)),P32-Q32, ))),1) -> -509.5 | S32: =ROUND(IF(AND(N32>0,O32>0,M32<=0,R32=0),P32-Q32,IF(AND(P32>0,R32=200),P32-Q32-R32, )),1) -> 0 | T32: =ROUND(IF(SUM(M32:O32)-Q32<0,SUM(M32:O32)-Q32, ),1) -> -509.5
A33: 23 | B33: =IF('Mau A1'!B362="","",'Mau A1'!B362) -> Dương Ngọc | C33: =IF('Mau A1'!C362="","",'Mau A1'!C362) -> Vọng | D33: =SUM('Mau A1'!M362:M379) -> 0 | E33: =SUM('Mau A1'!N362:N379) -> 67.5 | F33: =SUM('Mau A1'!O362:O379) -> 0 | G33: =SUM('Mau A1'!P362:P379) -> 67.5 | H33: =SUM('Mau A1'!Q362:Q379) -> 0 | I33: =SUM('Mau A1'!R362:R379) -> 21 | J33: =SUM('Mau A1'!T362:T379) -> 450 | K33: =SUM('Mau A1'!V362:V379) -> 112 | L33: =SUM('Mau A1'!X362:X379) -> 56 | M33: =SUM('Mau A1'!Y362:Y379) -> -382.5 | N33: =SUM('Mau A1'!Z362:Z379) -> -112 | O33: =SUM('Mau A1'!AA362:AA379) -> -35 | P33: =SUM('Mau A1'!AC362:AC379) -> -529.5 | Q33: =SUM('Mau A1'!AB362:AB379) -> 0 | R33: =ROUND(IF(AND(0<M33<200,0<(M33-Q33)<200,N33>=0,O33>=0),M33-Q33,IF(OR(AND(P33>0,P33>200),(P33-Q33)>200),"200",IF(OR(AND(N33<=0,O33=0,P33<200),AND(N33=0,O33<0,P33<200),AND(N33<0,O33<0,P33<200)),P33-Q33, ))),1) -> -529.5 | S33: =ROUND(IF(AND(N33>0,O33>0,M33<=0,R33=0),P33-Q33,IF(AND(P33>0,R33=200),P33-Q33-R33, )),1) -> 0 | T33: =ROUND(IF(SUM(M33:O33)-Q33<0,SUM(M33:O33)-Q33, ),1) -> -529.5
A34: 24 | B34: =IF('Mau A1'!B380="","",'Mau A1'!B380) -> Lê Phi | C34: =IF('Mau A1'!C380="","",'Mau A1'!C380) -> Trường | D34: =SUM('Mau A1'!M380:M408) -> 0 | E34: =SUM('Mau A1'!N380:N408) -> 67.5 | F34: =SUM('Mau A1'!O380:O408) -> 0 | G34: =SUM('Mau A1'!P380:P408) -> 67.5 | H34: =SUM('Mau A1'!Q380:Q408) -> 0 | I34: =SUM('Mau A1'!R380:R408) -> 56 | J34: =SUM('Mau A1'!T380:T408) -> 450 | K34: =SUM('Mau A1'!V380:V408) -> 112 | L34: =SUM('Mau A1'!X380:X408) -> 56 | M34: =SUM('Mau A1'!Y380:Y408) -> -382.5 | N34: =SUM('Mau A1'!Z380:Z408) -> -112 | O34: =SUM('Mau A1'!AA380:AA408) -> 0 | P34: =SUM('Mau A1'!AC380:AC408) -> -494.5 | Q34: =SUM('Mau A1'!AB380:AB408) -> 0 | R34: =ROUND(IF(AND(0<M34<200,0<(M34-Q34)<200,N34>=0,O34>=0),M34-Q34,IF(OR(AND(P34>0,P34>200),(P34-Q34)>200),"200",IF(OR(AND(N34<=0,O34=0,P34<200),AND(N34=0,O34<0,P34<200),AND(N34<0,O34<0,P34<200)),P34-Q34, ))),1) -> -494.5 | S34: =ROUND(IF(AND(N34>0,O34>0,M34<=0,R34=0),P34-Q34,IF(AND(P34>0,R34=200),P34-Q34-R34, )),1) -> 0 | T34: =ROUND(IF(SUM(M34:O34)-Q34<0,SUM(M34:O34)-Q34, ),1) -> -494.5
A35: 25 | B35: =IF('Mau A1'!B409="","",'Mau A1'!B409) -> Nguyễn Ngọc | C35: =IF('Mau A1'!C409="","",'Mau A1'!C409) -> Tuyên | D35: =SUM('Mau A1'!M409:M438) -> 0 | E35: =SUM('Mau A1'!N409:N438) -> 67.5 | F35: =SUM('Mau A1'!O409:O438) -> 0 | G35: =SUM('Mau A1'!P409:P438) -> 67.5 | H35: =SUM('Mau A1'!Q409:Q438) -> 0 | I35: =SUM('Mau A1'!R409:R438) -> 56 | J35: =SUM('Mau A1'!T409:T438) -> 450 | K35: =SUM('Mau A1'!V409:V438) -> 112 | L35: =SUM('Mau A1'!X409:X438) -> 56 | M35: =SUM('Mau A1'!Y409:Y438) -> -382.5 | N35: =SUM('Mau A1'!Z409:Z438) -> -112 | O35: =SUM('Mau A1'!AA409:AA438) -> 0 | P35: =SUM('Mau A1'!AC409:AC438) -> -494.5 | Q35: =SUM('Mau A1'!AB409:AB438) -> 0 | R35: =ROUND(IF(AND(0<M35<200,0<(M35-Q35)<200,N35>=0,O35>=0),M35-Q35,IF(OR(AND(P35>0,P35>200),(P35-Q35)>200),"200",IF(OR(AND(N35<=0,O35=0,P35<200),AND(N35=0,O35<0,P35<200),AND(N35<0,O35<0,P35<200)),P35-Q35, ))),1) -> -494.5 | S35: =ROUND(IF(AND(N35>0,O35>0,M35<=0,R35=0),P35-Q35,IF(AND(P35>0,R35=200),P35-Q35-R35, )),1) -> 0 | T35: =ROUND(IF(SUM(M35:O35)-Q35<0,SUM(M35:O35)-Q35, ),1) -> -494.5
A36: 26 | B36: =IF('Mau A1'!B439="","",'Mau A1'!B439) -> Nguyễn Duy | C36: =IF('Mau A1'!C439="","",'Mau A1'!C439) -> Đạt | D36: =SUM('Mau A1'!M439:M468) -> 0 | E36: =SUM('Mau A1'!N439:N468) -> 33.75 | F36: =SUM('Mau A1'!O439:O468) -> 32.4 | G36: =SUM('Mau A1'!P439:P468) -> 66.15 | H36: =SUM('Mau A1'!Q439:Q468) -> 140.4 | I36: =SUM('Mau A1'!R439:R468) -> 0 | J36: =SUM('Mau A1'!T439:T468) -> 255.7 | K36: =SUM('Mau A1'!V439:V468) -> 112 | L36: =SUM('Mau A1'!X439:X468) -> 56 | M36: =SUM('Mau A1'!Y439:Y468) -> -189.6 | N36: =SUM('Mau A1'!Z439:Z468) -> 0 | O36: =SUM('Mau A1'!AA439:AA468) -> -56 | P36: =SUM('Mau A1'!AC439:AC468) -> -245.6 | Q36: =SUM('Mau A1'!AB439:AB468) -> 0 | R36: =ROUND(IF(AND(0<M36<200,0<(M36-Q36)<200,N36>=0,O36>=0),M36-Q36,IF(OR(AND(P36>0,P36>200),(P36-Q36)>200),"200",IF(OR(AND(N36<=0,O36=0,P36<200),AND(N36=0,O36<0,P36<200),AND(N36<0,O36<0,P36<200)),P36-Q36, ))),1) -> -245.6 | S36: =ROUND(IF(AND(N36>0,O36>0,M36<=0,R36=0),P36-Q36,IF(AND(P36>0,R36=200),P36-Q36-R36, )),1) -> 0 | T36: =ROUND(IF(SUM(M36:O36)-Q36<0,SUM(M36:O36)-Q36, ),1) -> -245.6
A37: 27 | B37: =IF('Mau A1'!B469="","",'Mau A1'!B469) | C37: =IF('Mau A1'!C469="","",'Mau A1'!C469) | D37: =SUM('Mau A1'!M469:M498) -> 0 | E37: =SUM('Mau A1'!N469:N498) -> 0 | F37: =SUM('Mau A1'!O469:O498) -> 0 | G37: =SUM('Mau A1'!P469:P498) -> 0 | H37: =SUM('Mau A1'!Q469:Q498) -> 0 | I37: =SUM('Mau A1'!R469:R498) -> 0 | J37: =SUM('Mau A1'!T469:T498) -> 0 | K37: =SUM('Mau A1'!V469:V498) -> 0 | L37: =SUM('Mau A1'!X469:X498) -> 0 | M37: =SUM('Mau A1'!Y469:Y498) -> 0 | N37: =SUM('Mau A1'!Z469:Z498) -> 0 | O37: =SUM('Mau A1'!AA469:AA498) -> 0 | P37: =SUM('Mau A1'!AC469:AC498) -> 0 | Q37: =SUM('Mau A1'!AB469:AB498) -> 0 | R37: =ROUND(IF(AND(0<M37<200,0<(M37-Q37)<200,N37>=0,O37>=0),M37-Q37,IF(OR(AND(P37>0,P37>200),(P37-Q37)>200),"200",IF(OR(AND(N37<=0,O37=0,P37<200),AND(N37=0,O37<0,P37<200),AND(N37<0,O37<0,P37<200)),P37-Q37, ))),1) -> 0 | S37: =ROUND(IF(AND(N37>0,O37>0,M37<=0,R37=0),P37-Q37,IF(AND(P37>0,R37=200),P37-Q37-R37, )),1) -> 0 | T37: =ROUND(IF(SUM(M37:O37)-Q37<0,SUM(M37:O37)-Q37, ),1) -> 0
A38: 28 | B38: =IF('Mau A1'!B499="","",'Mau A1'!B499) | C38: =IF('Mau A1'!C499="","",'Mau A1'!C499) | D38: =SUM('Mau A1'!M499:M528) -> 0 | E38: =SUM('Mau A1'!N499:N528) -> 0 | F38: =SUM('Mau A1'!O499:O528) -> 0 | G38: =SUM('Mau A1'!P499:P528) -> 0 | H38: =SUM('Mau A1'!Q499:Q528) -> 0 | I38: =SUM('Mau A1'!R499:R528) -> 0 | J38: =SUM('Mau A1'!T499:T528) -> 0 | K38: =SUM('Mau A1'!V499:V528) -> 0 | L38: =SUM('Mau A1'!X499:X528) -> 0 | M38: =SUM('Mau A1'!Y499:Y528) -> 0 | N38: =SUM('Mau A1'!Z499:Z528) -> 0 | O38: =SUM('Mau A1'!AA499:AA528) -> 0 | P38: =SUM('Mau A1'!AC499:AC528) -> 0 | Q38: =SUM('Mau A1'!AB499:AB528) -> 0 | R38: =ROUND(IF(AND(0<M38<200,0<(M38-Q38)<200,N38>=0,O38>=0),M38-Q38,IF(OR(AND(P38>0,P38>200),(P38-Q38)>200),"200",IF(OR(AND(N38<=0,O38=0,P38<200),AND(N38=0,O38<0,P38<200),AND(N38<0,O38<0,P38<200)),P38-Q38, ))),1) -> 0 | S38: =ROUND(IF(AND(N38>0,O38>0,M38<=0,R38=0),P38-Q38,IF(AND(P38>0,R38=200),P38-Q38-R38, )),1) -> 0 | T38: =ROUND(IF(SUM(M38:O38)-Q38<0,SUM(M38:O38)-Q38, ),1) -> 0
A39: 29 | B39: =IF('Mau A1'!B529="","",'Mau A1'!B529) | C39: =IF('Mau A1'!C529="","",'Mau A1'!C529) | D39: =SUM('Mau A1'!M529:M558) -> 0 | E39: =SUM('Mau A1'!N529:N558) -> 0 | F39: =SUM('Mau A1'!O529:O558) -> 0 | G39: =SUM('Mau A1'!P529:P558) -> 0 | H39: =SUM('Mau A1'!Q529:Q558) -> 0 | I39: =SUM('Mau A1'!R529:R558) -> 0 | J39: =SUM('Mau A1'!T529:T558) -> 0 | K39: =SUM('Mau A1'!V529:V558) -> 0 | L39: =SUM('Mau A1'!X529:X558) -> 0 | M39: =SUM('Mau A1'!Y529:Y558) -> 0 | N39: =SUM('Mau A1'!Z529:Z558) -> 0 | O39: =SUM('Mau A1'!AA529:AA558) -> 0 | P39: =SUM('Mau A1'!AC529:AC558) -> 0 | Q39: =SUM('Mau A1'!AB529:AB558) -> 0 | R39: =ROUND(IF(AND(0<M39<200,0<(M39-Q39)<200,N39>=0,O39>=0),M39-Q39,IF(OR(AND(P39>0,P39>200),(P39-Q39)>200),"200",IF(OR(AND(N39<=0,O39=0,P39<200),AND(N39=0,O39<0,P39<200),AND(N39<0,O39<0,P39<200)),P39-Q39, ))),1) -> 0 | S39: =ROUND(IF(AND(N39>0,O39>0,M39<=0,R39=0),P39-Q39,IF(AND(P39>0,R39=200),P39-Q39-R39, )),1) -> 0 | T39: =ROUND(IF(SUM(M39:O39)-Q39<0,SUM(M39:O39)-Q39, ),1) -> 0
A40: 30 | B40: =IF('Mau A1'!B559="","",'Mau A1'!B559) | C40: =IF('Mau A1'!C559="","",'Mau A1'!C559) | D40: =SUM('Mau A1'!M559:M588) -> 0 | E40: =SUM('Mau A1'!N559:N588) -> 0 | F40: =SUM('Mau A1'!O559:O588) -> 0 | G40: =SUM('Mau A1'!P559:P588) -> 0 | H40: =SUM('Mau A1'!Q559:Q588) -> 0 | I40: =SUM('Mau A1'!R559:R588) -> 0 | J40: =SUM('Mau A1'!T559:T588) -> 0 | K40: =SUM('Mau A1'!V559:V588) -> 0 | L40: =SUM('Mau A1'!X559:X588) -> 0 | M40: =SUM('Mau A1'!Y559:Y588) -> 0 | N40: =SUM('Mau A1'!Z559:Z588) -> 0 | O40: =SUM('Mau A1'!AA559:AA588) -> 0 | P40: =SUM('Mau A1'!AC559:AC588) -> 0 | Q40: =SUM('Mau A1'!AB559:AB588) -> 0 | R40: =ROUND(IF(AND(0<M40<200,0<(M40-Q40)<200,N40>=0,O40>=0),M40-Q40,IF(OR(AND(P40>0,P40>200),(P40-Q40)>200),"200",IF(OR(AND(N40<=0,O40=0,P40<200),AND(N40=0,O40<0,P40<200),AND(N40<0,O40<0,P40<200)),P40-Q40, ))),1) -> 0 | S40: =ROUND(IF(AND(N40>0,O40>0,M40<=0,R40=0),P40-Q40,IF(AND(P40>0,R40=200),P40-Q40-R40, )),1) -> 0 | T40: =ROUND(IF(SUM(M40:O40)-Q40<0,SUM(M40:O40)-Q40, ),1) -> 0
A41: 31 | B41: =IF('Mau A1'!B589="","",'Mau A1'!B589) | C41: =IF('Mau A1'!C589="","",'Mau A1'!C589) | D41: =SUM('Mau A1'!M589:M618) -> 0 | E41: =SUM('Mau A1'!N589:N618) -> 0 | F41: =SUM('Mau A1'!O589:O618) -> 0 | G41: =SUM('Mau A1'!P589:P618) -> 0 | H41: =SUM('Mau A1'!Q589:Q618) -> 0 | I41: =SUM('Mau A1'!R589:R618) -> 0 | J41: =SUM('Mau A1'!T589:T618) -> 0 | K41: =SUM('Mau A1'!V589:V618) -> 0 | L41: =SUM('Mau A1'!X589:X618) -> 0 | M41: =SUM('Mau A1'!Y589:Y618) -> 0 | N41: =SUM('Mau A1'!Z589:Z618) -> 0 | O41: =SUM('Mau A1'!AA589:AA618) -> 0 | P41: =SUM('Mau A1'!AC589:AC618) -> 0 | Q41: =SUM('Mau A1'!AB589:AB618) -> 0 | R41: =ROUND(IF(AND(0<M41<200,0<(M41-Q41)<200,N41>=0,O41>=0),M41-Q41,IF(OR(AND(P41>0,P41>200),(P41-Q41)>200),"200",IF(OR(AND(N41<=0,O41=0,P41<200),AND(N41=0,O41<0,P41<200),AND(N41<0,O41<0,P41<200)),P41-Q41, ))),1) -> 0 | S41: =ROUND(IF(AND(N41>0,O41>0,M41<=0,R41=0),P41-Q41,IF(AND(P41>0,R41=200),P41-Q41-R41, )),1) -> 0 | T41: =ROUND(IF(SUM(M41:O41)-Q41<0,SUM(M41:O41)-Q41, ),1) -> 0
...

Sheet Mau A1
AB1: Mẫu A1
A2: UBND THÀNH PHỐ HỒ CHÍ MINH | V2: CỘNG HÒA XÃ HỘI CHỦ NGHĨA VIỆT NAM
A3: TRƯỜNG CAO ĐẲNG LÝ TỰ TRỌNG THÀNH PHỐ HỒ CHÍ MINH | V3: Độc lập - Tự do - Hạnh phúc
A4: BẢNG TÍNH KHỐI LƯỢNG CÔNG VIỆC CỦA GIẢNG VIÊN TRONG NĂM HỌC 2017 - 2018
A5: KHOA : CÔNG NGHỆ THÔNG TIN
A7: TT | B7: Họ và Tên | D7: MÃ LỚP HP | E7: Môn dạy | F7: lớp dạy | G7: Học kỳ | H7: Thực hiện trong năm học | S7: Số tiết chuẩn giảng dạy | T7: Số tiết chuẩn giảng dạy còn lại | U7: Số tiết chuẩn "Học tập, bồi dưỡng chuẩn hóa, bồi dưỡng nâng cao, nghiên cứu khoa học" | V7: Số tiết chuẩn "Học tập, bồi dưỡng chuẩn hóa, bồi dưỡng nâng cao, nghiên cứu khoa học" còn lại | W7: Số tiết chuẩn "Thực tập tại doanh nghiệp hoặc cơ quan chuyên môn" | X7: Số tiết chuẩn "Thực tập tại doanh nghiệp hoặc cơ quan chuyên môn" còn lại | Y7: Số tiết thừa, thiếu giảng dạy | Z7: Số tiết thừa, thiếu "Học tập, bồi dưỡng chuẩn hóa, bồi dưỡng nâng cao, nghiên cứu khoa học" | AA7: Số tiết thừa, thiếu "Thực tập tại doanh nghiệp hoặc cơ quan chuyên môn" | AB7: Số tiết thiếu năm học 2016-2017 | AC7: Tổng số tiết thừa, thiếu năm học 2017-2018
H8: Chưa nhân hệ số | J8: Sĩ số LHP | K8: Hệ số | M8: Số tiết quy đổi và đã nhân hệ số | N8: Kiêm nhiệm | O8: Số tiết soạn đề, coi thi, chấm thi | P8: Tổng tiết thực hiện | Q8: Số tiết "Học tập, bồi dưỡng chuẩn hóa, bồi dưỡng nâng cao, nghiên cứu khoa học" | R8: Số tiết "Thực tập tại doanh nghiệp hoặc cơ quan chuyên môn"
H9: LT | I9: TH | J9: Chính thức và học lại | K9: LT | L9: TH
A10: (1) | B10: (2) | E10: (3) | F10: (4) | G10: (5) | H10: (6) | I10: (7) | K10: =IF(OR(LEFT(E10,2)="ĐA",LEFT(E10,2)="DA",LEFT(E10,5)="Đồ án",LEFT(E10,5)="Đồán ",LEFT(E10,9)="Sinh hoạt",LEFT(E10,9)="sinh hoạt",LEFT(E10,6)="Cố vấn",LEFT(E10,6)="cố vấn",LEFT(E10,4)="cvht",LEFT(E10,4)="CVHT",LEFT(E10,4)="shcn",LEFT(E10,4)="SHCN"),0,(IF(AND(H10>0,J10>0),IF(J10>60,1.3,IF(J10>35,1.2,1)),0))) -> 0 | L10: =IF(OR(LEFT(E10,2)="ĐA",LEFT(E10,2)="DA",LEFT(E10,5)="Đồ án",LEFT(E10,5)="Đồán "),0,IF(AND(J10>0,I10>0),IF(AND(OR(LEFT(E10,4)="GDQP",LEFT(E10,4)="gdqp",LEFT(E10,19)="Giáo dục quốc phòng"),J10>50),1.3,IF(J10>35,1.2,IF(J10>29,1.1,1))),0)) -> 0 | M10: =ROUND(IF(OR(LEFT(E10,2)="ĐA",LEFT(E10,2)="DA",LEFT(E10,5)="Đồ án",LEFT(E10,5)="Đồán "),J10*0.5,(IF(H10>0,H10*K10,"0")+IF(I10>0,(I10*0.75)*L10,"0"))),1) -> 0 | N10: (11) | O10: (12) | P10: (13) | Q10: (14) | R10: (15) | T10: (16) | V10: (17) | X10: (18) | Y10: (19) | Z10: (20) | AA10: (21) | AB10: (22) | AC10: (23)
A11: 1 | B11: Nguyễn Vân | C11: Giang | D11: 21100094402 | E11: Cấu trúc dữ liệu và giải thuật | F11: 17C1-CTM1 | G11: 1 | H11: 15 | I11: 60 | J11: 37 | K11: =IF(OR(LEFT(E11,2)="ĐA",LEFT(E11,2)="DA",LEFT(E11,5)="Đồ án",LEFT(E11,5)="Đồán ",LEFT(E11,9)="Sinh hoạt",LEFT(E11,9)="sinh hoạt",LEFT(E11,6)="Cố vấn",LEFT(E11,6)="cố vấn",LEFT(E11,4)="cvht",LEFT(E11,4)="CVHT",LEFT(E11,4)="shcn",LEFT(E11,4)="SHCN"),0,(IF(AND(H11>0,J11>0),IF(J11>60,1.3,IF(J11>35,1.2,1)),0))) -> 1.2 | L11: =IF(OR(LEFT(E11,2)="ĐA",LEFT(E11,2)="DA",LEFT(E11,5)="Đồ án",LEFT(E11,5)="Đồán "),0,IF(AND(J11>0,I11>0),IF(AND(OR(LEFT(E11,4)="GDQP",LEFT(E11,4)="gdqp",LEFT(E11,19)="Giáo dục quốc phòng"),J11>50),1.3,IF(J11>35,1.2,IF(J11>29,1.1,1))),0)) -> 1.2 | M11: =ROUND(IF(OR(LEFT(E11,2)="ĐA",LEFT(E11,2)="DA",LEFT(E11,5)="Đồ án",LEFT(E11,5)="Đồán "),J11*0.5,(IF(H11>0,H11*K11,"0")+IF(I11>0,(I11*0.75)*L11,"0"))),1) -> 72 | N11: 157.5 | O11: 0 | P11: =SUM(M11:M22)+N11+O11 -> 547.5 | Q11: 21.4 | R11: 52 | S11: 450 | T11: 450 | U11: 112 | V11: 112 | W11: 56 | X11: 56 | Y11: =ROUND((P11-T11),1) -> 97.5 | Z11: =IF(OR(SUM(V11:V22)="",SUM(Q11:Q22)=""),0,IF(OR(SUM(U11:U22)=320,SUM(V11:V22)>0),ROUND((SUM(Q11:Q22)-SUM(V11:V22)),1),0)) -> -90.6 | AA11: =IF(OR(SUM(X11:X22)="",SUM(R11:R22)=""),0,IF(OR(SUM(W11:W22)=160,SUM(X11:X22)>0),ROUND((SUM(R11:R22)-SUM(X11:X22)),1),0)) -> -4 | AC11: =SUM(Y11:AA22) -> 2.9
D12: 21100094403 | E12: Cấu trúc dữ liệu và giải thuật | F12: 17C1-CTM2 | G12: 1 | H12: 15 | I12: 60 | J12: 33 | K12: =IF(OR(LEFT(E12,2)="ĐA",LEFT(E12,2)="DA",LEFT(E12,5)="Đồ án",LEFT(E12,5)="Đồán ",LEFT(E12,9)="Sinh hoạt",LEFT(E12,9)="sinh hoạt",LEFT(E12,6)="Cố vấn",LEFT(E12,6)="cố vấn",LEFT(E12,4)="cvht",LEFT(E12,4)="CVHT",LEFT(E12,4)="shcn",LEFT(E12,4)="SHCN"),0,(IF(AND(H12>0,J12>0),IF(J12>60,1.3,IF(J12>35,1.2,1)),0))) -> 1 | L12: =IF(OR(LEFT(E12,2)="ĐA",LEFT(E12,2)="DA",LEFT(E12,5)="Đồ án",LEFT(E12,5)="Đồán "),0,IF(AND(J12>0,I12>0),IF(AND(OR(LEFT(E12,4)="GDQP",LEFT(E12,4)="gdqp",LEFT(E12,19)="Giáo dục quốc phòng"),J12>50),1.3,IF(J12>35,1.2,IF(J12>29,1.1,1))),0)) -> 1.1 | M12: =ROUND(IF(OR(LEFT(E12,2)="ĐA",LEFT(E12,2)="DA",LEFT(E12,5)="Đồ án",LEFT(E12,5)="Đồán "),J12*0.5,(IF(H12>0,H12*K12,"0")+IF(I12>0,(I12*0.75)*L12,"0"))),1) -> 64.5
D13: 71400106704 | E13: Lập trình căn bản | F13: 18T4-LTM | G13: 1 | H13: 45 | I13: 30 | J13: 46 | K13: =IF(OR(LEFT(E13,2)="ĐA",LEFT(E13,2)="DA",LEFT(E13,5)="Đồ án",LEFT(E13,5)="Đồán ",LEFT(E13,9)="Sinh hoạt",LEFT(E13,9)="sinh hoạt",LEFT(E13,6)="Cố vấn",LEFT(E13,6)="cố vấn",LEFT(E13,4)="cvht",LEFT(E13,4)="CVHT",LEFT(E13,4)="shcn",LEFT(E13,4)="SHCN"),0,(IF(AND(H13>0,J13>0),IF(J13>60,1.3,IF(J13>35,1.2,1)),0))) -> 1.2 | L13: =IF(OR(LEFT(E13,2)="ĐA",LEFT(E13,2)="DA",LEFT(E13,5)="Đồ án",LEFT(E13,5)="Đồán "),0,IF(AND(J13>0,I13>0),IF(AND(OR(LEFT(E13,4)="GDQP",LEFT(E13,4)="gdqp",LEFT(E13,19)="Giáo dục quốc phòng"),J13>50),1.3,IF(J13>35,1.2,IF(J13>29,1.1,1))),0)) -> 1.2 | M13: =ROUND(IF(OR(LEFT(E13,2)="ĐA",LEFT(E13,2)="DA",LEFT(E13,5)="Đồ án",LEFT(E13,5)="Đồán "),J13*0.5,(IF(H13>0,H13*K13,"0")+IF(I13>0,(I13*0.75)*L13,"0"))),1) -> 81
D14: 71400119002 | E14: Cơ sở dữ liệu | F14: 17T4-LTM | G14: 1 | H14: 15 | I14: 30 | J14: 60 | K14: =IF(OR(LEFT(E14,2)="ĐA",LEFT(E14,2)="DA",LEFT(E14,5)="Đồ án",LEFT(E14,5)="Đồán ",LEFT(E14,9)="Sinh hoạt",LEFT(E14,9)="sinh hoạt",LEFT(E14,6)="Cố vấn",LEFT(E14,6)="cố vấn",LEFT(E14,4)="cvht",LEFT(E14,4)="CVHT",LEFT(E14,4)="shcn",LEFT(E14,4)="SHCN"),0,(IF(AND(H14>0,J14>0),IF(J14>60,1.3,IF(J14>35,1.2,1)),0))) -> 1.2 | L14: =IF(OR(LEFT(E14,2)="ĐA",LEFT(E14,2)="DA",LEFT(E14,5)="Đồ án",LEFT(E14,5)="Đồán "),0,IF(AND(J14>0,I14>0),IF(AND(OR(LEFT(E14,4)="GDQP",LEFT(E14,4)="gdqp",LEFT(E14,19)="Giáo dục quốc phòng"),J14>50),1.3,IF(J14>35,1.2,IF(J14>29,1.1,1))),0)) -> 1.2 | M14: =ROUND(IF(OR(LEFT(E14,2)="ĐA",LEFT(E14,2)="DA",LEFT(E14,5)="Đồ án",LEFT(E14,5)="Đồán "),J14*0.5,(IF(H14>0,H14*K14,"0")+IF(I14>0,(I14*0.75)*L14,"0"))),1) -> 45
D15: 71400119001 | E15: Cơ sở dữ liệu | F15: 17T4-TKW | G15: 1 | H15: 15 | I15: 30 | J15: 27 | K15: =IF(OR(LEFT(E15,2)="ĐA",LEFT(E15,2)="DA",LEFT(E15,5)="Đồ án",LEFT(E15,5)="Đồán ",LEFT(E15,9)="Sinh hoạt",LEFT(E15,9)="sinh hoạt",LEFT(E15,6)="Cố vấn",LEFT(E15,6)="cố vấn",LEFT(E15,4)="cvht",LEFT(E15,4)="CVHT",LEFT(E15,4)="shcn",LEFT(E15,4)="SHCN"),0,(IF(AND(H15>0,J15>0),IF(J15>60,1.3,IF(J15>35,1.2,1)),0))) -> 1 | L15: =IF(OR(LEFT(E15,2)="ĐA",LEFT(E15,2)="DA",LEFT(E15,5)="Đồ án",LEFT(E15,5)="Đồán "),0,IF(AND(J15>0,I15>0),IF(AND(OR(LEFT(E15,4)="GDQP",LEFT(E15,4)="gdqp",LEFT(E15,19)="Giáo dục quốc phòng"),J15>50),1.3,IF(J15>35,1.2,IF(J15>29,1.1,1))),0)) -> 1 | M15: =ROUND(IF(OR(LEFT(E15,2)="ĐA",LEFT(E15,2)="DA",LEFT(E15,5)="Đồ án",LEFT(E15,5)="Đồán "),J15*0.5,(IF(H15>0,H15*K15,"0")+IF(I15>0,(I15*0.75)*L15,"0"))),1) -> 37.5
D16: 21100093903 | E16: Cơ sở dữ liệu | F16: 18C1-LTM1 | G16: 1 | H16: 15 | I16: 30 | J16: 57 | K16: =IF(OR(LEFT(E16,2)="ĐA",LEFT(E16,2)="DA",LEFT(E16,5)="Đồ án",LEFT(E16,5)="Đồán ",LEFT(E16,9)="Sinh hoạt",LEFT(E16,9)="sinh hoạt",LEFT(E16,6)="Cố vấn",LEFT(E16,6)="cố vấn",LEFT(E16,4)="cvht",LEFT(E16,4)="CVHT",LEFT(E16,4)="shcn",LEFT(E16,4)="SHCN"),0,(IF(AND(H16>0,J16>0),IF(J16>60,1.3,IF(J16>35,1.2,1)),0))) -> 1.2 | L16: =IF(OR(LEFT(E16,2)="ĐA",LEFT(E16,2)="DA",LEFT(E16,5)="Đồ án",LEFT(E16,5)="Đồán "),0,IF(AND(J16>0,I16>0),IF(AND(OR(LEFT(E16,4)="GDQP",LEFT(E16,4)="gdqp",LEFT(E16,19)="Giáo dục quốc phòng"),J16>50),1.3,IF(J16>35,1.2,IF(J16>29,1.1,1))),0)) -> 1.2 | M16: =ROUND(IF(OR(LEFT(E16,2)="ĐA",LEFT(E16,2)="DA",LEFT(E16,5)="Đồ án",LEFT(E16,5)="Đồán "),J16*0.5,(IF(H16>0,H16*K16,"0")+IF(I16>0,(I16*0.75)*L16,"0"))),1) -> 45
D17: 21100093901 | E17: Cơ sở dữ liệu | F17: 18C1-CTM1 | G17: 1 | H17: 15 | I17: 30 | J17: 39 | K17: =IF(OR(LEFT(E17,2)="ĐA",LEFT(E17,2)="DA",LEFT(E17,5)="Đồ án",LEFT(E17,5)="Đồán ",LEFT(E17,9)="Sinh hoạt",LEFT(E17,9)="sinh hoạt",LEFT(E17,6)="Cố vấn",LEFT(E17,6)="cố vấn",LEFT(E17,4)="cvht",LEFT(E17,4)="CVHT",LEFT(E17,4)="shcn",LEFT(E17,4)="SHCN"),0,(IF(AND(H17>0,J17>0),IF(J17>60,1.3,IF(J17>35,1.2,1)),0))) -> 1.2 | L17: =IF(OR(LEFT(E17,2)="ĐA",LEFT(E17,2)="DA",LEFT(E17,5)="Đồ án",LEFT(E17,5)="Đồán "),0,IF(AND(J17>0,I17>0),IF(AND(OR(LEFT(E17,4)="GDQP",LEFT(E17,4)="gdqp",LEFT(E17,19)="Giáo dục quốc phòng"),J17>50),1.3,IF(J17>35,1.2,IF(J17>29,1.1,1))),0)) -> 1.2 | M17: =ROUND(IF(OR(LEFT(E17,2)="ĐA",LEFT(E17,2)="DA",LEFT(E17,5)="Đồ án",LEFT(E17,5)="Đồán "),J17*0.5,(IF(H17>0,H17*K17,"0")+IF(I17>0,(I17*0.75)*L17,"0"))),1) -> 45
K18: =IF(OR(LEFT(E18,2)="ĐA",LEFT(E18,2)="DA",LEFT(E18,5)="Đồ án",LEFT(E18,5)="Đồán ",LEFT(E18,9)="Sinh hoạt",LEFT(E18,9)="sinh hoạt",LEFT(E18,6)="Cố vấn",LEFT(E18,6)="cố vấn",LEFT(E18,4)="cvht",LEFT(E18,4)="CVHT",LEFT(E18,4)="shcn",LEFT(E18,4)="SHCN"),0,(IF(AND(H18>0,J18>0),IF(J18>60,1.3,IF(J18>35,1.2,1)),0))) -> 0 | L18: =IF(OR(LEFT(E18,2)="ĐA",LEFT(E18,2)="DA",LEFT(E18,5)="Đồ án",LEFT(E18,5)="Đồán "),0,IF(AND(J18>0,I18>0),IF(AND(OR(LEFT(E18,4)="GDQP",LEFT(E18,4)="gdqp",LEFT(E18,19)="Giáo dục quốc phòng"),J18>50),1.3,IF(J18>35,1.2,IF(J18>29,1.1,1))),0)) -> 0 | M18: =ROUND(IF(OR(LEFT(E18,2)="ĐA",LEFT(E18,2)="DA",LEFT(E18,5)="Đồ án",LEFT(E18,5)="Đồán "),J18*0.5,(IF(H18>0,H18*K18,"0")+IF(I18>0,(I18*0.75)*L18,"0"))),1) -> 0
K19: =IF(OR(LEFT(E19,2)="ĐA",LEFT(E19,2)="DA",LEFT(E19,5)="Đồ án",LEFT(E19,5)="Đồán ",LEFT(E19,9)="Sinh hoạt",LEFT(E19,9)="sinh hoạt",LEFT(E19,6)="Cố vấn",LEFT(E19,6)="cố vấn",LEFT(E19,4)="cvht",LEFT(E19,4)="CVHT",LEFT(E19,4)="shcn",LEFT(E19,4)="SHCN"),0,(IF(AND(H19>0,J19>0),IF(J19>60,1.3,IF(J19>35,1.2,1)),0))) -> 0 | L19: =IF(OR(LEFT(E19,2)="ĐA",LEFT(E19,2)="DA",LEFT(E19,5)="Đồ án",LEFT(E19,5)="Đồán "),0,IF(AND(J19>0,I19>0),IF(AND(OR(LEFT(E19,4)="GDQP",LEFT(E19,4)="gdqp",LEFT(E19,19)="Giáo dục quốc phòng"),J19>50),1.3,IF(J19>35,1.2,IF(J19>29,1.1,1))),0)) -> 0 | M19: =ROUND(IF(OR(LEFT(E19,2)="ĐA",LEFT(E19,2)="DA",LEFT(E19,5)="Đồ án",LEFT(E19,5)="Đồán "),J19*0.5,(IF(H19>0,H19*K19,"0")+IF(I19>0,(I19*0.75)*L19,"0"))),1) -> 0
K20: =IF(OR(LEFT(E20,2)="ĐA",LEFT(E20,2)="DA",LEFT(E20,5)="Đồ án",LEFT(E20,5)="Đồán ",LEFT(E20,9)="Sinh hoạt",LEFT(E20,9)="sinh hoạt",LEFT(E20,6)="Cố vấn",LEFT(E20,6)="cố vấn",LEFT(E20,4)="cvht",LEFT(E20,4)="CVHT",LEFT(E20,4)="shcn",LEFT(E20,4)="SHCN"),0,(IF(AND(H20>0,J20>0),IF(J20>60,1.3,IF(J20>35,1.2,1)),0))) -> 0 | L20: =IF(OR(LEFT(E20,2)="ĐA",LEFT(E20,2)="DA",LEFT(E20,5)="Đồ án",LEFT(E20,5)="Đồán "),0,IF(AND(J20>0,I20>0),IF(AND(OR(LEFT(E20,4)="GDQP",LEFT(E20,4)="gdqp",LEFT(E20,19)="Giáo dục quốc phòng"),J20>50),1.3,IF(J20>35,1.2,IF(J20>29,1.1,1))),0)) -> 0 | M20: =ROUND(IF(OR(LEFT(E20,2)="ĐA",LEFT(E20,2)="DA",LEFT(E20,5)="Đồ án",LEFT(E20,5)="Đồán "),J20*0.5,(IF(H20>0,H20*K20,"0")+IF(I20>0,(I20*0.75)*L20,"0"))),1) -> 0
K21: =IF(OR(LEFT(E21,2)="ĐA",LEFT(E21,2)="DA",LEFT(E21,5)="Đồ án",LEFT(E21,5)="Đồán ",LEFT(E21,9)="Sinh hoạt",LEFT(E21,9)="sinh hoạt",LEFT(E21,6)="Cố vấn",LEFT(E21,6)="cố vấn",LEFT(E21,4)="cvht",LEFT(E21,4)="CVHT",LEFT(E21,4)="shcn",LEFT(E21,4)="SHCN"),0,(IF(AND(H21>0,J21>0),IF(J21>60,1.3,IF(J21>35,1.2,1)),0))) -> 0 | L21: =IF(OR(LEFT(E21,2)="ĐA",LEFT(E21,2)="DA",LEFT(E21,5)="Đồ án",LEFT(E21,5)="Đồán "),0,IF(AND(J21>0,I21>0),IF(AND(OR(LEFT(E21,4)="GDQP",LEFT(E21,4)="gdqp",LEFT(E21,19)="Giáo dục quốc phòng"),J21>50),1.3,IF(J21>35,1.2,IF(J21>29,1.1,1))),0)) -> 0 | M21: =ROUND(IF(OR(LEFT(E21,2)="ĐA",LEFT(E21,2)="DA",LEFT(E21,5)="Đồ án",LEFT(E21,5)="Đồán "),J21*0.5,(IF(H21>0,H21*K21,"0")+IF(I21>0,(I21*0.75)*L21,"0"))),1) -> 0
K22: =IF(OR(LEFT(E22,2)="ĐA",LEFT(E22,2)="DA",LEFT(E22,5)="Đồ án",LEFT(E22,5)="Đồán ",LEFT(E22,9)="Sinh hoạt",LEFT(E22,9)="sinh hoạt",LEFT(E22,6)="Cố vấn",LEFT(E22,6)="cố vấn",LEFT(E22,4)="cvht",LEFT(E22,4)="CVHT",LEFT(E22,4)="shcn",LEFT(E22,4)="SHCN"),0,(IF(AND(H22>0,J22>0),IF(J22>60,1.3,IF(J22>35,1.2,1)),0))) -> 0 | L22: =IF(OR(LEFT(E22,2)="ĐA",LEFT(E22,2)="DA",LEFT(E22,5)="Đồ án",LEFT(E22,5)="Đồán "),0,IF(AND(J22>0,I22>0),IF(AND(OR(LEFT(E22,4)="GDQP",LEFT(E22,4)="gdqp",LEFT(E22,19)="Giáo dục quốc phòng"),J22>50),1.3,IF(J22>35,1.2,IF(J22>29,1.1,1))),0)) -> 0 | M22: =ROUND(IF(OR(LEFT(E22,2)="ĐA",LEFT(E22,2)="DA",LEFT(E22,5)="Đồ án",LEFT(E22,5)="Đồán "),J22*0.5,(IF(H22>0,H22*K22,"0")+IF(I22>0,(I22*0.75)*L22,"0"))),1) -> 0
A23: 2 | B23: Nguyễn | C23: Khoa | K23: =IF(OR(LEFT(E23,2)="ĐA",LEFT(E23,2)="DA",LEFT(E23,5)="Đồ án",LEFT(E23,5)="Đồán ",LEFT(E23,9)="Sinh hoạt",LEFT(E23,9)="sinh hoạt",LEFT(E23,6)="Cố vấn",LEFT(E23,6)="cố vấn",LEFT(E23,4)="cvht",LEFT(E23,4)="CVHT",LEFT(E23,4)="shcn",LEFT(E23,4)="SHCN"),0,(IF(AND(H23>0,J23>0),IF(J23>60,1.3,IF(J23>35,1.2,1)),0))) -> 0 | L23: =IF(OR(LEFT(E23,2)="ĐA",LEFT(E23,2)="DA",LEFT(E23,5)="Đồ án",LEFT(E23,5)="Đồán "),0,IF(AND(J23>0,I23>0),IF(AND(OR(LEFT(E23,4)="GDQP",LEFT(E23,4)="gdqp",LEFT(E23,19)="Giáo dục quốc phòng"),J23>50),1.3,IF(J23>35,1.2,IF(J23>29,1.1,1))),0)) -> 0 | M23: =ROUND(IF(OR(LEFT(E23,2)="ĐA",LEFT(E23,2)="DA",LEFT(E23,5)="Đồ án",LEFT(E23,5)="Đồán "),J23*0.5,(IF(H23>0,H23*K23,"0")+IF(I23>0,(I23*0.75)*L23,"0"))),1) -> 0 | N23: 213.8 | O23: 0 | P23: =SUM(M23:M33)+N23+O23 -> 213.8 | Q23: 0 | R23: 29 | S23: 450 | T23: 450 | U23: 112 | V23: 112 | W23: 56 | X23: 56 | Y23: =ROUND((P23-T23),1) -> -236.2 | Z23: =IF(OR(SUM(V23)="",SUM(Q23)=""),0,IF(OR(SUM(U23)=320,SUM(V23)>0),ROUND((SUM(Q23)-SUM(V23)),1),0)) -> -112 | AA23: =IF(OR(SUM(X23)="",SUM(R23)=""),0,IF(OR(SUM(W23)=160,SUM(X23)>0),ROUND((SUM(R23)-SUM(X23)),1),0)) -> -27 | AC23: =SUM(Y23:AA33) -> -375.2
K24: =IF(OR(LEFT(E24,2)="ĐA",LEFT(E24,2)="DA",LEFT(E24,5)="Đồ án",LEFT(E24,5)="Đồán ",LEFT(E24,9)="Sinh hoạt",LEFT(E24,9)="sinh hoạt",LEFT(E24,6)="Cố vấn",LEFT(E24,6)="cố vấn",LEFT(E24,4)="cvht",LEFT(E24,4)="CVHT",LEFT(E24,4)="shcn",LEFT(E24,4)="SHCN"),0,(IF(AND(H24>0,J24>0),IF(J24>60,1.3,IF(J24>35,1.2,1)),0))) -> 0 | L24: =IF(OR(LEFT(E24,2)="ĐA",LEFT(E24,2)="DA",LEFT(E24,5)="Đồ án",LEFT(E24,5)="Đồán "),0,IF(AND(J24>0,I24>0),IF(AND(OR(LEFT(E24,4)="GDQP",LEFT(E24,4)="gdqp",LEFT(E24,19)="Giáo dục quốc phòng"),J24>50),1.3,IF(J24>35,1.2,IF(J24>29,1.1,1))),0)) -> 0 | M24: =ROUND(IF(OR(LEFT(E24,2)="ĐA",LEFT(E24,2)="DA",LEFT(E24,5)="Đồ án",LEFT(E24,5)="Đồán "),J24*0.5,(IF(H24>0,H24*K24,"0")+IF(I24>0,(I24*0.75)*L24,"0"))),1) -> 0
K25: =IF(OR(LEFT(E25,2)="ĐA",LEFT(E25,2)="DA",LEFT(E25,5)="Đồ án",LEFT(E25,5)="Đồán ",LEFT(E25,9)="Sinh hoạt",LEFT(E25,9)="sinh hoạt",LEFT(E25,6)="Cố vấn",LEFT(E25,6)="cố vấn",LEFT(E25,4)="cvht",LEFT(E25,4)="CVHT",LEFT(E25,4)="shcn",LEFT(E25,4)="SHCN"),0,(IF(AND(H25>0,J25>0),IF(J25>60,1.3,IF(J25>35,1.2,1)),0))) -> 0 | L25: =IF(OR(LEFT(E25,2)="ĐA",LEFT(E25,2)="DA",LEFT(E25,5)="Đồ án",LEFT(E25,5)="Đồán "),0,IF(AND(J25>0,I25>0),IF(AND(OR(LEFT(E25,4)="GDQP",LEFT(E25,4)="gdqp",LEFT(E25,19)="Giáo dục quốc phòng"),J25>50),1.3,IF(J25>35,1.2,IF(J25>29,1.1,1))),0)) -> 0 | M25: =ROUND(IF(OR(LEFT(E25,2)="ĐA",LEFT(E25,2)="DA",LEFT(E25,5)="Đồ án",LEFT(E25,5)="Đồán "),J25*0.5,(IF(H25>0,H25*K25,"0")+IF(I25>0,(I25*0.75)*L25,"0"))),1) -> 0
K26: =IF(OR(LEFT(E26,2)="ĐA",LEFT(E26,2)="DA",LEFT(E26,5)="Đồ án",LEFT(E26,5)="Đồán ",LEFT(E26,9)="Sinh hoạt",LEFT(E26,9)="sinh hoạt",LEFT(E26,6)="Cố vấn",LEFT(E26,6)="cố vấn",LEFT(E26,4)="cvht",LEFT(E26,4)="CVHT",LEFT(E26,4)="shcn",LEFT(E26,4)="SHCN"),0,(IF(AND(H26>0,J26>0),IF(J26>60,1.3,IF(J26>35,1.2,1)),0))) -> 0 | L26: =IF(OR(LEFT(E26,2)="ĐA",LEFT(E26,2)="DA",LEFT(E26,5)="Đồ án",LEFT(E26,5)="Đồán "),0,IF(AND(J26>0,I26>0),IF(AND(OR(LEFT(E26,4)="GDQP",LEFT(E26,4)="gdqp",LEFT(E26,19)="Giáo dục quốc phòng"),J26>50),1.3,IF(J26>35,1.2,IF(J26>29,1.1,1))),0)) -> 0 | M26: =ROUND(IF(OR(LEFT(E26,2)="ĐA",LEFT(E26,2)="DA",LEFT(E26,5)="Đồ án",LEFT(E26,5)="Đồán "),J26*0.5,(IF(H26>0,H26*K26,"0")+IF(I26>0,(I26*0.75)*L26,"0"))),1) -> 0
K27: =IF(OR(LEFT(E27,2)="ĐA",LEFT(E27,2)="DA",LEFT(E27,5)="Đồ án",LEFT(E27,5)="Đồán ",LEFT(E27,9)="Sinh hoạt",LEFT(E27,9)="sinh hoạt",LEFT(E27,6)="Cố vấn",LEFT(E27,6)="cố vấn",LEFT(E27,4)="cvht",LEFT(E27,4)="CVHT",LEFT(E27,4)="shcn",LEFT(E27,4)="SHCN"),0,(IF(AND(H27>0,J27>0),IF(J27>60,1.3,IF(J27>35,1.2,1)),0))) -> 0 | L27: =IF(OR(LEFT(E27,2)="ĐA",LEFT(E27,2)="DA",LEFT(E27,5)="Đồ án",LEFT(E27,5)="Đồán "),0,IF(AND(J27>0,I27>0),IF(AND(OR(LEFT(E27,4)="GDQP",LEFT(E27,4)="gdqp",LEFT(E27,19)="Giáo dục quốc phòng"),J27>50),1.3,IF(J27>35,1.2,IF(J27>29,1.1,1))),0)) -> 0 | M27: =ROUND(IF(OR(LEFT(E27,2)="ĐA",LEFT(E27,2)="DA",LEFT(E27,5)="Đồ án",LEFT(E27,5)="Đồán "),J27*0.5,(IF(H27>0,H27*K27,"0")+IF(I27>0,(I27*0.75)*L27,"0"))),1) -> 0
K28: =IF(OR(LEFT(E28,2)="ĐA",LEFT(E28,2)="DA",LEFT(E28,5)="Đồ án",LEFT(E28,5)="Đồán ",LEFT(E28,9)="Sinh hoạt",LEFT(E28,9)="sinh hoạt",LEFT(E28,6)="Cố vấn",LEFT(E28,6)="cố vấn",LEFT(E28,4)="cvht",LEFT(E28,4)="CVHT",LEFT(E28,4)="shcn",LEFT(E28,4)="SHCN"),0,(IF(AND(H28>0,J28>0),IF(J28>60,1.3,IF(J28>35,1.2,1)),0))) -> 0 | L28: =IF(OR(LEFT(E28,2)="ĐA",LEFT(E28,2)="DA",LEFT(E28,5)="Đồ án",LEFT(E28,5)="Đồán "),0,IF(AND(J28>0,I28>0),IF(AND(OR(LEFT(E28,4)="GDQP",LEFT(E28,4)="gdqp",LEFT(E28,19)="Giáo dục quốc phòng"),J28>50),1.3,IF(J28>35,1.2,IF(J28>29,1.1,1))),0)) -> 0 | M28: =ROUND(IF(OR(LEFT(E28,2)="ĐA",LEFT(E28,2)="DA",LEFT(E28,5)="Đồ án",LEFT(E28,5)="Đồán "),J28*0.5,(IF(H28>0,H28*K28,"0")+IF(I28>0,(I28*0.75)*L28,"0"))),1) -> 0
K29: =IF(OR(LEFT(E29,2)="ĐA",LEFT(E29,2)="DA",LEFT(E29,5)="Đồ án",LEFT(E29,5)="Đồán ",LEFT(E29,9)="Sinh hoạt",LEFT(E29,9)="sinh hoạt",LEFT(E29,6)="Cố vấn",LEFT(E29,6)="cố vấn",LEFT(E29,4)="cvht",LEFT(E29,4)="CVHT",LEFT(E29,4)="shcn",LEFT(E29,4)="SHCN"),0,(IF(AND(H29>0,J29>0),IF(J29>60,1.3,IF(J29>35,1.2,1)),0))) -> 0 | L29: =IF(OR(LEFT(E29,2)="ĐA",LEFT(E29,2)="DA",LEFT(E29,5)="Đồ án",LEFT(E29,5)="Đồán "),0,IF(AND(J29>0,I29>0),IF(AND(OR(LEFT(E29,4)="GDQP",LEFT(E29,4)="gdqp",LEFT(E29,19)="Giáo dục quốc phòng"),J29>50),1.3,IF(J29>35,1.2,IF(J29>29,1.1,1))),0)) -> 0 | M29: =ROUND(IF(OR(LEFT(E29,2)="ĐA",LEFT(E29,2)="DA",LEFT(E29,5)="Đồ án",LEFT(E29,5)="Đồán "),J29*0.5,(IF(H29>0,H29*K29,"0")+IF(I29>0,(I29*0.75)*L29,"0"))),1) -> 0
K30: =IF(OR(LEFT(E30,2)="ĐA",LEFT(E30,2)="DA",LEFT(E30,5)="Đồ án",LEFT(E30,5)="Đồán ",LEFT(E30,9)="Sinh hoạt",LEFT(E30,9)="sinh hoạt",LEFT(E30,6)="Cố vấn",LEFT(E30,6)="cố vấn",LEFT(E30,4)="cvht",LEFT(E30,4)="CVHT",LEFT(E30,4)="shcn",LEFT(E30,4)="SHCN"),0,(IF(AND(H30>0,J30>0),IF(J30>60,1.3,IF(J30>35,1.2,1)),0))) -> 0 | L30: =IF(OR(LEFT(E30,2)="ĐA",LEFT(E30,2)="DA",LEFT(E30,5)="Đồ án",LEFT(E30,5)="Đồán "),0,IF(AND(J30>0,I30>0),IF(AND(OR(LEFT(E30,4)="GDQP",LEFT(E30,4)="gdqp",LEFT(E30,19)="Giáo dục quốc phòng"),J30>50),1.3,IF(J30>35,1.2,IF(J30>29,1.1,1))),0)) -> 0 | M30: =ROUND(IF(OR(LEFT(E30,2)="ĐA",LEFT(E30,2)="DA",LEFT(E30,5)="Đồ án",LEFT(E30,5)="Đồán "),J30*0.5,(IF(H30>0,H30*K30,"0")+IF(I30>0,(I30*0.75)*L30,"0"))),1) -> 0
K31: =IF(OR(LEFT(E31,2)="ĐA",LEFT(E31,2)="DA",LEFT(E31,5)="Đồ án",LEFT(E31,5)="Đồán ",LEFT(E31,9)="Sinh hoạt",LEFT(E31,9)="sinh hoạt",LEFT(E31,6)="Cố vấn",LEFT(E31,6)="cố vấn",LEFT(E31,4)="cvht",LEFT(E31,4)="CVHT",LEFT(E31,4)="shcn",LEFT(E31,4)="SHCN"),0,(IF(AND(H31>0,J31>0),IF(J31>60,1.3,IF(J31>35,1.2,1)),0))) -> 0 | L31: =IF(OR(LEFT(E31,2)="ĐA",LEFT(E31,2)="DA",LEFT(E31,5)="Đồ án",LEFT(E31,5)="Đồán "),0,IF(AND(J31>0,I31>0),IF(AND(OR(LEFT(E31,4)="GDQP",LEFT(E31,4)="gdqp",LEFT(E31,19)="Giáo dục quốc phòng"),J31>50),1.3,IF(J31>35,1.2,IF(J31>29,1.1,1))),0)) -> 0 | M31: =ROUND(IF(OR(LEFT(E31,2)="ĐA",LEFT(E31,2)="DA",LEFT(E31,5)="Đồ án",LEFT(E31,5)="Đồán "),J31*0.5,(IF(H31>0,H31*K31,"0")+IF(I31>0,(I31*0.75)*L31,"0"))),1) -> 0
K32: =IF(OR(LEFT(E32,2)="ĐA",LEFT(E32,2)="DA",LEFT(E32,5)="Đồ án",LEFT(E32,5)="Đồán ",LEFT(E32,9)="Sinh hoạt",LEFT(E32,9)="sinh hoạt",LEFT(E32,6)="Cố vấn",LEFT(E32,6)="cố vấn",LEFT(E32,4)="cvht",LEFT(E32,4)="CVHT",LEFT(E32,4)="shcn",LEFT(E32,4)="SHCN"),0,(IF(AND(H32>0,J32>0),IF(J32>60,1.3,IF(J32>35,1.2,1)),0))) -> 0 | L32: =IF(OR(LEFT(E32,2)="ĐA",LEFT(E32,2)="DA",LEFT(E32,5)="Đồ án",LEFT(E32,5)="Đồán "),0,IF(AND(J32>0,I32>0),IF(AND(OR(LEFT(E32,4)="GDQP",LEFT(E32,4)="gdqp",LEFT(E32,19)="Giáo dục quốc phòng"),J32>50),1.3,IF(J32>35,1.2,IF(J32>29,1.1,1))),0)) -> 0 | M32: =ROUND(IF(OR(LEFT(E32,2)="ĐA",LEFT(E32,2)="DA",LEFT(E32,5)="Đồ án",LEFT(E32,5)="Đồán "),J32*0.5,(IF(H32>0,H32*K32,"0")+IF(I32>0,(I32*0.75)*L32,"0"))),1) -> 0
K33: =IF(OR(LEFT(E33,2)="ĐA",LEFT(E33,2)="DA",LEFT(E33,5)="Đồ án",LEFT(E33,5)="Đồán ",LEFT(E33,9)="Sinh hoạt",LEFT(E33,9)="sinh hoạt",LEFT(E33,6)="Cố vấn",LEFT(E33,6)="cố vấn",LEFT(E33,4)="cvht",LEFT(E33,4)="CVHT",LEFT(E33,4)="shcn",LEFT(E33,4)="SHCN"),0,(IF(AND(H33>0,J33>0),IF(J33>60,1.3,IF(J33>35,1.2,1)),0))) -> 0 | L33: =IF(OR(LEFT(E33,2)="ĐA",LEFT(E33,2)="DA",LEFT(E33,5)="Đồ án",LEFT(E33,5)="Đồán "),0,IF(AND(J33>0,I33>0),IF(AND(OR(LEFT(E33,4)="GDQP",LEFT(E33,4)="gdqp",LEFT(E33,19)="Giáo dục quốc phòng"),J33>50),1.3,IF(J33>35,1.2,IF(J33>29,1.1,1))),0)) -> 0 | M33: =ROUND(IF(OR(LEFT(E33,2)="ĐA",LEFT(E33,2)="DA",LEFT(E33,5)="Đồ án",LEFT(E33,5)="Đồán "),J33*0.5,(IF(H33>0,H33*K33,"0")+IF(I33>0,(I33*0.75)*L33,"0"))),1) -> 0
A34: 3 | B34: Nguyễn Văn | C34: Minh | D34: 21100094401 | E34: Cấu trúc dữ liệu & giải thuật | F34: 17C1-ANM1 | G34: 1 | H34: 15 | I34: 60 | J34: 22 | K34: =IF(OR(LEFT(E34,2)="ĐA",LEFT(E34,2)="DA",LEFT(E34,5)="Đồ án",LEFT(E34,5)="Đồán ",LEFT(E34,9)="Sinh hoạt",LEFT(E34,9)="sinh hoạt",LEFT(E34,6)="Cố vấn",LEFT(E34,6)="cố vấn",LEFT(E34,4)="cvht",LEFT(E34,4)="CVHT",LEFT(E34,4)="shcn",LEFT(E34,4)="SHCN"),0,(IF(AND(H34>0,J34>0),IF(J34>60,1.3,IF(J34>35,1.2,1)),0))) -> 1 | L34: =IF(OR(LEFT(E34,2)="ĐA",LEFT(E34,2)="DA",LEFT(E34,5)="Đồ án",LEFT(E34,5)="Đồán "),0,IF(AND(J34>0,I34>0),IF(AND(OR(LEFT(E34,4)="GDQP",LEFT(E34,4)="gdqp",LEFT(E34,19)="Giáo dục quốc phòng"),J34>50),1.3,IF(J34>35,1.2,IF(J34>29,1.1,1))),0)) -> 1 | M34: =ROUND(IF(OR(LEFT(E34,2)="ĐA",LEFT(E34,2)="DA",LEFT(E34,5)="Đồ án",LEFT(E34,5)="Đồán "),J34*0.5,(IF(H34>0,H34*K34,"0")+IF(I34>0,(I34*0.75)*L34,"0"))),1) -> 60 | N34: 37.5 | O34: 0 | P34: =SUM(M34:M44)+N34+O34 -> 417 | Q34: 0 | R34: 38 | S34: 450 | T34: 450 | U34: 112 | V34: 112 | W34: 56 | X34: 56 | Y34: =ROUND((P34-T34),1) -> -33 | Z34: =IF(OR(SUM(V34:V44)="",SUM(Q34:Q44)=""),0,IF(OR(SUM(U34:U44)=320,SUM(V34:V44)>0),ROUND((SUM(Q34:Q44)-SUM(V34:V44)),1),0)) -> -112 | AA34: =IF(OR(SUM(X34:X44)="",SUM(R34:R44)=""),0,IF(OR(SUM(W34:W44)=160,SUM(X34:X44)>0),ROUND((SUM(R34:R44)-SUM(X34:X44)),1),0)) -> -18 | AC34: =SUM(Y34:AA44) -> -163
D35: 21100094404 | E35: Cấu trúc dữ liệu & giải thuật | F35: 17C1-QTM1 | G35: 1 | H35: 15 | I35: 60 | J35: 53 | K35: =IF(OR(LEFT(E35,2)="ĐA",LEFT(E35,2)="DA",LEFT(E35,5)="Đồ án",LEFT(E35,5)="Đồán ",LEFT(E35,9)="Sinh hoạt",LEFT(E35,9)="sinh hoạt",LEFT(E35,6)="Cố vấn",LEFT(E35,6)="cố vấn",LEFT(E35,4)="cvht",LEFT(E35,4)="CVHT",LEFT(E35,4)="shcn",LEFT(E35,4)="SHCN"),0,(IF(AND(H35>0,J35>0),IF(J35>60,1.3,IF(J35>35,1.2,1)),0))) -> 1.2 | L35: =IF(OR(LEFT(E35,2)="ĐA",LEFT(E35,2)="DA",LEFT(E35,5)="Đồ án",LEFT(E35,5)="Đồán "),0,IF(AND(J35>0,I35>0),IF(AND(OR(LEFT(E35,4)="GDQP",LEFT(E35,4)="gdqp",LEFT(E35,19)="Giáo dục quốc phòng"),J35>50),1.3,IF(J35>35,1.2,IF(J35>29,1.1,1))),0)) -> 1.2 | M35: =ROUND(IF(OR(LEFT(E35,2)="ĐA",LEFT(E35,2)="DA",LEFT(E35,5)="Đồ án",LEFT(E35,5)="Đồán "),J35*0.5,(IF(H35>0,H35*K35,"0")+IF(I35>0,(I35*0.75)*L35,"0"))),1) -> 72
D36: 71400106702 | E36: Kỹ thuật lập trình 1 | F36: 18T4-THU1 | G36: 1 | H36: 15 | I36: 0 | J36: 77 | K36: =IF(OR(LEFT(E36,2)="ĐA",LEFT(E36,2)="DA",LEFT(E36,5)="Đồ án",LEFT(E36,5)="Đồán ",LEFT(E36,9)="Sinh hoạt",LEFT(E36,9)="sinh hoạt",LEFT(E36,6)="Cố vấn",LEFT(E36,6)="cố vấn",LEFT(E36,4)="cvht",LEFT(E36,4)="CVHT",LEFT(E36,4)="shcn",LEFT(E36,4)="SHCN"),0,(IF(AND(H36>0,J36>0),IF(J36>60,1.3,IF(J36>35,1.2,1)),0))) -> 1.3 | L36: =IF(OR(LEFT(E36,2)="ĐA",LEFT(E36,2)="DA",LEFT(E36,5)="Đồ án",LEFT(E36,5)="Đồán "),0,IF(AND(J36>0,I36>0),IF(AND(OR(LEFT(E36,4)="GDQP",LEFT(E36,4)="gdqp",LEFT(E36,19)="Giáo dục quốc phòng"),J36>50),1.3,IF(J36>35,1.2,IF(J36>29,1.1,1))),0)) -> 0 | M36: =ROUND(IF(OR(LEFT(E36,2)="ĐA",LEFT(E36,2)="DA",LEFT(E36,5)="Đồ án",LEFT(E36,5)="Đồán "),J36*0.5,(IF(H36>0,H36*K36,"0")+IF(I36>0,(I36*0.75)*L36,"0"))),1) -> 19.5
D37: 71400106702 | E37: Kỹ thuật lập trình 1 | F37: 18T4-THU1 | G37: 1 | H37: 0 | I37: 60 | J37: 39 | K37: =IF(OR(LEFT(E37,2)="ĐA",LEFT(E37,2)="DA",LEFT(E37,5)="Đồ án",LEFT(E37,5)="Đồán ",LEFT(E37,9)="Sinh hoạt",LEFT(E37,9)="sinh hoạt",LEFT(E37,6)="Cố vấn",LEFT(E37,6)="cố vấn",LEFT(E37,4)="cvht",LEFT(E37,4)="CVHT",LEFT(E37,4)="shcn",LEFT(E37,4)="SHCN"),0,(IF(AND(H37>0,J37>0),IF(J37>60,1.3,IF(J37>35,1.2,1)),0))) -> 0 | L37: =IF(OR(LEFT(E37,2)="ĐA",LEFT(E37,2)="DA",LEFT(E37,5)="Đồ án",LEFT(E37,5)="Đồán "),0,IF(AND(J37>0,I37>0),IF(AND(OR(LEFT(E37,4)="GDQP",LEFT(E37,4)="gdqp",LEFT(E37,19)="Giáo dục quốc phòng"),J37>50),1.3,IF(J37>35,1.2,IF(J37>29,1.1,1))),0)) -> 1.2 | M37: =ROUND(IF(OR(LEFT(E37,2)="ĐA",LEFT(E37,2)="DA",LEFT(E37,5)="Đồ án",LEFT(E37,5)="Đồán "),J37*0.5,(IF(H37>0,H37*K37,"0")+IF(I37>0,(I37*0.75)*L37,"0"))),1) -> 54
D38: 71400106708 | E38: Kỹ thuật lập trình 1 | F38: 18T4-THU2 | G38: 1 | H38: 0 | I38: 60 | J38: 38 | K38: =IF(OR(LEFT(E38,2)="ĐA",LEFT(E38,2)="DA",LEFT(E38,5)="Đồ án",LEFT(E38,5)="Đồán ",LEFT(E38,9)="Sinh hoạt",LEFT(E38,9)="sinh hoạt",LEFT(E38,6)="Cố vấn",LEFT(E38,6)="cố vấn",LEFT(E38,4)="cvht",LEFT(E38,4)="CVHT",LEFT(E38,4)="shcn",LEFT(E38,4)="SHCN"),0,(IF(AND(H38>0,J38>0),IF(J38>60,1.3,IF(J38>35,1.2,1)),0))) -> 0 | L38: =IF(OR(LEFT(E38,2)="ĐA",LEFT(E38,2)="DA",LEFT(E38,5)="Đồ án",LEFT(E38,5)="Đồán "),0,IF(AND(J38>0,I38>0),IF(AND(OR(LEFT(E38,4)="GDQP",LEFT(E38,4)="gdqp",LEFT(E38,19)="Giáo dục quốc phòng"),J38>50),1.3,IF(J38>35,1.2,IF(J38>29,1.1,1))),0)) -> 1.2 | M38: =ROUND(IF(OR(LEFT(E38,2)="ĐA",LEFT(E38,2)="DA",LEFT(E38,5)="Đồ án",LEFT(E38,5)="Đồán "),J38*0.5,(IF(H38>0,H38*K38,"0")+IF(I38>0,(I38*0.75)*L38,"0"))),1) -> 54
