Workbook

Sheet Mau A2
Q1: Mẫu A2
A2: UBND THÀNH PHỐ HỒ CHÍ MINH | K2: CỘNG HÒA XÃ HỘI CHỦ NGHĨA VIỆT NAM
A3: TRƯỜNG CAO ĐẲNG LÝ TỰ TRỌNG THÀNH PHỐ HỒ CHÍ MINH | K3: Độc lập - Tự do - Hạnh phúc
A4: BẢNG TỔNG KẾT KHỐI LƯỢNG CÔNG VIỆC CỦA GIẢNG VIÊN TRONG NĂM HỌC 2017 - 2018
A5: KHOA : CÔNG NGHỆ THÔNG TIN
A7: TT | B7: Họ và Tên | D7: Thực hiện trong năm học | J7: Số tiết chuẩn giảng dạy cả năm còn lại | K7: Số tiết chuẩn "Học tập, bồi dưỡng chuẩn hóa, bồi dưỡng nâng cao, nghiên cứu khoa học" còn lại | L7: Số tiết chuẩn "Thực tập tại doanh nghiệp hoặc cơ quan chuyên môn" còn lại | M7: Số tiết thừa, thiếu giảng dạy | N7: Số tiết thừa, thiếu "Học tập, bồi dưỡng chuẩn hóa, bồi dưỡng nâng cao, nghiên cứu khoa học" | O7: Số tiết thừa, thiếu "Thực tập tại doanh nghiệp hoặc cơ quan chuyên môn" | P7: Tổng số tiết thừa, thiếu năm học 2017-2018 | Q7: Số tiết thiếu năm học 2016-2017 | R7: Tổng số tiết thừa, thiếu (sau khi cộng số tiết thiếu năm học 2016-2017)
D8: Số tiết quy đổi và đã nhân hệ số | E8: Kiêm nhiệm | F8: Số tiết soạn đề, coi thi, chấm thi | G8: Tổng tiết thực hiện | H8: Số tiết "Học tập, bồi dưỡng chuẩn hóa, bồi dưỡng nâng cao, nghiên cứu khoa học" | I8: Số tiết "Thực tập tại doanh nghiệp hoặc cơ quan chuyên môn"
R9: Khối lượng vượt giờ (tính phụ trội) | S9: Khối lượng thỉnh giảng (tiết thỉnh giảng) | T9: Số tiết thiếu năm học 2017-2018
A10: (1) | B10: (2) | D10: (3) | E10: (4) | F10: (5) | G10: (6) | H10: (7) | I10: (8) | J10: (9) | K10: (10) | L10: (11) | M10: (12) | N10: (13) | O10: (14) | Q10: (15) | R10: (16) | S10: (17) | T10: (18)
A11: 1 | B11: =IF('Mau A1'!B11="","",'Mau A1'!B11) -> Nguyễn Vân | C11: =IF('Mau A1'!C11="","",'Mau A1'!C11) -> Giang | D11: =SUM('Mau A1'!M11:M22) -> 390 | E11: =SUM('Mau A1'!N11:N22) -> 157.5 | F11: =SUM('Mau A1'!O11:O22) -> 0 | G11: =SUM('Mau A1'!P11:P22) -> 547.5 | H11: =SUM('Mau A1'!Q11:Q22) -> 21.4 | I11: =SUM('Mau A1'!R11:R22) -> 52 | J11: =SUM('Mau A1'!T11:T22) -> 450 | K11: =SUM('Mau A1'!V11:V22) -> 112 | L11: =SUM('Mau A1'!X11:X22) -> 56 | M11: =SUM('Mau A1'!Y11:Y22) -> 97.5 | N11: =SUM('Mau A1'!Z11:Z22) -> -90.6 | O11: =SUM('Mau A1'!AA11:AA22) -> -4 | P11: =SUM('Mau A1'!AC11:AC22) -> 2.9 | Q11: =SUM('Mau A1'!AB11:AB22) -> 0 | R11: =ROUND(IF(AND(0<M11<200,0<(M11-Q11)<200,N11>=0,O11>=0),M11-Q11,IF(OR(AND(P11>0,P11>200),(P11-Q11)>200),"200",IF(OR(AND(N11<=0,O11=0,P11<200),AND(N11=0,O11<0,P11<200),AND(N11<0,O11<0,P11<200)),P11-Q11, ))),1) -> 2.9 | S11: =ROUND(IF(AND(N11>0,O11>0,M11<=0,R11=0),P11-Q11,IF(AND(P11>0,R11=200),P11-Q11-R11, )),1) -> 0 | T11: =ROUND(IF(SUM(M11:O11)-Q11<0,SUM(M11:O11)-Q11, ),1) -> 0
A12: 2 | B12: =IF('Mau A1'!B23="","",'Mau A1'!B23) -> Nguyễn | C12: =IF('Mau A1'!C23="","",'Mau A1'!C23) -> Khoa | D12: =SUM('Mau A1'!M23:M33) -> 0 | E12: =SUM('Mau A1'!N23:N33) -> 213.8 | F12: =SUM('Mau A1'!O23:O33) -> 0 | G12: =SUM('Mau A1'!P23:P33) -> 213.8 | H12: =SUM('Mau A1'!Q23:Q33) -> 0 | I12: =SUM('Mau A1'!R23:R33) -> 29 | J12: =SUM('Mau A1'!T23:T33) -> 450 | K12: =SUM('Mau A1'!V23:V33) -> 112 | L12: =SUM('Mau A1'!X23:X33) -> 56 | M12: =SUM('Mau A1'!Y23:Y33) -> -236.2 | N12: =SUM('Mau A1'!Z23:Z33) -> -112 | O12: =SUM('Mau A1'!AA23:AA33) -> -27 | P12: =SUM('Mau A1'!AC23:AC33) -> -375.2 | Q12: =SUM('Mau A1'!AB23:AB33) -> 0 | R12: =ROUND(IF(AND(0<M12<200,0<(M12-Q12)<200,N12>=0,O12>=0),M12-Q12,IF(OR(AND(P12>0,P12>200),(P12-Q12)>200),"200",IF(OR(AND(N12<=0,O12=0,P12<200),AND(N12=0,O12<0,P12<200),AND(N12<0,O12<0,P12<200)),P12-Q12, ))),1) -> -375.2 | S12: =ROUND(IF(AND(N12>0,O12>0,M12<=0,R12=0),P12-Q12,IF(AND(P12>0,R12=200),P12-Q12-R12, )),1) -> 0 | T12: =ROUND(IF(SUM(M12:O12)-Q12<0,SUM(M12:O12)-Q12, ),1) -> -375.2
A13: 3 | B13: =IF('Mau A1'!B34="","",'Mau A1'!B34) -> Nguyễn Văn | C13: =IF('Mau A1'!C34="","",'Mau A1'!C34) -> Minh | D13: =SUM('Mau A1'!M34:M44) -> 379.5 | E13: =SUM('Mau A1'!N34:N44) -> 37.5 | F13: =SUM('Mau A1'!O34:O44) -> 0 | G13: =SUM('Mau A1'!P34:P44) -> 417 | H13: =SUM('Mau A1'!Q34:Q44) -> 0 | I13: =SUM('Mau A1'!R34:R44) -> 38 | J13: =SUM('Mau A1'!T34:T44) -> 450 | K13: =SUM('Mau A1'!V34:V44) -> 112 | L13: =SUM('Mau A1'!X34:X44) -> 56 | M13: =SUM('Mau A1'!Y34:Y44) -> -33 | N13: =SUM('Mau A1'!Z34:Z44) -> -112 | O13: =SUM('Mau A1'!AA34:AA44) -> -18 | P13: =SUM('Mau A1'!AC34:AC44) -> -163 | Q13: =SUM('Mau A1'!AB34:AB44) -> 0 | R13: =ROUND(IF(AND(0<M13<200,0<(M13-Q13)<200,N13>=0,O13>=0),M13-Q13,IF(OR(AND(P13>0,P13>200),(P13-Q13)>200),"200",IF(OR(AND(N13<=0,O13=0,P13<200),AND(N13=0,O13<0,P13<200),AND(N13<0,O13<0,P13<200)),P13-Q13, ))),1) -> -163 | S13: =ROUND(IF(AND(N13>0,O13>0,M13<=0,R13=0),P13-Q13,IF(AND(P13>0,R13=200),P13-Q13-R13, )),1) -> 0 | T13: =ROUND(IF(SUM(M13:O13)-Q13<0,SUM(M13:O13)-Q13, ),1) -> -163
A14: 4 | B14: =IF('Mau A1'!B45="","",'Mau A1'!B45) -> Vũ Thị Thái | C14: =IF('Mau A1'!C45="","",'Mau A1'!C45) -> Linh | D14: =SUM('Mau A1'!M45:M63) -> 0 | E14: =SUM('Mau A1'!N45:N63) -> 139.5 | F14: =SUM('Mau A1'!O45:O63) -> 0 | G14: =SUM('Mau A1'!P45:P63) -> 139.5 | H14: =SUM('Mau A1'!Q45:Q63) -> 0 | I14: =SUM('Mau A1'!R45:R63) -> 40 | J14: =SUM('Mau A1'!T45:T63) -> 450 | K14: =SUM('Mau A1'!V45:V63) -> 112 | L14: =SUM('Mau A1'!X45:X63) -> 56 | M14: =SUM('Mau A1'!Y45:Y63) -> -310.5 | N14: =SUM('Mau A1'!Z45:Z63) -> -112 | O14: =SUM('Mau A1'!AA45:AA63) -> -16 | P14: =SUM('Mau A1'!AC45:AC63) -> -438.5 | Q14: =SUM('Mau A1'!AB45:AB63) -> 0 | R14: =ROUND(IF(AND(0<M14<200,0<(M14-Q14)<200,N14>=0,O14>=0),M14-Q14,IF(OR(AND(P14>0,P14>200),(P14-Q14)>200),"200",IF(OR(AND(N14<=0,O14=0,P14<200),AND(N14=0,O14<0,P14<200),AND(N14<0,O14<0,P14<200)),P14-Q14, ))),1) -> -438.5 | S14: =ROUND(IF(AND(N14>0,O14>0,M14<=0,R14=0),P14-Q14,IF(AND(P14>0,R14=200),P14-Q14-R14, )),1) -> 0 | T14: =ROUND(IF(SUM(M14:O14)-Q14<0,SUM(M14:O14)-Q14, ),1) -> -438.5
A15: 5 | B15: =IF('Mau A1'!B64="","",'Mau A1'!B64) -> Nguyễn Văn | C15: =IF('Mau A1'!C64="","",'Mau A1'!C64) -> Danh | D15: =SUM('Mau A1'!M64:M82) -> 0 | E15: =SUM('Mau A1'!N64:N82) -> 67.5 | F15: =SUM('Mau A1'!O64:O82) -> 0 | G15: =SUM('Mau A1'!P64:P82) -> 67.5 | H15: =SUM('Mau A1'!Q64:Q82) -> 0 | I15: =SUM('Mau A1'!R64:R82) -> 39 | J15: =SUM('Mau A1'!T64:T82) -> 450 | K15: =SUM('Mau A1'!V64:V82) -> 112 | L15: =SUM('Mau A1'!X64:X82) -> 56 | M15: =SUM('Mau A1'!Y64:Y82) -> -382.5 | N15: =SUM('Mau A1'!Z64:Z82) -> -112 | O15: =SUM('Mau A1'!AA64:AA82) -> -17 | P15: =SUM('Mau A1'!AC64:AC82) -> -511.5 | Q15: =SUM('Mau A1'!AB64:AB82) -> 0 | R15: =ROUND(IF(AND(0<M15<200,0<(M15-Q15)<200,N15>=0,O15>=0),M15-Q15,IF(OR(AND(P15>0,P15>200),(P15-Q15)>200),"200",IF(OR(AND(N15<=0,O15=0,P15<200),AND(N15=0,O15<0,P15<200),AND(N15<0,O15<0,P15<200)),P15-Q15, ))),1) -> -511.5 | S15: =ROUND(IF(AND(N15>0,O15>0,M15<=0,R15=0),P15-Q15,IF(AND(P15>0,R15=200),P15-Q15-R15, )),1) -> 0 | T15: =ROUND(IF(SUM(M15:O15)-Q15<0,SUM(M15:O15)-Q15, ),1) -> -511.5
A16: 6 | B16: =IF('Mau A1'!B83="","",'Mau A1'!B83) -> Nguyễn Thị | C16: =IF('Mau A1'!C83="","",'Mau A1'!C83) -> Thủy | D16: =SUM('Mau A1'!M83:M98) -> 0 | E16: =SUM('Mau A1'!N83:N98) -> 67.5 | F16: =SUM('Mau A1'!O83:O98) -> 0 | G16: =SUM('Mau A1'!P83:P98) -> 67.5 | H16: =SUM('Mau A1'!Q83:Q98) -> 0 | I16: =SUM('Mau A1'!R83:R98) -> 53 | J16: =SUM('Mau A1'!T83:T98) -> 450 | K16: =SUM('Mau A1'!V83:V98) -> 112 | L16: =SUM('Mau A1'!X83:X98) -> 56 | M16: =SUM('Mau A1'!Y83:Y98) -> -382.5 | N16: =SUM('Mau A1'!Z83:Z98) -> -112 | O16: =SUM('Mau A1'!AA83:AA98) -> -3 | P16: =SUM('Mau A1'!AC83:AC98) -> -497.5 | Q16: =SUM('Mau A1'!AB83:AB98) -> 0 | R16: =ROUND(IF(AND(0<M16<200,0<(M16-Q16)<200,N16>=0,O16>=0),M16-Q16,IF(OR(AND(P16>0,P16>200),(P16-Q16)>200),"200",IF(OR(AND(N16<=0,O16=0,P16<200),AND(N16=0,O16<0,P16<200),AND(N16<0,O16<0,P16<200)),P16-Q16, ))),1) -> -497.5 | S16: =ROUND(IF(AND(N16>0,O16>0,M16<=0,R16=0),P16-Q16,IF(AND(P16>0,R16=200),P16-Q16-R16, )),1) -> 0 | T16: =ROUND(IF(SUM(M16:O16)-Q16<0,SUM(M16:O16)-Q16, ),1) -> -497.5
A17: 7 | B17: =IF('Mau A1'!B99="","",'Mau A1'!B99) -> Nguyễn Thị Thu | C17: =IF('Mau A1'!C99="","",'Mau A1'!C99) -> Hồng | D17: =SUM('Mau A1'!M99:M117) -> 0 | E17: =SUM('Mau A1'!N99:N117) -> 67.5 | F17: =SUM('Mau A1'!O99:O117) -> 0 | G17: =SUM('Mau A1'!P99:P117) -> 67.5 | H17: =SUM('Mau A1'!Q99:Q117) -> 0 | I17: =SUM('Mau A1'!R99:R117) -> 55 | J17: =SUM('Mau A1'!T99:T117) -> 450 | K17: =SUM('Mau A1'!V99:V117) -> 112 | L17: =SUM('Mau A1'!X99:X117) -> 56 | M17: =SUM('Mau A1'!Y99:Y117) -> -382.5 | N17: =SUM('Mau A1'!Z99:Z117) -> -112 | O17: =SUM('Mau A1'!AA99:AA117) -> -1 | P17: =SUM('Mau A1'!AC99:AC117) -> -495.5 | Q17: =SUM('Mau A1'!AB99:AB117) -> 0 | R17: =ROUND(IF(AND(0<M17<200,0<(M17-Q17)<200,N17>=0,O17>=0),M17-Q17,IF(OR(AND(P17>0,P17>200),(P17-Q17)>200),"200",IF(OR(AND(N17<=0,O17=0,P17<200),AND(N17=0,O17<0,P17<200),AND(N17<0,O17<0,P17<200)),P17-Q17, ))),1) -> -495.5 | S17: =ROUND(IF(AND(N17>0,O17>0,M17<=0,R17=0),P17-Q17,IF(AND(P17>0,R17=200),P17-Q17-R17, )),1) -> 0 | T17: =ROUND(IF(SUM(M17:O17)-Q17<0,SUM(M17:O17)-Q17, ),1) -> -495.5
A18: 8 | B18: =IF('Mau A1'!B118="","",'Mau A1'!B118) -> Lê Hồng | C18: =IF('Mau A1'!C118="","",'Mau A1'!C118) -> Thái | D18: =SUM('Mau A1'!M118:M133) -> 0 | E18: =SUM('Mau A1'!N118:N133) -> 89.5 | F18: =SUM('Mau A1'!O118:O133) -> 0 | G18: =SUM('Mau A1'!P118:P133) -> 89.5 | H18: =SUM('Mau A1'!Q118:Q133) -> 0 | I18: =SUM('Mau A1'!R118:R133) -> 36 | J18: =SUM('Mau A1'!T118:T133) -> 267.2 | K18: =SUM('Mau A1'!V118:V133) -> 112 | L18: =SUM('Mau A1'!X118:X133) -> 56 | M18: =SUM('Mau A1'!Y118:Y133) -> -177.7 | N18: =SUM('Mau A1'!Z118:Z133) -> -112 | O18: =SUM('Mau A1'!AA118:AA133) -> -20 | P18: =SUM('Mau A1'!AC118:AC133) -> -309.7 | Q18: =SUM('Mau A1'!AB118:AB133) -> 0 | R18: =ROUND(IF(AND(0<M18<200,0<(M18-Q18)<200,N18>=0,O18>=0),M18-Q18,IF(OR(AND(P18>0,P18>200),(P18-Q18)>200),"200",IF(OR(AND(N18<=0,O18=0,P18<200),AND(N18=0,O18<0,P18<200),AND(N18<0,O18<0,P18<200)),P18-Q18, ))),1) -> -309.7 | S18: =ROUND(IF(AND(N18>0,O18>0,M18<=0,R18=0),P18-Q18,IF(AND(P18>0,R18=200),P18-Q18-R18, )),1) -> 0 | T18: =ROUND(IF(SUM(M18:O18)-Q18<0,SUM(M18:O18)-Q18, ),1) -> -309.7
A19: 9 | B19: =IF('Mau A1'!B134="","",'Mau A1'!B134) -> Nguyễn Thị Khánh | C19: =IF('Mau A1'!C134="","",'Mau A1'!C134) -> Thư | D19: =SUM('Mau A1'!M134:M148) -> 0 | E19: =SUM('Mau A1'!N134:N148) -> 67.5 | F19: =SUM('Mau A1'!O134:O148) -> 0 | G19: =SUM('Mau A1'!P134:P148) -> 67.5 | H19: =SUM('Mau A1'!Q134:Q148) -> 0 | I19: =SUM('Mau A1'!R134:R148) -> 44 | J19: =SUM('Mau A1'!T134:T148) -> 450 | K19: =SUM('Mau A1'!V134:V148) -> 112 | L19: =SUM('Mau A1'!X134:X148) -> 56 | M19: =SUM('Mau A1'!Y134:Y148) -> -382.5 | N19: =SUM('Mau A1'!Z134:Z148) -> -112 | O19: =SUM('Mau A1'!AA134:AA148) -> -12 | P19: =SUM('Mau A1'!AC134:AC148) -> -506.5 | Q19: =SUM('Mau A1'!AB134:AB148) -> 0 | R19: =ROUND(IF(AND(0<M19<200,0<(M19-Q19)<200,N19>=0,O19>=0),M19-Q19,IF(OR(AND(P19>0,P19>200),(P19-Q19)>200),"200",IF(OR(AND(N19<=0,O19=0,P19<200),AND(N19=0,O19<0,P19<200),AND(N19<0,O19<0,P19<200)),P19-Q19, ))),1) -> -506.5 | S19: =ROUND(IF(AND(N19>0,O19>0,M19<=0,R19=0),P19-Q19,IF(AND(P19>0,R19=200),P19-Q19-R19, )),1) -> 0 | T19: =ROUND(IF(SUM(M19:O19)-Q19<0,SUM(M19:O19)-Q19, ),1) -> -506.5
A20: 10 | B20: =IF('Mau A1'!B149="","",'Mau A1'!B149) -> Nguyễn Sanh | C20: Cường | D20: =SUM('Mau A1'!M149:M159) -> 0 | E20: =SUM('Mau A1'!N149:N159) -> 67.5 | F20: =SUM('Mau A1'!O149:O159) -> 0 | G20: =SUM('Mau A1'!P149:P159) -> 67.5 | H20: =SUM('Mau A1'!Q149:Q159) -> 0 | I20: =SUM('Mau A1'!R149:R159) -> 55 | J20: =SUM('Mau A1'!T149:T159) -> 0 | K20: =SUM('Mau A1'!V149:V159) -> 112 | L20: =SUM('Mau A1'!X149:X159) -> 56 | M20: =SUM('Mau A1'!Y149:Y159) -> -382.5 | N20: =SUM('Mau A1'!Z149:Z159) -> -112 | O20: =SUM('Mau A1'!AA149:AA159) -> -1 | P20: =SUM('Mau A1'!AC149:AC159) -> -495.5 | Q20: =SUM('Mau A1'!AB149:AB159) -> 0 | R20: =ROUND(IF(AND(0<M20<200,0<(M20-Q20)<200,N20>=0,O20>=0),M20-Q20,IF(OR(AND(P20>0,P20>200),(P20-Q20)>200),"200",IF(OR(AND(N20<=0,O20=0,P20<200),AND(N20=0,O20<0,P20<200),AND(N20<0,O20<0,P20<200)),P20-Q20, ))),1) -> -495.5 | S20: =ROUND(IF(AND(N20>0,O20>0,M20<=0,R20=0),P20-Q20,IF(AND(P20>0,R20=200),P20-Q20-R20, )),1) -> 0 | T20: =ROUND(IF(SUM(M20:O20)-Q20<0,SUM(M20:O20)-Q20, ),1) -> -495.5
A21: 11 | B21: =IF('Mau A1'!B164="","",'Mau A1'!B164) -> Võ Anh | C21: Trang | D21: =SUM('Mau A1'!M164:M172) -> 0 | E21: =SUM('Mau A1'!N164:N172) -> 67.5 | F21: =SUM('Mau A1'!O164:O172) -> 0 | G21: =SUM('Mau A1'!P164:P172) -> 67.5 | H21: =SUM('Mau A1'!Q164:Q172) -> 0 | I21: =SUM('Mau A1'!R164:R172) -> 56 | J21: =SUM('Mau A1'!T164:T172) -> 0 | K21: =SUM('Mau A1'!V164:V172) -> 112 | L21: =SUM('Mau A1'!X164:X172) -> 56 | M21: =SUM('Mau A1'!Y164:Y172) -> -382.5 | N21: =SUM('Mau A1'!Z164:Z172) -> -112 | O21: =SUM('Mau A1'!AA164:AA172) -> 0 | P21: =SUM('Mau A1'!AC164:AC172) -> -494.5 | Q21: =SUM('Mau A1'!AB164:AB172) -> 0 | R21: =ROUND(IF(AND(0<M21<200,0<(M21-Q21)<200,N21>=0,O21>=0),M21-Q21,IF(OR(AND(P21>0,P21>200),(P21-Q21)>200),"200",IF(OR(AND(N21<=0,O21=0,P21<200),AND(N21=0,O21<0,P21<200),AND(N21<0,O21<0,P21<200)),P21-Q21, ))),1) -> -494.5 | S21: =ROUND(IF(AND(N21>0,O21>0,M21<=0,R21=0),P21-Q21,IF(AND(P21>0,R21=200),P21-Q21-R21, )),1) -> 0 | T21: =ROUND(IF(SUM(M21:O21)-Q21<0,SUM(M21:O21)-Q21, ),1) -> -494.5
A22: 12 | B22: =IF('Mau A1'!B179="","",'Mau A1'!B179) -> Ng Ng Hoàng Ngọc | C22: Quyên | D22: =SUM('Mau A1'!J179:K189) -> 0 | E22: =SUM('Mau A1'!K179:L189) -> 0 | F22: =SUM('Mau A1'!L179:M189) -> 0 | G22: =SUM('Mau A1'!M179:N189) -> 67.5 | H22: =SUM('Mau A1'!N179:O189) -> 67.5 | I22: =SUM('Mau A1'!O179:P189) -> 67.5 | J22: =SUM('Mau A1'!Q179:Q189) -> 0 | K22: =SUM('Mau A1'!S179:S189) -> 0 | L22: =SUM('Mau A1'!U179:U189) -> 0 | M22: =SUM('Mau A1'!V179:V189) -> 112 | N22: =SUM('Mau A1'!Z179:Z189) -> -112 | O22: =SUM('Mau A1'!AA179:AA189) -> -6 | P22: =SUM('Mau A1'!AC179:AC189) -> -500.5 | Q22: =SUM('Mau A1'!AB179:AB189) -> 0 | R22: =ROUND(IF(AND(0<M22<200,0<(M22-Q22)<200,N22>=0,O22>=0),M22-Q22,IF(OR(AND(P22>0,P22>200),(P22-Q22)>200),"200",IF(OR(AND(N22<=0,O22=0,P22<200),AND(N22=0,O22<0,P22<200),AND(N22<0,O22<0,P22<200)),P22-Q22, ))),1) -> -500.5 | S22: =ROUND(IF(AND(N22>0,O22>0,M22<=0,R22=0),P22-Q22,IF(AND(P22>0,R22=200),P22-Q22-R22, )),1) -> 0 | T22: =ROUND(IF(SUM(M22:O22)-Q22<0,SUM(M22:O22)-Q22, ),1) -> -6
A23: 13 | B23: =IF('Mau A1'!B192="","",'Mau A1'!B192) -> Trần Việt | C23: =IF('Mau A1'!C192="","",'Mau A1'!C192) -> Khánh | D23: =SUM('Mau A1'!M192:M203) -> 0 | E23: =SUM('Mau A1'!N192:N203) -> 112.5 | F23: =SUM('Mau A1'!O192:O203) -> 0 | G23: =SUM('Mau A1'!P192:P203) -> 112.5 | H23: =SUM('Mau A1'!Q192:Q203) -> 0 | I23: =SUM('Mau A1'!R192:R203) -> 50 | J23: =SUM('Mau A1'!T192:T203) -> 450 | K23: =SUM('Mau A1'!V192:V203) -> 112 | L23: =SUM('Mau A1'!X192:X203) -> 56 | M23: =SUM('Mau A1'!Y192:Y203) -> -337.5 | N23: =SUM('Mau A1'!Z192:Z203) -> -112 | O23: =SUM('Mau A1'!AA192:AA203) -> -6 | P23: =SUM('Mau A1'!AC192:AC203) -> -455.5 | Q23: =SUM('Mau A1'!AB192:AB203) -> 0 | R23: =ROUND(IF(AND(0<M23<200,0<(M23-Q23)<200,N23>=0,O23>=0),M23-Q23,IF(OR(AND(P23>0,P23>200),(P23-Q23)>200),"200",IF(OR(AND(N23<=0,O23=0,P23<200),AND(N23=0,O23<0,P23<200),AND(N23<0,O23<0,P23<200)),P23-Q23, ))),1) -> -455.5 | S23: =ROUND(IF(AND(N23>0,O23>0,M23<=0,R23=0),P23-Q23,IF(AND(P23>0,R23=200),P23-Q23-R23, )),1) -> 0 | T23: =ROUND(IF(SUM(M23:O23)-Q23<0,SUM(M23:O23)-Q23, ),1) -> -455.5
A24: 14 | B24: =IF('Mau A1'!B204="","",'Mau A1'!B204) -> Đỗ Thị Hải | C24: =IF('Mau A1'!C204="","",'Mau A1'!C204) -> Yến | D24: =SUM('Mau A1'!M204:M215) -> 0 | E24: =SUM('Mau A1'!N204:N215) -> 67.5 | F24: =SUM('Mau A1'!O204:O215) -> 0 | G24: =SUM('Mau A1'!P204:P215) -> 67.5 | H24: =SUM('Mau A1'!Q204:Q215) -> 0 | I24: =SUM('Mau A1'!R204:R215) -> 55 | J24: =SUM('Mau A1'!T204:T215) -> 450 | K24: =SUM('Mau A1'!V204:V215) -> 112 | L24: =SUM('Mau A1'!X204:X215) -> 56 | M24: =SUM('Mau A1'!Y204:Y215) -> -382.5 | N24: =SUM('Mau A1'!Z204:Z215) -> -112 | O24: =SUM('Mau A1'!AA204:AA215) -> -1 | P24: =SUM('Mau A1'!AC204:AC215) -> -495.5 | Q24: =SUM('Mau A1'!AB204:AB215) -> 0 | R24: =ROUND(IF(AND(0<M24<200,0<(M24-Q24)<200,N24>=0,O24>=0),M24-Q24,IF(OR(AND(P24>0,P24>200),(P24-Q24)>200),"200",IF(OR(AND(N24<=0,O24=0,P24<200),AND(N24=0,O24<0,P24<200),AND(N24<0,O24<0,P24<200)),P24-Q24, ))),1) -> -495.5 | S24: =ROUND(IF(AND(N24>0,O24>0,M24<=0,R24=0),P24-Q24,IF(AND(P24>0,R24=200),P24-Q24-R24, )),1) -> 0 | T24: =ROUND(IF(SUM(M24:O24)-Q24<0,SUM(M24:O24)-Q24, ),1) -> -495.5
A25: 15 | B25: =IF('Mau A1'!B216="","",'Mau A1'!B216) -> Trần Vĩnh | C25: =IF('Mau A1'!C216="","",'Mau A1'!C216) -> Xuyên | D25: =SUM('Mau A1'!M216:M228) -> 0 | E25: =SUM('Mau A1'!N216:N228) -> 67.5 | F25: =SUM('Mau A1'!O216:O228) -> 0 | G25: =SUM('Mau A1'!P216:P228) -> 67.5 | H25: =SUM('Mau A1'!Q216:Q228) -> 0 | I25: =SUM('Mau A1'!R216:R228) -> 52 | J25: =SUM('Mau A1'!T216:T228) -> 450 | K25: =SUM('Mau A1'!V216:V228) -> 112 | L25: =SUM('Mau A1'!X216:X228) -> 56 | M25: =SUM('Mau A1'!Y216:Y228) -> -382.5 | N25: =SUM('Mau A1'!Z216:Z228) -> -112 | O25: =SUM('Mau A1'!AA216:AA228) -> -4 | P25: =SUM('Mau A1'!AC216:AC228) -> -498.5 | Q25: =SUM('Mau A1'!AB216:AB228) -> 0 | R25: =ROUND(IF(AND(0<M25<200,0<(M25-Q25)<200,N25>=0,O25>=0),M25-Q25,IF(OR(AND(P25>0,P25>200),(P25-Q25)>200),"200",IF(OR(AND(N25<=0,O25=0,P25<200),AND(N25=0,O25<0,P25<200),AND(N25<0,O25<0,P25<200)),P25-Q25, ))),1) -> -498.5 | S25: =ROUND(IF(AND(N25>0,O25>0,M25<=0,R25=0),P25-Q25,IF(AND(P25>0,R25=200),P25-Q25-R25, )),1) -> 0 | T25: =ROUND(IF(SUM(M25:O25)-Q25<0,SUM(M25:O25)-Q25, ),1) -> -498.5
A26: 16 | B26: =IF('Mau A1'!B229="","",'Mau A1'!B229) -> Nguyễn Cao | C26: =IF('Mau A1'!C229="","",'Mau A1'!C229) -> Phong | D26: =SUM('Mau A1'!M229:M243) -> 0 | E26: =SUM('Mau A1'!N229:N243) -> 89.5 | F26: =SUM('Mau A1'!O229:O243) -> 0 | G26: =SUM('Mau A1'!P229:P243) -> 89.5 | H26: =SUM('Mau A1'!Q229:Q243) -> 0 | I26: =SUM('Mau A1'!R229:R243) -> 35 | J26: =SUM('Mau A1'!T229:T243) -> 450 | K26: =SUM('Mau A1'!V229:V243) -> 112 | L26: =SUM('Mau A1'!X229:X243) -> 56 | M26: =SUM('Mau A1'!Y229:Y243) -> -360.5 | N26: =SUM('Mau A1'!Z229:Z243) -> -112 | O26: =SUM('Mau A1'!AA229:AA243) -> -21 | P26: =SUM('Mau A1'!AC229:AC243) -> -493.5 | Q26: =SUM('Mau A1'!AB229:AB243) -> 0 | R26: =ROUND(IF(AND(0<M26<200,0<(M26-Q26)<200,N26>=0,O26>=0),M26-Q26,IF(OR(AND(P26>0,P26>200),(P26-Q26)>200),"200",IF(OR(AND(N26<=0,O26=0,P26<200),AND(N26=0,O26<0,P26<200),AND(N26<0,O26<0,P26<200)),P26-Q26, ))),1) -> -493.5 | S26: =ROUND(IF(AND(N26>0,O26>0,M26<=0,R26=0),P26-Q26,IF(AND(P26>0,R26=200),P26-Q26-R26, )),1) -> 0 | T26: =ROUND(IF(SUM(M26:O26)-Q26<0,SUM(M26:O26)-Q26, ),1) -> -493.5
A27: 17 | B27: =IF('Mau A1'!B244="","",'Mau A1'!B244) -> Mai Chiếm | C27: =IF('Mau A1'!C244="","",'Mau A1'!C244) -> Tuấn | D27: =SUM('Mau A1'!M244:M255) -> 0 | E27: =SUM('Mau A1'!N244:N255) -> 67.5 | F27: =SUM('Mau A1'!O244:O255) -> 0 | G27: =SUM('Mau A1'!P244:P255) -> 67.5 | H27: =SUM('Mau A1'!Q244:Q255) -> 0 | I27: =SUM('Mau A1'!R244:R255) -> 55 | J27: =SUM('Mau A1'!T244:T255) -> 450 | K27: =SUM('Mau A1'!V244:V255) -> 112 | L27: =SUM('Mau A1'!X244:X255) -> 56 | M27: =SUM('Mau A1'!Y244:Y255) -> -382.5 | N27: =SUM('Mau A1'!Z244:Z255) -> -112 | O27: =SUM('Mau A1'!AA244:AA255) -> -1 | P27: =SUM('Mau A1'!AC244:AC255) -> -495.5 | Q27: =SUM('Mau A1'!AB244:AB255) -> 0 | R27: =ROUND(IF(AND(0<M27<200,0<(M27-Q27)<200,N27>=0,O27>=0),M27-Q27,IF(OR(AND(P27>0,P27>200),(P27-Q27)>200),"200",IF(OR(AND(N27<=0,O27=0,P27<200),AND(N27=0,O27<0,P27<200),AND(N27<0,O27<0,P27<200)),P27-Q27, ))),1) -> -495.5 | S27: =ROUND(IF(AND(N27>0,O27>0,M27<=0,R27=0),P27-Q27,IF(AND(P27>0,R27=200),P27-Q27-R27, )),1) -> 0 | T27: =ROUND(IF(SUM(M27:O27)-Q27<0,SUM(M27:O27)-Q27, ),1) -> -495.5
A28: 18 | B28: =IF('Mau A1'!B256="","",'Mau A1'!B256) -> Lê Quý Hưng | C28: =IF('Mau A1'!C256="","",'Mau A1'!C256) -> Quốc | D28: =SUM('Mau A1'!M256:M278) -> 0 | E28: =SUM('Mau A1'!N256:N278) -> 67.5 | F28: =SUM('Mau A1'!O256:O278) -> 0 | G28: =SUM('Mau A1'!P256:P278) -> 67.5 | H28: =SUM('Mau A1'!Q256:Q278) -> 0 | I28: =SUM('Mau A1'!R256:R278) -> 45 | J28: =SUM('Mau A1'!T256:T278) -> 450 | K28: =SUM('Mau A1'!V256:V278) -> 112 | L28: =SUM('Mau A1'!X256:X278) -> 56 | M28: =SUM('Mau A1'!Y256:Y278) -> -382.5 | N28: =SUM('Mau A1'!Z256:Z278) -> -112 | O28: =SUM('Mau A1'!AA256:AA278) -> -11 | P28: =SUM('Mau A1'!AC256:AC278) -> -505.5 | Q28: =SUM('Mau A1'!AB256:AB278) -> 0 | R28: =ROUND(IF(AND(0<M28<200,0<(M28-Q28)<200,N28>=0,O28>=0),M28-Q28,IF(OR(AND(P28>0,P28>200),(P28-Q28)>200),"200",IF(OR(AND(N28<=0,O28=0,P28<200),AND(N28=0,O28<0,P28<200),AND(N28<0,O28<0,P28<200)),P28-Q28, ))),1) -> -505.5 | S28: =ROUND(IF(AND(N28>0,O28>0,M28<=0,R28=0),P28-Q28,IF(AND(P28>0,R28=200),P28-Q28-R28, )),1) -> 0 | T28: =ROUND(IF(SUM(M28:O28)-Q28<0,SUM(M28:O28)-Q28, ),1) -> -505.5
A29: 19 | B29: =IF('Mau A1'!B279="","",'Mau A1'!B279) -> Nguyễn Văn | C29: =IF('Mau A1'!C279="","",'Mau A1'!C279) -> Đôn | D29: =SUM('Mau A1'!M279:M293) -> 0 | E29: =SUM('Mau A1'!N279:N293) -> 112.5 | F29: =SUM('Mau A1'!O279:O293) -> 0 | G29: =SUM('Mau A1'!P279:P293) -> 112.5 | H29: =SUM('Mau A1'!Q279:Q293) -> 42.9 | I29: =SUM('Mau A1'!R279:R293) -> 56 | J29: =SUM('Mau A1'!T279:T293) -> 450 | K29: =SUM('Mau A1'!V279:V293) -> 112 | L29: =SUM('Mau A1'!X279:X293) -> 56 | M29: =SUM('Mau A1'!Y279:Y293) -> -337.5 | N29: =SUM('Mau A1'!Z279:Z293) -> -69.1 | O29: =SUM('Mau A1'!AA279:AA293) -> 0 | P29: =SUM('Mau A1'!AC279:AC293) -> -406.6 | Q29: =SUM('Mau A1'!AB279:AB293) -> 0 | R29: =ROUND(IF(AND(0<M29<200,0<(M29-Q29)<200,N29>=0,O29>=0),M29-Q29,IF(OR(AND(P29>0,P29>200),(P29-Q29)>200),"200",IF(OR(AND(N29<=0,O29=0,P29<200),AND(N29=0,O29<0,P29<200),AND(N29<0,O29<0,P29<200)),P29-Q29, ))),1) -> -406.6 | S29: =ROUND(IF(AND(N29>0,O29>0,M29<=0,R29=0),P29-Q29,IF(AND(P29>0,R29=200),P29-Q29-R29, )),1) -> 0 | T29: =ROUND(IF(SUM(M29:O29)-Q29<0,SUM(M29:O29)-Q29, ),1) -> -406.6
A30: 20 | B30: =IF('Mau A1'!B294="","",'Mau A1'!B294) -> Bùi Văn | C30: =IF('Mau A1'!C294="","",'Mau A1'!C294) -> Dũng | D30: =SUM('Mau A1'!M294:M314) -> 0 | E30: =SUM('Mau A1'!N294:N314) -> 67.5 | F30: =SUM('Mau A1'!O294:O314) -> 0 | G30: =SUM('Mau A1'!P294:P314) -> 67.5 | H30: =SUM('Mau A1'!Q294:Q314) -> 0 | I30: =SUM('Mau A1'!R294:R314) -> 56 | J30: =SUM('Mau A1'!T294:T314) -> 450 | K30: =SUM('Mau A1'!V294:V314) -> 112 | L30: =SUM('Mau A1'!X294:X314) -> 56 | M30: =SUM('Mau A1'!Y294:Y314) -> -382.5 | N30: =SUM('Mau A1'!Z294:Z314) -> -112 | O30: =SUM('Mau A1'!AA294:AA314) -> 0 | P30: =SUM('Mau A1'!AC294:AC314) -> -494.5 | Q30: =SUM('Mau A1'!AB294:AB314) -> 0 | R30: =ROUND(IF(AND(0<M30<200,0<(M30-Q30)<200,N30>=0,O30>=0),M30-Q30,IF(OR(AND(P30>0,P30>200),(P30-Q30)>200),"200",IF(OR(AND(N30<=0,O30=0,P30<200),AND(N30=0,O30<0,P30<200),AND(N30<0,O30<0,P30<200)),P30-Q30, ))),1) -> -494.5 | S30: =ROUND(IF(AND(N30>0,O30>0,M30<=0,R30=0),P30-Q30,IF(AND(P30>0,R30=200),P30-Q30-R30, )),1) -> 0 | T30: =ROUND(IF(SUM(M30:O30)-Q30<0,SUM(M30:O30)-Q30, ),1) -> -494.5
A31: 21 | B31: =IF('Mau A1'!B315="","",'Mau A1'!B315) -> Đậng Ngọc | C31: =IF('Mau A1'!C315="","",'Mau A1'!C315) -> Đoàn | D31: =SUM('Mau A1'!M315:M344) -> 0 | E31: =SUM('Mau A1'!N315:N344) -> 67.5 | F31: =SUM('Mau A1'!O315:O344) -> 0 | G31: =SUM('Mau A1'!P315:P344) -> 67.5 | H31: =SUM('Mau A1'!Q315:Q344) -> 0 | I31: =SUM('Mau A1'!R315:R344) -> 56 | J31: =SUM('Mau A1'!T315:T344) -> 450 | K31: =SUM('Mau A1'!V315:V344) -> 112 | L31: =SUM('Mau A1'!X315:X344) -> 56 | M31: =SUM('Mau A1'!Y315:Y344) -> -382.5 | N31: =SUM('Mau A1'!Z315:Z344) -> -112 | O31: =SUM('Mau A1'!AA315:AA344) -> 0 | P31: =SUM('Mau A1'!AC315:AC344) -> -494.5 | Q31: =SUM('Mau A1'!AB315:AB344) -> 0 | R31: =ROUND(IF(AND(0<M31<200,0<(M31-Q31)<200,N31>=0,O31>=0),M31-Q31,IF(OR(AND(P31>0,P31>200),(P31-Q31)>200),"200",IF(OR(AND(N31<=0,O31=0,P31<200),AND(N31=0,O31<0,P31<200),AND(N31<0,O31<0,P31<200)),P31-Q31, ))),1) -> -494.5 | S31: =ROUND(IF(AND(N31>0,O31>0,M31<=0,R31=0),P31-Q31,IF(AND(P31>0,R31=200),P31-Q31-R31, )),1) -> 0 | T31: =ROUND(IF(SUM(M31:O31)-Q31<0,SUM(M31:O31)-Q31, ),1) -> -494.5
A32: 22 | B32: =IF('Mau A1'!B345="","",'Mau A1'!B345) -> Lê Tất | C32: =IF('Mau A1'!C345="","",'Mau A1'!C345) -> Đạt | D32: =SUM('Mau A1'!M345:M361) -> 0 | E32: =SUM('Mau A1'!N345:N361) -> 67.5 | F32: =SUM('Mau A1'!O345:O361) -> 0 | G32: =SUM('Mau A1'!P345:P361) -> 67.5 | H32: =SUM('Mau A1'!Q345:Q361) -> 0 | I32: =SUM('Mau A1'!R345:R361) -> 41 | J32: =SUM('Mau A1'!T345:T361) -> 450 | K32: =SUM('Mau A1'!V345:V361) -> 112 | L32: =SUM('Mau A1'!X345:X361) -> 56 | M32: =SUM('Mau A1'!Y345:Y361) -> -382.5 | N32: =SUM('Mau A1'!Z345:Z361) -> -112 | O32: =SUM('Mau A1'!AA345:AA361) -> -15 | P32: =SUM('Mau A1'!AC345:AC361) -> -509.5 | Q32: =SUM('Mau A1'!AB345:AB361) -> 0 | R32: =ROUND(IF(AND(0<M32<200,0<(M32-Q32)<200,N32>=0,O32>=0),M32-Q32,IF(OR(AND(P32>0,P32>200),(P32-Q32)>200),"200",IF(OR(AND(N32<=0,O32=0,P32<200),AND(N32=0,O32<0,P32<200),AND(N32<0,O32<0,P32<200)),P32-Q32, ))),1) -> -509.5 | S32: =ROUND(IF(AND(N32>0,O32>0,M32<=0,R32=0),P32-Q32,IF(AND(P32>0,R32=200),P32-Q32-R32, )),1) -> 0 | T32: =ROUND(IF(SUM(M32:O32)-Q32<0,SUM(M32:O32)-Q32, ),1) -> -509.5
A33: 23 | B33: =IF('Mau A1'!B362="","",'Mau A1'!B362) -> Dương Ngọc | C33: =IF('Mau A1'!C362="","",'Mau A1'!C362) -> Vọng | D33: =SUM('Mau A1'!M362:M379) -> 0 | E33: =SUM('Mau A1'!N362:N379) -> 67.5 | F33: =SUM('Mau A1'!O362:O379) -> 0 | G33: =SUM('Mau A1'!P362:P379) -> 67.5 | H33: =SUM('Mau A1'!Q362:Q379) -> 0 | I33: =SUM('Mau A1'!R362:R379) -> 21 | J33: =SUM('Mau A1'!T362:T379) -> 450 | K33: =SUM('Mau A1'!V362:V379) -> 112 | L33: =SUM('Mau A1'!X362:X379) -> 56 | M33: =SUM('Mau A1'!Y362:Y379) -> -382.5 | N33: =SUM('Mau A1'!Z362:Z379) -> -112 | O33: =SUM('Mau A1'!AA362:AA379) -> -35 | P33: =SUM('Mau A1'!AC362:AC379) -> -529.5 | Q33: =SUM('Mau A1'!AB362:AB379) -> 0 | R33: =ROUND(IF(AND(0<M33<200,0<(M33-Q33)<200,N33>=0,O33>=0),M33-Q33,IF(OR(AND(P33>0,P33>200),(P33-Q33)>200),"200",IF(OR(AND(N33<=0,O33=0,P33<200),AND(N33=0,O33<0,P33<200),AND(N33<0,O33<0,P33<200)),P33-Q33, ))),1) -> -529.5 | S33: =ROUND(IF(AND(N33>0,O33>0,M33<=0,R33=0),P33-Q33,IF(AND(P33>0,R33=200),P33-Q33-R33, )),1) -> 0 | T33: =ROUND(IF(SUM(M33:O33)-Q33<0,SUM(M33:O33)-Q33, ),1) -> -529.5
A34: 24 | B34: =IF('Mau A1'!B380="","",'Mau A1'!B380) -> Lê Phi | C34: =IF('Mau A1'!C380="","",'Mau A1'!C380) -> Trường | D34: =SUM('Mau A1'!M380:M408) -> 0 | E34: =SUM('Mau A1'!N380:N408) -> 67.5 | F34: =SUM('Mau A1'!O380:O408) -> 0 | G34: =SUM('Mau A1'!P380:P408) -> 67.5 | H34: =SUM('Mau A1'!Q380:Q408) -> 0 | I34: =SUM('Mau A1'!R380:R408) -> 56 | J34: =SUM('Mau A1'!T380:T408) -> 450 | K34: =SUM('Mau A1'!V380:V408) -> 112 | L34: =SUM('Mau A1'!X380:X408) -> 56 | M34: =SUM('Mau A1'!Y380:Y408) -> -382.5 | N34: =SUM('Mau A1'!Z380:Z408) -> -112 | O34: =SUM('Mau A1'!AA380:AA408) -> 0 | P34: =SUM('Mau A1'!AC380:AC408) -> -494.5 | Q34: =SUM('Mau A1'!AB380:AB408) -> 0 | R34: =ROUND(IF(AND(0<M34<200,0<(M34-Q34)<200,N34>=0,O34>=0),M34-Q34,IF(OR(AND(P34>0,P34>200),(P34-Q34)>200),"200",IF(OR(AND(N34<=0,O34=0,P34<200),AND(N34=0,O34<0,P34<200),AND(N34<0,O34<0,P34<200)),P34-Q34, ))),1) -> -494.5 | S34: =ROUND(IF(AND(N34>0,O34>0,M34<=0,R34=0),P34-Q34,IF(AND(P34>0,R34=200),P34-Q34-R34, )),1) -> 0 | T34: =ROUND(IF(SUM(M34:O34)-Q34<0,SUM(M34:O34)-Q34, ),1) -> -494.5
A35: 25 | B35: =IF('Mau A1'!B409="","",'Mau A1'!B409) -> Nguyễn Ngọc | C35: =IF('Mau A1'!C409="","",'Mau A1'!C409) -> Tuyên | D35: =SUM('Mau A1'!M409:M438) -> 0 | E35: =SUM('Mau A1'!N409:N438) -> 67.5 | F35: =SUM('Mau A1'!O409:O438) -> 0 | G35: =SUM('Mau A1'!P409:P438) -> 67.5 | H35: =SUM('Mau A1'!Q409:Q438) -> 0 | I35: =SUM('Mau A1'!R409:R438) -> 56 | J35: =SUM('Mau A1'!T409:T438) -> 450 | K35: =SUM('Mau A1'!V409:V438) -> 112 | L35: =SUM('Mau A1'!X409:X438) -> 56 | M35: =SUM('Mau A1'!Y409:Y438) -> -382.5 | N35: =SUM('Mau A1'!Z409:Z438) -> -112 | O35: =SUM('Mau A1'!AA409:AA438) -> 0 | P35: =SUM('Mau A1'!AC409:AC438) -> -494.5 | Q35: =SUM('Mau A1'!AB409:AB438) -> 0 | R35: =ROUND(IF(AND(0<M35<200,0<(M35-Q35)<200,N35>=0,O35>=0),M35-Q35,IF(OR(AND(P35>0,P35>200),(P35-Q35)>200),"200",IF(OR(AND(N35<=0,O35=0,P35<200),AND(N35=0,O35<0,P35<200),AND(N35<0,O35<0,P35<200)),P35-Q35, ))),1) -> -494.5 | S35: =ROUND(IF(AND(N35>0,O35>0,M35<=0,R35=0),P35-Q35,IF(AND(P35>0,R35=200),P35-Q35-R35, )),1) -> 0 | T35: =ROUND(IF(SUM(M35:O35)-Q35<0,SUM(M35:O35)-Q35, ),1) -> -494.5
A36: 26 | B36: =IF('Mau A1'!B439="","",'Mau A1'!B439) -> Nguyễn Duy | C36: =IF('Mau A1'!C439="","",'Mau A1'!C439) -> Đạt | D36: =SUM('Mau A1'!M439:M468) -> 0 | E36: =SUM('Mau A1'!N439:N468) -> 33.75 | F36: =SUM('Mau A1'!O439:O468) -> 32.4 | G36: =SUM('Mau A1'!P439:P468) -> 66.15 | H36: =SUM('Mau A1'!Q439:Q468) -> 140.4 | I36: =SUM('Mau A1'!R439:R468) -> 0 | J36: =SUM('Mau A1'!T439:T468) -> 255.7 | K36: =SUM('Mau A1'!V439:V468) -> 112 | L36: =SUM('Mau A1'!X439:X468) -> 56 | M36: =SUM('Mau A1'!Y439:Y468) -> -189.6 | N36: =SUM('Mau A1'!Z439:Z468) -> 0 | O36: =SUM('Mau A1'!AA439:AA468) -> -56 | P36: =SUM('Mau A1'!AC439:AC468) -> -245.6 | Q36: =SUM('Mau A1'!AB439:AB468) -> 0 | R36: =ROUND(IF(AND(0<M36<200,0<(M36-Q36)<200,N36>=0,O36>=0),M36-Q36,IF(OR(AND(P36>0,P36>200),(P36-Q36)>200),"200",IF(OR(AND(N36<=0,O36=0,P36<200),AND(N36=0,O36<0,P36<200),AND(N36<0,O36<0,P36<200)),P36-Q36, ))),1) -> -245.6 | S36: =ROUND(IF(AND(N36>0,O36>0,M36<=0,R36=0),P36-Q36,IF(AND(P36>0,R36=200),P36-Q36-R36, )),1) -> 0 | T36: =ROUND(IF(SUM(M36:O36)-Q36<0,SUM(M36:O36)-Q36, ),1) -> -245.6
A37: 27 | B37: =IF('Mau A1'!B469="","",'Mau A1'!B469) | C37: =IF('Mau A1'!C469="","",'Mau A1'!C469) | D37: =SUM('Mau A1'!M469:M498) -> 0 | E37: =SUM('Mau A1'!N469:N498) -> 0 | F37: =SUM('Mau A1'!O469:O498) -> 0 | G37: =SUM('Mau A1'!P469:P498) -> 0 | H37: =SUM('Mau A1'!Q469:Q498) -> 0 | I37: =SUM('Mau A1'!R469:R498) -> 0 | J37: =SUM('Mau A1'!T469:T498) -> 0 | K37: =SUM('Mau A1'!V469:V498) -> 0 | L37: =SUM('Mau A1'!X469:X498) -> 0 | M37: =SUM('Mau A1'!Y469:Y498) -> 0 | N37: =SUM('Mau A1'!Z469:Z498) -> 0 | O37: =SUM('Mau A1'!AA469:AA498) -> 0 | P37: =SUM('Mau A1'!AC469:AC498) -> 0 | Q37: =SUM('Mau A1'!AB469:AB498) -> 0 | R37: =ROUND(IF(AND(0<M37<200,0<(M37-Q37)<200,N37>=0,O37>=0),M37-Q37,IF(OR(AND(P37>0,P37>200),(P37-Q37)>200),"200",IF(OR(AND(N37<=0,O37=0,P37<200),AND(N37=0,O37<0,P37<200),AND(N37<0,O37<0,P37<200)),P37-Q37, ))),1) -> 0 | S37: =ROUND(IF(AND(N37>0,O37>0,M37<=0,R37=0),P37-Q37,IF(AND(P37>0,R37=200),P37-Q37-R37, )),1) -> 0 | T37: =ROUND(IF(SUM(M37:O37)-Q37<0,SUM(M37:O37)-Q37, ),1) -> 0
A38: 28 | B38: =IF('Mau A1'!B499="","",'Mau A1'!B499) | C38: =IF('Mau A1'!C499="","",'Mau A1'!C499) | D38: =SUM('Mau A1'!M499:M528) -> 0 | E38: =SUM('Mau A1'!N499:N528) -> 0 | F38: =SUM('Mau A1'!O499:O528) -> 0 | G38: =SUM('Mau A1'!P499:P528) -> 0 | H38: =SUM('Mau A1'!Q499:Q528) -> 0 | I38: =SUM('Mau A1'!R499:R528) -> 0 | J38: =SUM('Mau A1'!T499:T528) -> 0 | K38: =SUM('Mau A1'!V499:V528) -> 0 | L38: =SUM('Mau A1'!X499:X528) -> 0 | M38: =SUM('Mau A1'!Y499:Y528) -> 0 | N38: =SUM('Mau A1'!Z499:Z528) -> 0 | O38: =SUM('Mau A1'!AA499:AA528) -> 0 | P38: =SUM('Mau A1'!AC499:AC528) -> 0 | Q38: =SUM('Mau A1'!AB499:AB528) -> 0 | R38: =ROUND(IF(AND(0<M38<200,0<(M38-Q38)<200,N38>=0,O38>=0),M38-Q38,IF(OR(AND(P38>0,P38>200),(P38-Q38)>200),"200",IF(OR(AND(N38<=0,O38=0,P38<200),AND(N38=0,O38<0,P38<200),AND(N38<0,O38<0,P38<200)),P38-Q38, ))),1) -> 0 | S38: =ROUND(IF(AND(N38>0,O38>0,M38<=0,R38=0),P38-Q38,IF(AND(P38>0,R38=200),P38-Q38-R38, )),1) -> 0 | T38: =ROUND(IF(SUM(M38:O38)-Q38<0,SUM(M38:O38)-Q38, ),1) -> 0
A39: 29 | B39: =IF('Mau A1'!B529="","",'Mau A1'!B529) | C39: =IF('Mau A1'!C529="","",'Mau A1'!C529) | D39: =SUM('Mau A1'!M529:M558) -> 0 | E39: =SUM('Mau A1'!N529:N558) -> 0 | F39: =SUM('Mau A1'!O529:O558) -> 0 | G39: =SUM('Mau A1'!P529:P558) -> 0 | H39: =SUM('Mau A1'!Q529:Q558) -> 0 | I39: =SUM('Mau A1'!R529:R558) -> 0 | J39: =SUM('Mau A1'!T529:T558) -> 0 | K39: =SUM('Mau A1'!V529:V558) -> 0 | L39: =SUM('Mau A1'!X529:X558) -> 0 | M39: =SUM('Mau A1'!Y529:Y558) -> 0 | N39: =SUM('Mau A1'!Z529:Z558) -> 0 | O39: =SUM('Mau A1'!AA529:AA558) -> 0 | P39: =SUM('Mau A1'!AC529:AC558) -> 0 | Q39: =SUM('Mau A1'!AB529:AB558) -> 0 | R39: =ROUND(IF(AND(0<M39<200,0<(M39-Q39)<200,N39>=0,O39>=0),M39-Q39,IF(OR(AND(P39>0,P39>200),(P39-Q39)>200),"200",IF(OR(AND(N39<=0,O39=0,P39<200),AND(N39=0,O39<0,P39<200),AND(N39<0,O39<0,P39<200)),P39-Q39, ))),1) -> 0 | S39: =ROUND(IF(AND(N39>0,O39>0,M39<=0,R39=0),P39-Q39,IF(AND(P39>0,R39=200),P39-Q39-R39, )),1) -> 0 | T39: =ROUND(IF(SUM(M39:O39)-Q39<0,SUM(M39:O39)-Q39, ),1) -> 0
A40: 30 | B40: =IF('Mau A1'!B559="","",'Mau A1'!B559) | C40: =IF('Mau A1'!C559="","",'Mau A1'!C559) | D40: =SUM('Mau A1'!M559:M588) -> 0 | E40: =SUM('Mau A1'!N559:N588) -> 0 | F40: =SUM('Mau A1'!O559:O588) -> 0 | G40: =SUM('Mau A1'!P559:P588) -> 0 | H40: =SUM('Mau A1'!Q559:Q588) -> 0 | I40: =SUM('Mau A1'!R559:R588) -> 0 | J40: =SUM('Mau A1'!T559:T588) -> 0 | K40: =SUM('Mau A1'!V559:V588) -> 0 | L40: =SUM('Mau A1'!X559:X588) -> 0 | M40: =SUM('Mau A1'!Y559:Y588) -> 0 | N40: =SUM('Mau A1'!Z559:Z588) -> 0 | O40: =SUM('Mau A1'!AA559:AA588) -> 0 | P40: =SUM('Mau A1'!AC559:AC588) -> 0 | Q40: =SUM('Mau A1'!AB559:AB588) -> 0 | R40: =ROUND(IF(AND(0<M40<200,0<(M40-Q40)<200,N40>=0,O40>=0),M40-Q40,IF(OR(AND(P40>0,P40>200),(P40-Q40)>200),"200",IF(OR(AND(N40<=0,O40=0,P40<200),AND(N40=0,O40<0,P40<200),AND(N40<0,O40<0,P40<200)),P40-Q40, ))),1) -> 0 | S40: =ROUND(IF(AND(N40>0,O40>0,M40<=0,R40=0),P40-Q40,IF(AND(P40>0,R40=200),P40-Q40-R40, )),1) -> 0 | T40: =ROUND(IF(SUM(M40:O40)-Q40<0,SUM(M40:O40)-Q40, ),1) -> 0
A41: 31 | B41: =IF('Mau A1'!B589="","",'Mau A1'!B589) | C41: =IF('Mau A1'!C589="","",'Mau A1'!C589) | D41: =SUM('Mau A1'!M589:M618) -> 0 | E41: =SUM('Mau A1'!N589:N618) -> 0 | F41: =SUM('Mau A1'!O589:O618) -> 0 | G41: =SUM('Mau A1'!P589:P618) -> 0 | H41: =SUM('Mau A1'!Q589:Q618) -> 0 | I41: =SUM('Mau A1'!R589:R618) -> 0 | J41: =SUM('Mau A1'!T589:T618) -> 0 | K41: =SUM('Mau A1'!V589:V618) -> 0 | L41: =SUM('Mau A1'!X589:X618) -> 0 | M41: =SUM('Mau A1'!Y589:Y618) -> 0 | N41: =SUM('Mau A1'!Z589:Z618) -> 0 | O41: =SUM('Mau A1'!AA589:AA618) -> 0 | P41: =SUM('Mau A1'!AC589:AC618) -> 0 | Q41: =SUM('Mau A1'!AB589:AB618) -> 0 | R41: =ROUND(IF(AND(0<M41<200,0<(M41-Q41)<200,N41>=0,O41>=0),M41-Q41,IF(OR(AND(P41>0,P41>200),(P41-Q41)>200),"200",IF(OR(AND(N41<=0,O41=0,P41<200),AND(N41=0,O41<0,P41<200),AND(N41<0,O41<0,P41<200)),P41-Q41, ))),1) -> 0 | S41: =ROUND(IF(AND(N41>0,O41>0,M41<=0,R41=0),P41-Q41,IF(AND(P41>0,R41=200),P41-Q41-R41, )),1) -> 0 | T41: =ROUND(IF(SUM(M41:O41)-Q41<0,SUM(M41:O41)-Q41, ),1) -> 0
A42: 32 | B42: =IF('Mau A1'!B619="","",'Mau A1'!B619) | C42: =IF('Mau A1'!C619="","",'Mau A1'!C619) | D42: =SUM('Mau A1'!M619:M648) -> 0 | E42: =SUM('Mau A1'!N619:N648) -> 0 | F42: =SUM('Mau A1'!O619:O648) -> 0 | G42: =SUM('Mau A1'!P619:P648) -> 0 | H42: =SUM('Mau A1'!Q619:Q648) -> 0 | I42: =SUM('Mau A1'!R619:R648) -> 0 | J42: =SUM('Mau A1'!T619:T648) -> 0 | K42: =SUM('Mau A1'!V619:V648) -> 0 | L42: =SUM('Mau A1'!X619:X648) -> 0 | M42: =SUM('Mau A1'!Y619:Y648) -> 0 | N42: =SUM('Mau A1'!Z619:Z648) -> 0 | O42: =SUM('Mau A1'!AA619:AA648) -> 0 | P42: =SUM('Mau A1'!AC619:AC648) -> 0 | Q42: =SUM('Mau A1'!AB619:AB648) -> 0 | R42: =ROUND(IF(AND(0<M42<200,0<(M42-Q42)<200,N42>=0,O42>=0),M42-Q42,IF(OR(AND(P42>0,P42>200),(P42-Q42)>200),"200",IF(OR(AND(N42<=0,O42=0,P42<200),AND(N42=0,O42<0,P42<200),AND(N42<0,O42<0,P42<200)),P42-Q42, ))),1) -> 0 | S42: =ROUND(IF(AND(N42>0,O42>0,M42<=0,R42=0),P42-Q42,IF(AND(P42>0,R42=200),P42-Q42-R42, )),1) -> 0 | T42: =ROUND(IF(SUM(M42:O42)-Q42<0,SUM(M42:O42)-Q42, ),1) -> 0
A43: 33 | B43: =IF('Mau A1'!B649="","",'Mau A1'!B649) | C43: =IF('Mau A1'!C649="","",'Mau A1'!C649) | D43: =SUM('Mau A1'!M649:M678) -> 0 | E43: =SUM('Mau A1'!N649:N678) -> 0 | F43: =SUM('Mau A1'!O649:O678) -> 0 | G43: =SUM('Mau A1'!P649:P678) -> 0 | H43: =SUM('Mau A1'!Q649:Q678) -> 0 | I43: =SUM('Mau A1'!R649:R678) -> 0 | J43: =SUM('Mau A1'!T649:T678) -> 0 | K43: =SUM('Mau A1'!V649:V678) -> 0 | L43: =SUM('Mau A1'!X649:X678) -> 0 | M43: =SUM('Mau A1'!Y649:Y678) -> 0 | N43: =SUM('Mau A1'!Z649:Z678) -> 0 | O43: =SUM('Mau A1'!AA649:AA678) -> 0 | P43: =SUM('Mau A1'!AC649:AC678) -> 0 | Q43: =SUM('Mau A1'!AB649:AB678) -> 0 | R43: =ROUND(IF(AND(0<M43<200,0<(M43-Q43)<200,N43>=0,O43>=0),M43-Q43,IF(OR(AND(P43>0,P43>200),(P43-Q43)>200),"200",IF(OR(AND(N43<=0,O43=0,P43<200),AND(N43=0,O43<0,P43<200),AND(N43<0,O43<0,P43<200)),P43-Q43, ))),1) -> 0 | S43: =ROUND(IF(AND(N43>0,O43>0,M43<=0,R43=0),P43-Q43,IF(AND(P43>0,R43=200),P43-Q43-R43, )),1) -> 0 | T43: =ROUND(IF(SUM(M43:O43)-Q43<0,SUM(M43:O43)-Q43, ),1) -> 0
A44: 34 | B44: =IF('Mau A1'!B679="","",'Mau A1'!B679) | C44: =IF('Mau A1'!C679="","",'Mau A1'!C679) | D44: =SUM('Mau A1'!M679:M708) -> 0 | E44: =SUM('Mau A1'!N679:N708) -> 0 | F44: =SUM('Mau A1'!O679:O708) -> 0 | G44: =SUM('Mau A1'!P679:P708) -> 0 | H44: =SUM('Mau A1'!Q679:Q708) -> 0 | I44: =SUM('Mau A1'!R679:R708) -> 0 | J44: =SUM('Mau A1'!T679:T708) -> 0 | K44: =SUM('Mau A1'!V679:V708) -> 0 | L44: =SUM('Mau A1'!X679:X708) -> 0 | M44: =SUM('Mau A1'!Y679:Y708) -> 0 | N44: =SUM('Mau A1'!Z679:Z708) -> 0 | O44: =SUM('Mau A1'!AA679:AA708) -> 0 | P44: =SUM('Mau A1'!AC679:AC708) -> 0 | Q44: =SUM('Mau A1'!AB679:AB708) -> 0 | R44: =ROUND(IF(AND(0<M44<200,0<(M44-Q44)<200,N44>=0,O44>=0),M44-Q44,IF(OR(AND(P44>0,P44>200),(P44-Q44)>200),"200",IF(OR(AND(N44<=0,O44=0,P44<200),AND(N44=0,O44<0,P44<200),AND(N44<0,O44<0,P44<200)),P44-Q44, ))),1) -> 0 | S44: =ROUND(IF(AND(N44>0,O44>0,M44<=0,R44=0),P44-Q44,IF(AND(P44>0,R44=200),P44-Q44-R44, )),1) -> 0 | T44: =ROUND(IF(SUM(M44:O44)-Q44<0,SUM(M44:O44)-Q44, ),1) -> 0
A45: 35 | B45: =IF('Mau A1'!B709="","",'Mau A1'!B709) | C45: =IF('Mau A1'!C709="","",'Mau A1'!C709) | D45: =SUM('Mau A1'!M709:M738) -> 0 | E45: =SUM('Mau A1'!N709:N738) -> 0 | F45: =SUM('Mau A1'!O709:O738) -> 0 | G45: =SUM('Mau A1'!P709:P738) -> 0 | H45: =SUM('Mau A1'!Q709:Q738) -> 0 | I45: =SUM('Mau A1'!R709:R738) -> 0 | J45: =SUM('Mau A1'!T709:T738) -> 0 | K45: =SUM('Mau A1'!V709:V738) -> 0 | L45: =SUM('Mau A1'!X709:X738) -> 0 | M45: =SUM('Mau A1'!Y709:Y738) -> 0 | N45: =SUM('Mau A1'!Z709:Z738) -> 0 | O45: =SUM('Mau A1'!AA709:AA738) -> 0 | P45: =SUM('Mau A1'!AC709:AC738) -> 0 | Q45: =SUM('Mau A1'!AB709:AB738) -> 0 | R45: =ROUND(IF(AND(0<M45<200,0<(M45-Q45)<200,N45>=0,O45>=0),M45-Q45,IF(OR(AND(P45>0,P45>200),(P45-Q45)>200),"200",IF(OR(AND(N45<=0,O45=0,P45<200),AND(N45=0,O45<0,P45<200),AND(N45<0,O45<0,P45<200)),P45-Q45, ))),1) -> 0 | S45: =ROUND(IF(AND(N45>0,O45>0,M45<=0,R45=0),P45-Q45,IF(AND(P45>0,R45=200),P45-Q45-R45, )),1) -> 0 | T45: =ROUND(IF(SUM(M45:O45)-Q45<0,SUM(M45:O45)-Q45, ),1) -> 0
A46: 36 | B46: =IF('Mau A1'!B739="","",'Mau A1'!B739) | C46: =IF('Mau A1'!C739="","",'Mau A1'!C739) | D46: =SUM('Mau A1'!M739:M768) -> 0 | E46: =SUM('Mau A1'!N739:N768) -> 0 | F46: =SUM('Mau A1'!O739:O768) -> 0 | G46: =SUM('Mau A1'!P739:P768) -> 0 | H46: =SUM('Mau A1'!Q739:Q768) -> 0 | I46: =SUM('Mau A1'!R739:R768) -> 0 | J46: =SUM('Mau A1'!T739:T768) -> 0 | K46: =SUM('Mau A1'!V739:V768) -> 0 | L46: =SUM('Mau A1'!X739:X768) -> 0 | M46: =SUM('Mau A1'!Y739:Y768) -> 0 | N46: =SUM('Mau A1'!Z739:Z768) -> 0 | O46: =SUM('Mau A1'!AA739:AA768) -> 0 | P46: =SUM('Mau A1'!AC739:AC768) -> 0 | Q46: =SUM('Mau A1'!AB739:AB768) -> 0 | R46: =ROUND(IF(AND(0<M46<200,0<(M46-Q46)<200,N46>=0,O46>=0),M46-Q46,IF(OR(AND(P46>0,P46>200),(P46-Q46)>200),"200",IF(OR(AND(N46<=0,O46=0,P46<200),AND(N46=0,O46<0,P46<200),AND(N46<0,O46<0,P46<200)),P46-Q46, ))),1) -> 0 | S46: =ROUND(IF(AND(N46>0,O46>0,M46<=0,R46=0),P46-Q46,IF(AND(P46>0,R46=200),P46-Q46-R46, )),1) -> 0 | T46: =ROUND(IF(SUM(M46:O46)-Q46<0,SUM(M46:O46)-Q46, ),1) -> 0
A47: 37 | B47: =IF('Mau A1'!B769="","",'Mau A1'!B769) | C47: =IF('Mau A1'!C769="","",'Mau A1'!C769) | D47: =SUM('Mau A1'!M769:M798) -> 0 | E47: =SUM('Mau A1'!N769:N798) -> 0 | F47: =SUM('Mau A1'!O769:O798) -> 0 | G47: =SUM('Mau A1'!P769:P798) -> 0 | H47: =SUM('Mau A1'!Q769:Q798) -> 0 | I47: =SUM('Mau A1'!R769:R798) -> 0 | J47: =SUM('Mau A1'!T769:T798) -> 0 | K47: =SUM('Mau A1'!V769:V798) -> 0 | L47: =SUM('Mau A1'!X769:X798) -> 0 | M47: =SUM('Mau A1'!Y769:Y798) -> 0 | N47: =SUM('Mau A1'!Z769:Z798) -> 0 | O47: =SUM('Mau A1'!AA769:AA798) -> 0 | P47: =SUM('Mau A1'!AC769:AC798) -> 0 | Q47: =SUM('Mau A1'!AB769:AB798) -> 0 | R47: =ROUND(IF(AND(0<M47<200,0<(M47-Q47)<200,N47>=0,O47>=0),M47-Q47,IF(OR(AND(P47>0,P47>200),(P47-Q47)>200),"200",IF(OR(AND(N47<=0,O47=0,P47<200),AND(N47=0,O47<0,P47<200),AND(N47<0,O47<0,P47<200)),P47-Q47, ))),1) -> 0 | S47: =ROUND(IF(AND(N47>0,O47>0,M47<=0,R47=0),P47-Q47,IF(AND(P47>0,R47=200),P47-Q47-R47, )),1) -> 0 | T47: =ROUND(IF(SUM(M47:O47)-Q47<0,SUM(M47:O47)-Q47, ),1) -> 0
A48: 38 | B48: =IF('Mau A1'!B799="","",'Mau A1'!B799) | C48: =IF('Mau A1'!C799="","",'Mau A1'!C799) | D48: =SUM('Mau A1'!M799:M828) -> 0 | E48: =SUM('Mau A1'!N799:N828) -> 0 | F48: =SUM('Mau A1'!O799:O828) -> 0 | G48: =SUM('Mau A1'!P799:P828) -> 0 | H48: =SUM('Mau A1'!Q799:Q828) -> 0 | I48: =SUM('Mau A1'!R799:R828) -> 0 | J48: =SUM('Mau A1'!T799:T828) -> 0 | K48: =SUM('Mau A1'!V799:V828) -> 0 | L48: =SUM('Mau A1'!X799:X828) -> 0 | M48: =SUM('Mau A1'!Y799:Y828) -> 0 | N48: =SUM('Mau A1'!Z799:Z828) -> 0 | O48: =SUM('Mau A1'!AA799:AA828) -> 0 | P48: =SUM('Mau A1'!AC799:AC828) -> 0 | Q48: =SUM('Mau A1'!AB799:AB828) -> 0 | R48: =ROUND(IF(AND(0<M48<200,0<(M48-Q48)<200,N48>=0,O48>=0),M48-Q48,IF(OR(AND(P48>0,P48>200),(P48-Q48)>200),"200",IF(OR(AND(N48<=0,O48=0,P48<200),AND(N48=0,O48<0,P48<200),AND(N48<0,O48<0,P48<200)),P48-Q48, ))),1) -> 0 | S48: =ROUND(IF(AND(N48>0,O48>0,M48<=0,R48=0),P48-Q48,IF(AND(P48>0,R48=200),P48-Q48-R48, )),1) -> 0 | T48: =ROUND(IF(SUM(M48:O48)-Q48<0,SUM(M48:O48)-Q48, ),1) -> 0
A49: 39 | B49: =IF('Mau A1'!B829="","",'Mau A1'!B829) | C49: =IF('Mau A1'!C829="","",'Mau A1'!C829) | D49: =SUM('Mau A1'!M829:M858) -> 0 | E49: =SUM('Mau A1'!N829:N858) -> 0 | F49: =SUM('Mau A1'!O829:O858) -> 0 | G49: =SUM('Mau A1'!P829:P858) -> 0 | H49: =SUM('Mau A1'!Q829:Q858) -> 0 | I49: =SUM('Mau A1'!R829:R858) -> 0 | J49: =SUM('Mau A1'!T829:T858) -> 0 | K49: =SUM('Mau A1'!V829:V858) -> 0 | L49: =SUM('Mau A1'!X829:X858) -> 0 | M49: =SUM('Mau A1'!Y829:Y858) -> 0 | N49: =SUM('Mau A1'!Z829:Z858) -> 0 | O49: =SUM('Mau A1'!AA829:AA858) -> 0 | P49: =SUM('Mau A1'!AC829:AC858) -> 0 | Q49: =SUM('Mau A1'!AB829:AB858) -> 0 | R49: =ROUND(IF(AND(0<M49<200,0<(M49-Q49)<200,N49>=0,O49>=0),M49-Q49,IF(OR(AND(P49>0,P49>200),(P49-Q49)>200),"200",IF(OR(AND(N49<=0,O49=0,P49<200),AND(N49=0,O49<0,P49<200),AND(N49<0,O49<0,P49<200)),P49-Q49, ))),1) -> 0 | S49: =ROUND(IF(AND(N49>0,O49>0,M49<=0,R49=0),P49-Q49,IF(AND(P49>0,R49=200),P49-Q49-R49, )),1) -> 0 | T49: =ROUND(IF(SUM(M49:O49)-Q49<0,SUM(M49:O49)-Q49, ),1) -> 0
A50: 40 | B50: =IF('Mau A1'!B859="","",'Mau A1'!B859) | C50: =IF('Mau A1'!C859="","",'Mau A1'!C859) | D50: =SUM('Mau A1'!M859:M888) -> 0 | E50: =SUM('Mau A1'!N859:N888) -> 0 | F50: =SUM('Mau A1'!O859:O888) -> 0 | G50: =SUM('Mau A1'!P859:P888) -> 0 | H50: =SUM('Mau A1'!Q859:Q888) -> 0 | I50: =SUM('Mau A1'!R859:R888) -> 0 | J50: =SUM('Mau A1'!T859:T888) -> 0 | K50: =SUM('Mau A1'!V859:V888) -> 0 | L50: =SUM('Mau A1'!X859:X888) -> 0 | M50: =SUM('Mau A1'!Y859:Y888) -> 0 | N50: =SUM('Mau A1'!Z859:Z888) -> 0 | O50: =SUM('Mau A1'!AA859:AA888) -> 0 | P50: =SUM('Mau A1'!AC859:AC888) -> 0 | Q50: =SUM('Mau A1'!AB859:AB888) -> 0 | R50: =ROUND(IF(AND(0<M50<200,0<(M50-Q50)<200,N50>=0,O50>=0),M50-Q50,IF(OR(AND(P50>0,P50>200),(P50-Q50)>200),"200",IF(OR(AND(N50<=0,O50=0,P50<200),AND(N50=0,O50<0,P50<200),AND(N50<0,O50<0,P50<200)),P50-Q50, ))),1) -> 0 | S50: =ROUND(IF(AND(N50>0,O50>0,M50<=0,R50=0),P50-Q50,IF(AND(P50>0,R50=200),P50-Q50-R50, )),1) -> 0 | T50: =ROUND(IF(SUM(M50:O50)-Q50<0,SUM(M50:O50)-Q50, ),1) -> 0
A51: 41 | B51: =IF('Mau A1'!B889="","",'Mau A1'!B889) | C51: =IF('Mau A1'!C889="","",'Mau A1'!C889) | D51: =SUM('Mau A1'!M889:M918) -> 0 | E51: =SUM('Mau A1'!N889:N918) -> 0 | F51: =SUM('Mau A1'!O889:O918) -> 0 | G51: =SUM('Mau A1'!P889:P918) -> 0 | H51: =SUM('Mau A1'!Q889:Q918) -> 0 | I51: =SUM('Mau A1'!R889:R918) -> 0 | J51: =SUM('Mau A1'!T889:T918) -> 0 | K51: =SUM('Mau A1'!V889:V918) -> 0 | L51: =SUM('Mau A1'!X889:X918) -> 0 | M51: =SUM('Mau A1'!Y889:Y918) -> 0 | N51: =SUM('Mau A1'!Z889:Z918) -> 0 | O51: =SUM('Mau A1'!AA889:AA918) -> 0 | P51: =SUM('Mau A1'!AC889:AC918) -> 0 | Q51: =SUM('Mau A1'!AB889:AB918) -> 0 | R51: =ROUND(IF(AND(0<M51<200,0<(M51-Q51)<200,N51>=0,O51>=0),M51-Q51,IF(OR(AND(P51>0,P51>200),(P51-Q51)>200),"200",IF(OR(AND(N51<=0,O51=0,P51<200),AND(N51=0,O51<0,P51<200),AND(N51<0,O51<0,P51<200)),P51-Q51, ))),1) -> 0 | S51: =ROUND(IF(AND(N51>0,O51>0,M51<=0,R51=0),P51-Q51,IF(AND(P51>0,R51=200),P51-Q51-R51, )),1) -> 0 | T51: =ROUND(IF(SUM(M51:O51)-Q51<0,SUM(M51:O51)-Q51, ),1) -> 0
A52: 42 | B52: =IF('Mau A1'!B919="","",'Mau A1'!B919) | C52: =IF('Mau A1'!C919="","",'Mau A1'!C919) | D52: =SUM('Mau A1'!M919:M948) -> 0 | E52: =SUM('Mau A1'!N919:N948) -> 0 | F52: =SUM('Mau A1'!O919:O948) -> 0 | G52: =SUM('Mau A1'!P919:P948) -> 0 | H52: =SUM('Mau A1'!Q919:Q948) -> 0 | I52: =SUM('Mau A1'!R919:R948) -> 0 | J52: =SUM('Mau A1'!T919:T948) -> 0 | K52: =SUM('Mau A1'!V919:V948) -> 0 | L52: =SUM('Mau A1'!X919:X948) -> 0 | M52: =SUM('Mau A1'!Y919:Y948) -> 0 | N52: =SUM('Mau A1'!Z919:Z948) -> 0 | O52: =SUM('Mau A1'!AA919:AA948) -> 0 | P52: =SUM('Mau A1'!AC919:AC948) -> 0 | Q52: =SUM('Mau A1'!AB919:AB948) -> 0 | R52: =ROUND(IF(AND(0<M52<200,0<(M52-Q52)<200,N52>=0,O52>=0),M52-Q52,IF(OR(AND(P52>0,P52>200),(P52-Q52)>200),"200",IF(OR(AND(N52<=0,O52=0,P52<200),AND(N52=0,O52<0,P52<200),AND(N52<0,O52<0,P52<200)),P52-Q52, ))),1) -> 0 | S52: =ROUND(IF(AND(N52>0,O52>0,M52<=0,R52=0),P52-Q52,IF(AND(P52>0,R52=200),P52-Q52-R52, )),1) -> 0 | T52: =ROUND(IF(SUM(M52:O52)-Q52<0,SUM(M52:O52)-Q52, ),1) -> 0
A53: 43 | B53: =IF('Mau A1'!B949="","",'Mau A1'!B949) | C53: =IF('Mau A1'!C949="","",'Mau A1'!C949) | D53: =SUM('Mau A1'!M949:M978) -> 0 | E53: =SUM('Mau A1'!N949:N978) -> 0 | F53: =SUM('Mau A1'!O949:O978) -> 0 | G53: =SUM('Mau A1'!P949:P978) -> 0 | H53: =SUM('Mau A1'!Q949:Q978) -> 0 | I53: =SUM('Mau A1'!R949:R978) -> 0 | J53: =SUM('Mau A1'!T949:T978) -> 0 | K53: =SUM('Mau A1'!V949:V978) -> 0 | L53: =SUM('Mau A1'!X949:X978) -> 0 | M53: =SUM('Mau A1'!Y949:Y978) -> 0 | N53: =SUM('Mau A1'!Z949:Z978) -> 0 | O53: =SUM('Mau A1'!AA949:AA978) -> 0 | P53: =SUM('Mau A1'!AC949:AC978) -> 0 | Q53: =SUM('Mau A1'!AB949:AB978) -> 0 | R53: =ROUND(IF(AND(0<M53<200,0<(M53-Q53)<200,N53>=0,O53>=0),M53-Q53,IF(OR(AND(P53>0,P53>200),(P53-Q53)>200),"200",IF(OR(AND(N53<=0,O53=0,P53<200),AND(N53=0,O53<0,P53<200),AND(N53<0,O53<0,P53<200)),P53-Q53, ))),1) -> 0 | S53: =ROUND(IF(AND(N53>0,O53>0,M53<=0,R53=0),P53-Q53,IF(AND(P53>0,R53=200),P53-Q53-R53, )),1) -> 0 | T53: =ROUND(IF(SUM(M53:O53)-Q53<0,SUM(M53:O53)-Q53, ),1) -> 0
A54: 44 | B54: =IF('Mau A1'!B979="","",'Mau A1'!B979) | C54: =IF('Mau A1'!C979="","",'Mau A1'!C979) | D54: =SUM('Mau A1'!M979:M1008) -> 0 | E54: =SUM('Mau A1'!N979:N1008) -> 0 | F54: =SUM('Mau A1'!O979:O1008) -> 0 | G54: =SUM('Mau A1'!P979:P1008) -> 0 | H54: =SUM('Mau A1'!Q979:Q1008) -> 0 | I54: =SUM('Mau A1'!R979:R1008) -> 0 | J54: =SUM('Mau A1'!T979:T1008) -> 0 | K54: =SUM('Mau A1'!V979:V1008) -> 0 | L54: =SUM('Mau A1'!X979:X1008) -> 0 | M54: =SUM('Mau A1'!Y979:Y1008) -> 0 | N54: =SUM('Mau A1'!Z979:Z1008) -> 0 | O54: =SUM('Mau A1'!AA979:AA1008) -> 0 | P54: =SUM('Mau A1'!AC979:AC1008) -> 0 | Q54: =SUM('Mau A1'!AB979:AB1008) -> 0 | R54: =ROUND(IF(AND(0<M54<200,0<(M54-Q54)<200,N54>=0,O54>=0),M54-Q54,IF(OR(AND(P54>0,P54>200),(P54-Q54)>200),"200",IF(OR(AND(N54<=0,O54=0,P54<200),AND(N54=0,O54<0,P54<200),AND(N54<0,O54<0,P54<200)),P54-Q54, ))),1) -> 0 | S54: =ROUND(IF(AND(N54>0,O54>0,M54<=0,R54=0),P54-Q54,IF(AND(P54>0,R54=200),P54-Q54-R54, )),1) -> 0 | T54: =ROUND(IF(SUM(M54:O54)-Q54<0,SUM(M54:O54)-Q54, ),1) -> 0
A55: 45 | B55: =IF('Mau A1'!B1009="","",'Mau A1'!B1009) | C55: =IF('Mau A1'!C1009="","",'Mau A1'!C1009) | D55: =SUM('Mau A1'!M1009:M1038) -> 0 | E55: =SUM('Mau A1'!N1009:N1038) -> 0 | F55: =SUM('Mau A1'!O1009:O1038) -> 0 | G55: =SUM('Mau A1'!P1009:P1038) -> 0 | H55: =SUM('Mau A1'!Q1009:Q1038) -> 0 | I55: =SUM('Mau A1'!R1009:R1038) -> 0 | J55: =SUM('Mau A1'!T1009:T1038) -> 0 | K55: =SUM('Mau A1'!V1009:V1038) -> 0 | L55: =SUM('Mau A1'!X1009:X1038) -> 0 | M55: =SUM('Mau A1'!Y1009:Y1038) -> 0 | N55: =SUM('Mau A1'!Z1009:Z1038) -> 0 | O55: =SUM('Mau A1'!AA1009:AA1038) -> 0 | P55: =SUM('Mau A1'!AC1009:AC1038) -> 0 | Q55: =SUM('Mau A1'!AB1009:AB1038) -> 0 | R55: =ROUND(IF(AND(0<M55<200,0<(M55-Q55)<200,N55>=0,O55>=0),M55-Q55,IF(OR(AND(P55>0,P55>200),(P55-Q55)>200),"200",IF(OR(AND(N55<=0,O55=0,P55<200),AND(N55=0,O55<0,P55<200),AND(N55<0,O55<0,P55<200)),P55-Q55, ))),1) -> 0 | S55: =ROUND(IF(AND(N55>0,O55>0,M55<=0,R55=0),P55-Q55,IF(AND(P55>0,R55=200),P55-Q55-R55, )),1) -> 0 | T55: =ROUND(IF(SUM(M55:O55)-Q55<0,SUM(M55:O55)-Q55, ),1) -> 0
A56: 46 | B56: =IF('Mau A1'!B1039="","",'Mau A1'!B1039) | C56: =IF('Mau A1'!C1039="","",'Mau A1'!C1039) | D56: =SUM('Mau A1'!M1039:M1068) -> 0 | E56: =SUM('Mau A1'!N1039:N1068) -> 0 | F56: =SUM('Mau A1'!O1039:O1068) -> 0 | G56: =SUM('Mau A1'!P1039:P1068) -> 0 | H56: =SUM('Mau A1'!Q1039:Q1068) -> 0 | I56: =SUM('Mau A1'!R1039:R1068) -> 0 | J56: =SUM('Mau A1'!T1039:T1068) -> 0 | K56: =SUM('Mau A1'!V1039:V1068) -> 0 | L56: =SUM('Mau A1'!X1039:X1068) -> 0 | M56: =SUM('Mau A1'!Y1039:Y1068) -> 0 | N56: =SUM('Mau A1'!Z1039:Z1068) -> 0 | O56: =SUM('Mau A1'!AA1039:AA1068) -> 0 | P56: =SUM('Mau A1'!AC1039:AC1068) -> 0 | Q56: =SUM('Mau A1'!AB1039:AB1068) -> 0 | R56: =ROUND(IF(AND(0<M56<200,0<(M56-Q56)<200,N56>=0,O56>=0),M56-Q56,IF(OR(AND(P56>0,P56>200),(P56-Q56)>200),"200",IF(OR(AND(N56<=0,O56=0,P56<200),AND(N56=0,O56<0,P56<200),AND(N56<0,O56<0,P56<200)),P56-Q56, ))),1) -> 0 | S56: =ROUND(IF(AND(N56>0,O56>0,M56<=0,R56=0),P56-Q56,IF(AND(P56>0,R56=200),P56-Q56-R56, )),1) -> 0 | T56: =ROUND(IF(SUM(M56:O56)-Q56<0,SUM(M56:O56)-Q56, ),1) -> 0
A57: 47 | B57: =IF('Mau A1'!B1069="","",'Mau A1'!B1069) | C57: =IF('Mau A1'!C1069="","",'Mau A1'!C1069) | D57: =SUM('Mau A1'!M1069:M1098) -> 0 | E57: =SUM('Mau A1'!N1069:N1098) -> 0 | F57: =SUM('Mau A1'!O1069:O1098) -> 0 | G57: =SUM('Mau A1'!P1069:P1098) -> 0 | H57: =SUM('Mau A1'!Q1069:Q1098) -> 0 | I57: =SUM('Mau A1'!R1069:R1098) -> 0 | J57: =SUM('Mau A1'!T1069:T1098) -> 0 | K57: =SUM('Mau A1'!V1069:V1098) -> 0 | L57: =SUM('Mau A1'!X1069:X1098) -> 0 | M57: =SUM('Mau A1'!Y1069:Y1098) -> 0 | N57: =SUM('Mau A1'!Z1069:Z1098) -> 0 | O57: =SUM('Mau A1'!AA1069:AA1098) -> 0 | P57: =SUM('Mau A1'!AC1069:AC1098) -> 0 | Q57: =SUM('Mau A1'!AB1069:AB1098) -> 0 | R57: =ROUND(IF(AND(0<M57<200,0<(M57-Q57)<200,N57>=0,O57>=0),M57-Q57,IF(OR(AND(P57>0,P57>200),(P57-Q57)>200),"200",IF(OR(AND(N57<=0,O57=0,P57<200),AND(N57=0,O57<0,P57<200),AND(N57<0,O57<0,P57<200)),P57-Q57, ))),1) -> 0 | S57: =ROUND(IF(AND(N57>0,O57>0,M57<=0,R57=0),P57-Q57,IF(AND(P57>0,R57=200),P57-Q57-R57, )),1) -> 0 | T57: =ROUND(IF(SUM(M57:O57)-Q57<0,SUM(M57:O57)-Q57, ),1) -> 0
A58: 48 | B58: =IF('Mau A1'!B1099="","",'Mau A1'!B1099) | C58: =IF('Mau A1'!C1099="","",'Mau A1'!C1099) | D58: =SUM('Mau A1'!M1099:M1128) -> 0 | E58: =SUM('Mau A1'!N1099:N1128) -> 0 | F58: =SUM('Mau A1'!O1099:O1128) -> 0 | G58: =SUM('Mau A1'!P1099:P1128) -> 0 | H58: =SUM('Mau A1'!Q1099:Q1128) -> 0 | I58: =SUM('Mau A1'!R1099:R1128) -> 0 | J58: =SUM('Mau A1'!T1099:T1128) -> 0 | K58: =SUM('Mau A1'!V1099:V1128) -> 0 | L58: =SUM('Mau A1'!X1099:X1128) -> 0 | M58: =SUM('Mau A1'!Y1099:Y1128) -> 0 | N58: =SUM('Mau A1'!Z1099:Z1128) -> 0 | O58: =SUM('Mau A1'!AA1099:AA1128) -> 0 | P58: =SUM('Mau A1'!AC1099:AC1128) -> 0 | Q58: =SUM('Mau A1'!AB1099:AB1128) -> 0 | R58: =ROUND(IF(AND(0<M58<200,0<(M58-Q58)<200,N58>=0,O58>=0),M58-Q58,IF(OR(AND(P58>0,P58>200),(P58-Q58)>200),"200",IF(OR(AND(N58<=0,O58=0,P58<200),AND(N58=0,O58<0,P58<200),AND(N58<0,O58<0,P58<200)),P58-Q58, ))),1) -> 0 | S58: =ROUND(IF(AND(N58>0,O58>0,M58<=0,R58=0),P58-Q58,IF(AND(P58>0,R58=200),P58-Q58-R58, )),1) -> 0 | T58: =ROUND(IF(SUM(M58:O58)-Q58<0,SUM(M58:O58)-Q58, ),1) -> 0
A59: 49 | B59: =IF('Mau A1'!B1129="","",'Mau A1'!B1129) | C59: =IF('Mau A1'!C1129="","",'Mau A1'!C1129) | D59: =SUM('Mau A1'!M1129:M1158) -> 0 | E59: =SUM('Mau A1'!N1129:N1158) -> 0 | F59: =SUM('Mau A1'!O1129:O1158) -> 0 | G59: =SUM('Mau A1'!P1129:P1158) -> 0 | H59: =SUM('Mau A1'!Q1129:Q1158) -> 0 | I59: =SUM('Mau A1'!R1129:R1158) -> 0 | J59: =SUM('Mau A1'!T1129:T1158) -> 0 | K59: =SUM('Mau A1'!V1129:V1158) -> 0 | L59: =SUM('Mau A1'!X1129:X1158) -> 0 | M59: =SUM('Mau A1'!Y1129:Y1158) -> 0 | N59: =SUM('Mau A1'!Z1129:Z1158) -> 0 | O59: =SUM('Mau A1'!AA1129:AA1158) -> 0 | P59: =SUM('Mau A1'!AC1129:AC1158) -> 0 | Q59: =SUM('Mau A1'!AB1129:AB1158) -> 0 | R59: =ROUND(IF(AND(0<M59<200,0<(M59-Q59)<200,N59>=0,O59>=0),M59-Q59,IF(OR(AND(P59>0,P59>200),(P59-Q59)>200),"200",IF(OR(AND(N59<=0,O59=0,P59<200),AND(N59=0,O59<0,P59<200),AND(N59<0,O59<0,P59<200)),P59-Q59, ))),1) -> 0 | S59: =ROUND(IF(AND(N59>0,O59>0,M59<=0,R59=0),P59-Q59,IF(AND(P59>0,R59=200),P59-Q59-R59, )),1) -> 0 | T59: =ROUND(IF(SUM(M59:O59)-Q59<0,SUM(M59:O59)-Q59, ),1) -> 0
A60: 50 | B60: =IF('Mau A1'!B1159="","",'Mau A1'!B1159) | C60: =IF('Mau A1'!C1159="","",'Mau A1'!C1159) | D60: =SUM('Mau A1'!M1159:M1188) -> 0 | E60: =SUM('Mau A1'!N1159:N1188) -> 0 | F60: =SUM('Mau A1'!O1159:O1188) -> 0 | G60: =SUM('Mau A1'!P1159:P1188) -> 0 | H60: =SUM('Mau A1'!Q1159:Q1188) -> 0 | I60: =SUM('Mau A1'!R1159:R1188) -> 0 | J60: =SUM('Mau A1'!T1159:T1188) -> 0 | K60: =SUM('Mau A1'!V1159:V1188) -> 0 | L60: =SUM('Mau A1'!X1159:X1188) -> 0 | M60: =SUM('Mau A1'!Y1159:Y1188) -> 0 | N60: =SUM('Mau A1'!Z1159:Z1188) -> 0 | O60: =SUM('Mau A1'!AA1159:AA1188) -> 0 | P60: =SUM('Mau A1'!AC1159:AC1188) -> 0 | Q60: =SUM('Mau A1'!AB1159:AB1188) -> 0 | R60: =ROUND(IF(AND(0<M60<200,0<(M60-Q60)<200,N60>=0,O60>=0),M60-Q60,IF(OR(AND(P60>0,P60>200),(P60-Q60)>200),"200",IF(OR(AND(N60<=0,O60=0,P60<200),AND(N60=0,O60<0,P60<200),AND(N60<0,O60<0,P60<200)),P60-Q60, ))),1) -> 0 | S60: =ROUND(IF(AND(N60>0,O60>0,M60<=0,R60=0),P60-Q60,IF(AND(P60>0,R60=200),P60-Q60-R60, )),1) -> 0 | T60: =ROUND(IF(SUM(M60:O60)-Q60<0,SUM(M60:O60)-Q60, ),1) -> 0
A61: TỔNG CỘNG | D61: =SUM(D11:D60) -> 769.5 | E61: =SUM(E11:E60) -> 2066.05 | F61: =SUM(F11:F60) -> 32.4 | G61: =SUM(G11:G60) -> 2935.45 | H61: =SUM(H11:H60) -> 272.2 | I61: =SUM(I11:I60) -> 1198.5 | J61: =SUM(J11:J60) -> 9972.9 | K61: =SUM(K11:K60) -> 2800 | ... T61: =SUM(T11:T60) -> -10906.6
B63: Lưu ý: Không cần nhập số liệu, vì tất cả các số liệu được cài sẵn công thức chuyển từ mẫu A1 sang
T64: Thành phố Hồ Chí Minh, ngày tháng năm 2018
A65: HIỆU TRƯỞNG | C65: TRƯỞNG P. TS-ĐT | G65: TRƯỞNG TỔ TT - PC | I65: TRƯỞNG P. QLKH-HTQT | L65: TRƯỞNG PHÒNG KT&ĐBCL | O65: TRƯỞNG P. TC-HC-TH | S65: TRƯỞNG KHOA

Sheet Mau A1
AB1: Mẫu A1
A2: UBND THÀNH PHỐ HỒ CHÍ MINH | V2: CỘNG HÒA XÃ HỘI CHỦ NGHĨA VIỆT NAM
A3: TRƯỜNG CAO ĐẲNG LÝ TỰ TRỌNG THÀNH PHỐ HỒ CHÍ MINH | V3: Độc lập - Tự do - Hạnh phúc
A4: BẢNG TÍNH KHỐI LƯỢNG CÔNG VIỆC CỦA GIẢNG VIÊN TRONG NĂM HỌC 2017 - 2018
A5: KHOA : CÔNG NGHỆ THÔNG TIN
A7: TT | B7: Họ và Tên | D7: MÃ LỚP HP | E7: Môn dạy | F7: lớp dạy | G7: Học kỳ | H7: Thực hiện trong năm học | S7: Số tiết chuẩn giảng dạy | T7: Số tiết chuẩn giảng dạy còn lại | U7: Số tiết chuẩn "Học tập, bồi dưỡng chuẩn hóa, bồi dưỡng nâng cao, nghiên cứu khoa học" | V7: Số tiết chuẩn "Học tập, bồi dưỡng chuẩn hóa, bồi dưỡng nâng cao, nghiên cứu khoa học" còn lại | W7: Số tiết chuẩn "Thực tập tại doanh nghiệp hoặc cơ quan chuyên môn" | X7: Số tiết chuẩn "Thực tập tại doanh nghiệp hoặc cơ quan chuyên môn" còn lại | Y7: Số tiết thừa, thiếu giảng dạy | Z7: Số tiết thừa, thiếu "Học tập, bồi dưỡng chuẩn hóa, bồi dưỡng nâng cao, nghiên cứu khoa học" | AA7: Số tiết thừa, thiếu "Thực tập tại doanh nghiệp hoặc cơ quan chuyên môn" | AB7: Số tiết thiếu năm học 2016-2017 | AC7: Tổng số tiết thừa, thiếu năm học 2017-2018
H8: Chưa nhân hệ số | J8: Sĩ số LHP | K8: Hệ số | M8: Số tiết quy đổi và đã nhân hệ số | N8: Kiêm nhiệm | O8: Số tiết soạn đề, coi thi, chấm thi | P8: Tổng tiết thực hiện | Q8: Số tiết "Học tập, bồi dưỡng chuẩn hóa, bồi dưỡng nâng cao, nghiên cứu khoa học" | R8: Số tiết "Thực tập tại doanh nghiệp hoặc cơ quan chuyên môn"
H9: LT | I9: TH | J9: Chính thức và học lại | K9: LT | L9: TH
A10: (1) | B10: (2) | E10: (3) | F10: (4) | G10: (5) | H10: (6) | I10: (7) | K10: =IF(OR(LEFT(E10,2)="ĐA",LEFT(E10,2)="DA",LEFT(E10,5)="Đồ án",LEFT(E10,5)="Đồán ",LEFT(E10,9)="Sinh hoạt",LEFT(E10,9)="sinh hoạt",LEFT(E10,6)="Cố vấn",LEFT(E10,6)="cố vấn",LEFT(E10,4)="cvht",LEFT(E10,4)="CVHT",LEFT(E10,4)="shcn",LEFT(E10,4)="SHCN"),0,(IF(AND(H10>0,J10>0),IF(J10>60,1.3,IF(J10>35,1.2,1)),0))) -> 0 | L10: =IF(OR(LEFT(E10,2)="ĐA",LEFT(E10,2)="DA",LEFT(E10,5)="Đồ án",LEFT(E10,5)="Đồán "),0,IF(AND(J10>0,I10>0),IF(AND(OR(LEFT(E10,4)="GDQP",LEFT(E10,4)="gdqp",LEFT(E10,19)="Giáo dục quốc phòng"),J10>50),1.3,IF(J10>35,1.2,IF(J10>29,1.1,1))),0)) -> 0 | M10: =ROUND(IF(OR(LEFT(E10,2)="ĐA",LEFT(E10,2)="DA",LEFT(E10,5)="Đồ án",LEFT(E10,5)="Đồán "),J10*0.5,(IF(H10>0,H10*K10,"0")+IF(I10>0,(I10*0.75)*L10,"0"))),1) -> 0 | N10: (11) | O10: (12) | P10: (13) | Q10: (14) | R10: (15) | T10: (16) | V10: (17) | X10: (18) | Y10: (19) | Z10: (20) | AA10: (21) | AB10: (22) | AC10: (23)
A11: 1 | B11: Nguyễn Vân | C11: Giang | D11: 21100094402 | E11: Cấu trúc dữ liệu và giải thuật | F11: 17C1-CTM1 | G11: 1 | H11: 15 | I11: 60 | J11: 37 | K11: =IF(OR(LEFT(E11,2)="ĐA",LEFT(E11,2)="DA",LEFT(E11,5)="Đồ án",LEFT(E11,5)="Đồán ",LEFT(E11,9)="Sinh hoạt",LEFT(E11,9)="sinh hoạt",LEFT(E11,6)="Cố vấn",LEFT(E11,6)="cố vấn",LEFT(E11,4)="cvht",LEFT(E11,4)="CVHT",LEFT(E11,4)="shcn",LEFT(E11,4)="SHCN"),0,(IF(AND(H11>0,J11>0),IF(J11>60,1.3,IF(J11>35,1.2,1)),0))) -> 1.2 | L11: =IF(OR(LEFT(E11,2)="ĐA",LEFT(E11,2)="DA",LEFT(E11,5)="Đồ án",LEFT(E11,5)="Đồán "),0,IF(AND(J11>0,I11>0),IF(AND(OR(LEFT(E11,4)="GDQP",LEFT(E11,4)="gdqp",LEFT(E11,19)="Giáo dục quốc phòng"),J11>50),1.3,IF(J11>35,1.2,IF(J11>29,1.1,1))),0)) -> 1.2 | M11: =ROUND(IF(OR(LEFT(E11,2)="ĐA",LEFT(E11,2)="DA",LEFT(E11,5)="Đồ án",LEFT(E11,5)="Đồán "),J11*0.5,(IF(H11>0,H11*K11,"0")+IF(I11>0,(I11*0.75)*L11,"0"))),1) -> 72 | N11: 157.5 | O11: 0 | P11: =SUM(M11:M22)+N11+O11 -> 547.5 | Q11: 21.4 | R11: 52 | S11: 450 | T11: 450 | U11: 112 | V11: 112 | W11: 56 | X11: 56 | Y11: =ROUND((P11-T11),1) -> 97.5 | Z11: =IF(OR(SUM(V11:V22)="",SUM(Q11:Q22)=""),0,IF(OR(SUM(U11:U22)=320,SUM(V11:V22)>0),ROUND((SUM(Q11:Q22)-SUM(V11:V22)),1),0)) -> -90.6 | AA11: =IF(OR(SUM(X11:X22)="",SUM(R11:R22)=""),0,IF(OR(SUM(W11:W22)=160,SUM(X11:X22)>0),ROUND((SUM(R11:R22)-SUM(X11:X22)),1),0)) -> -4 | AC11: =SUM(Y11:AA22) -> 2.9
D12: 21100094403 | E12: Cấu trúc dữ liệu và giải thuật | F12: 17C1-CTM2 | G12: 1 | H12: 15 | I12: 60 | J12: 33 | K12: =IF(OR(LEFT(E12,2)="ĐA",LEFT(E12,2)="DA",LEFT(E12,5)="Đồ án",LEFT(E12,5)="Đồán ",LEFT(E12,9)="Sinh hoạt",LEFT(E12,9)="sinh hoạt",LEFT(E12,6)="Cố vấn",LEFT(E12,6)="cố vấn",LEFT(E12,4)="cvht",LEFT(E12,4)="CVHT",LEFT(E12,4)="shcn",LEFT(E12,4)="SHCN"),0,(IF(AND(H12>0,J12>0),IF(J12>60,1.3,IF(J12>35,1.2,1)),0))) -> 1 | L12: =IF(OR(LEFT(E12,2)="ĐA",LEFT(E12,2)="DA",LEFT(E12,5)="Đồ án",LEFT(E12,5)="Đồán "),0,IF(AND(J12>0,I12>0),IF(AND(OR(LEFT(E12,4)="GDQP",LEFT(E12,4)="gdqp",LEFT(E12,19)="Giáo dục quốc phòng"),J12>50),1.3,IF(J12>35,1.2,IF(J12>29,1.1,1))),0)) -> 1.1 | M12: =ROUND(IF(OR(LEFT(E12,2)="ĐA",LEFT(E12,2)="DA",LEFT(E12,5)="Đồ án",LEFT(E12,5)="Đồán "),J12*0.5,(IF(H12>0,H12*K12,"0")+IF(I12>0,(I12*0.75)*L12,"0"))),1) -> 64.5
D13: 71400106704 | E13: Lập trình căn bản | F13: 18T4-LTM | G13: 1 | H13: 45 | I13: 30 | J13: 46 | K13: =IF(OR(LEFT(E13,2)="ĐA",LEFT(E13,2)="DA",LEFT(E13,5)="Đồ án",LEFT(E13,5)="Đồán ",LEFT(E13,9)="Sinh hoạt",LEFT(E13,9)="sinh hoạt",LEFT(E13,6)="Cố vấn",LEFT(E13,6)="cố vấn",LEFT(E13,4)="cvht",LEFT(E13,4)="CVHT",LEFT(E13,4)="shcn",LEFT(E13,4)="SHCN"),0,(IF(AND(H13>0,J13>0),IF(J13>60,1.3,IF(J13>35,1.2,1)),0))) -> 1.2 | L13: =IF(OR(LEFT(E13,2)="ĐA",LEFT(E13,2)="DA",LEFT(E13,5)="Đồ án",LEFT(E13,5)="Đồán "),0,IF(AND(J13>0,I13>0),IF(AND(OR(LEFT(E13,4)="GDQP",LEFT(E13,4)="gdqp",LEFT(E13,19)="Giáo dục quốc phòng"),J13>50),1.3,IF(J13>35,1.2,IF(J13>29,1.1,1))),0)) -> 1.2 | M13: =ROUND(IF(OR(LEFT(E13,2)="ĐA",LEFT(E13,2)="DA",LEFT(E13,5)="Đồ án",LEFT(E13,5)="Đồán "),J13*0.5,(IF(H13>0,H13*K13,"0")+IF(I13>0,(I13*0.75)*L13,"0"))),1) -> 81
D14: 71400119002 | E14: Cơ sở dữ liệu | F14: 17T4-LTM | G14: 1 | H14: 15 | I14: 30 | J14: 60 | K14: =IF(OR(LEFT(E14,2)="ĐA",LEFT(E14,2)="DA",LEFT(E14,5)="Đồ án",LEFT(E14,5)="Đồán ",LEFT(E14,9)="Sinh hoạt",LEFT(E14,9)="sinh hoạt",LEFT(E14,6)="Cố vấn",LEFT(E14,6)="cố vấn",LEFT(E14,4)="cvht",LEFT(E14,4)="CVHT",LEFT(E14,4)="shcn",LEFT(E14,4)="SHCN"),0,(IF(AND(H14>0,J14>0),IF(J14>60,1.3,IF(J14>35,1.2,1)),0))) -> 1.2 | L14: =IF(OR(LEFT(E14,2)="ĐA",LEFT(E14,2)="DA",LEFT(E14,5)="Đồ án",LEFT(E14,5)="Đồán "),0,IF(AND(J14>0,I14>0),IF(AND(OR(LEFT(E14,4)="GDQP",LEFT(E14,4)="gdqp",LEFT(E14,19)="Giáo dục quốc phòng"),J14>50),1.3,IF(J14>35,1.2,IF(J14>29,1.1,1))),0)) -> 1.2 | M14: =ROUND(IF(OR(LEFT(E14,2)="ĐA",LEFT(E14,2)="DA",LEFT(E14,5)="Đồ án",LEFT(E14,5)="Đồán "),J14*0.5,(IF(H14>0,H14*K14,"0")+IF(I14>0,(I14*0.75)*L14,"0"))),1) -> 45
D15: 71400119001 | E15: Cơ sở dữ liệu | F15: 17T4-TKW | G15: 1 | H15: 15 | I15: 30 | J15: 27 | K15: =IF(OR(LEFT(E15,2)="ĐA",LEFT(E15,2)="DA",LEFT(E15,5)="Đồ án",LEFT(E15,5)="Đồán ",LEFT(E15,9)="Sinh hoạt",LEFT(E15,9)="sinh hoạt",LEFT(E15,6)="Cố vấn",LEFT(E15,6)="cố vấn",LEFT(E15,4)="cvht",LEFT(E15,4)="CVHT",LEFT(E15,4)="shcn",LEFT(E15,4)="SHCN"),0,(IF(AND(H15>0,J15>0),IF(J15>60,1.3,IF(J15>35,1.2,1)),0))) -> 1 | L15: =IF(OR(LEFT(E15,2)="ĐA",LEFT(E15,2)="DA",LEFT(E15,5)="Đồ án",LEFT(E15,5)="Đồán "),0,IF(AND(J15>0,I15>0),IF(AND(OR(LEFT(E15,4)="GDQP",LEFT(E15,4)="gdqp",LEFT(E15,19)="Giáo dục quốc phòng"),J15>50),1.3,IF(J15>35,1.2,IF(J15>29,1.1,1))),0)) -> 1 | M15: =ROUND(IF(OR(LEFT(E15,2)="ĐA",LEFT(E15,2)="DA",LEFT(E15,5)="Đồ án",LEFT(E15,5)="Đồán "),J15*0.5,(IF(H15>0,H15*K15,"0")+IF(I15>0,(I15*0.75)*L15,"0"))),1) -> 37.5
D16: 21100093903 | E16: Cơ sở dữ liệu | F16: 18C1-LTM1 | G16: 1 | H16: 15 | I16: 30 | J16: 57 | K16: =IF(OR(LEFT(E16,2)="ĐA",LEFT(E16,2)="DA",LEFT(E16,5)="Đồ án",LEFT(E16,5)="Đồán ",LEFT(E16,9)="Sinh hoạt",LEFT(E16,9)="sinh hoạt",LEFT(E16,6)="Cố vấn",LEFT(E16,6)="cố vấn",LEFT(E16,4)="cvht",LEFT(E16,4)="CVHT",LEFT(E16,4)="shcn",LEFT(E16,4)="SHCN"),0,(IF(AND(H16>0,J16>0),IF(J16>60,1.3,IF(J16>35,1.2,1)),0))) -> 1.2 | L16: =IF(OR(LEFT(E16,2)="ĐA",LEFT(E16,2)="DA",LEFT(E16,5)="Đồ án",LEFT(E16,5)="Đồán "),0,IF(AND(J16>0,I16>0),IF(AND(OR(LEFT(E16,4)="GDQP",LEFT(E16,4)="gdqp",LEFT(E16,19)="Giáo dục quốc phòng"),J16>50),1.3,IF(J16>35,1.2,IF(J16>29,1.1,1))),0)) -> 1.2 | M16: =ROUND(IF(OR(LEFT(E16,2)="ĐA",LEFT(E16,2)="DA",LEFT(E16,5)="Đồ án",LEFT(E16,5)="Đồán "),J16*0.5,(IF(H16>0,H16*K16,"0")+IF(I16>0,(I16*0.75)*L16,"0"))),1) -> 45
D17: 21100093901 | E17: Cơ sở dữ liệu | F17: 18C1-CTM1 | G17: 1 | H17: 15 | I17: 30 | J17: 39 | K17: =IF(OR(LEFT(E17,2)="ĐA",LEFT(E17,2)="DA",LEFT(E17,5)="Đồ án",LEFT(E17,5)="Đồán ",LEFT(E17,9)="Sinh hoạt",LEFT(E17,9)="sinh hoạt",LEFT(E17,6)="Cố vấn",LEFT(E17,6)="cố vấn",LEFT(E17,4)="cvht",LEFT(E17,4)="CVHT",LEFT(E17,4)="shcn",LEFT(E17,4)="SHCN"),0,(IF(AND(H17>0,J17>0),IF(J17>60,1.3,IF(J17>35,1.2,1)),0))) -> 1.2 | L17: =IF(OR(LEFT(E17,2)="ĐA",LEFT(E17,2)="DA",LEFT(E17,5)="Đồ án",LEFT(E17,5)="Đồán "),0,IF(AND(J17>0,I17>0),IF(AND(OR(LEFT(E17,4)="GDQP",LEFT(E17,4)="gdqp",LEFT(E17,19)="Giáo dục quốc phòng"),J17>50),1.3,IF(J17>35,1.2,IF(J17>29,1.1,1))),0)) -> 1.2 | M17: =ROUND(IF(OR(LEFT(E17,2)="ĐA",LEFT(E17,2)="DA",LEFT(E17,5)="Đồ án",LEFT(E17,5)="Đồán "),J17*0.5,(IF(H17>0,H17*K17,"0")+IF(I17>0,(I17*0.75)*L17,"0"))),1) -> 45
K18: =IF(OR(LEFT(E18,2)="ĐA",LEFT(E18,2)="DA",LEFT(E18,5)="Đồ án",LEFT(E18,5)="Đồán ",LEFT(E18,9)="Sinh hoạt",LEFT(E18,9)="sinh hoạt",LEFT(E18,6)="Cố vấn",LEFT(E18,6)="cố vấn",LEFT(E18,4)="cvht",LEFT(E18,4)="CVHT",LEFT(E18,4)="shcn",LEFT(E18,4)="SHCN"),0,(IF(AND(H18>0,J18>0),IF(J18>60,1.3,IF(J18>35,1.2,1)),0))) -> 0 | L18: =IF(OR(LEFT(E18,2)="ĐA",LEFT(E18,2)="DA",LEFT(E18,5)="Đồ án",LEFT(E18,5)="Đồán "),0,IF(AND(J18>0,I18>0),IF(AND(OR(LEFT(E18,4)="GDQP",LEFT(E18,4)="gdqp",LEFT(E18,19)="Giáo dục quốc phòng"),J18>50),1.3,IF(J18>35,1.2,IF(J18>29,1.1,1))),0)) -> 0 | M18: =ROUND(IF(OR(LEFT(E18,2)="ĐA",LEFT(E18,2)="DA",LEFT(E18,5)="Đồ án",LEFT(E18,5)="Đồán "),J18*0.5,(IF(H18>0,H18*K18,"0")+IF(I18>0,(I18*0.75)*L18,"0"))),1) -> 0
K19: =IF(OR(LEFT(E19,2)="ĐA",LEFT(E19,2)="DA",LEFT(E19,5)="Đồ án",LEFT(E19,5)="Đồán ",LEFT(E19,9)="Sinh hoạt",LEFT(E19,9)="sinh hoạt",LEFT(E19,6)="Cố vấn",LEFT(E19,6)="cố vấn",LEFT(E19,4)="cvht",LEFT(E19,4)="CVHT",LEFT(E19,4)="shcn",LEFT(E19,4)="SHCN"),0,(IF(AND(H19>0,J19>0),IF(J19>60,1.3,IF(J19>35,1.2,1)),0))) -> 0 | L19: =IF(OR(LEFT(E19,2)="ĐA",LEFT(E19,2)="DA",LEFT(E19,5)="Đồ án",LEFT(E19,5)="Đồán "),0,IF(AND(J19>0,I19>0),IF(AND(OR(LEFT(E19,4)="GDQP",LEFT(E19,4)="gdqp",LEFT(E19,19)="Giáo dục quốc phòng"),J19>50),1.3,IF(J19>35,1.2,IF(J19>29,1.1,1))),0)) -> 0 | M19: =ROUND(IF(OR(LEFT(E19,2)="ĐA",LEFT(E19,2)="DA",LEFT(E19,5)="Đồ án",LEFT(E19,5)="Đồán "),J19*0.5,(IF(H19>0,H19*K19,"0")+IF(I19>0,(I19*0.75)*L19,"0"))),1) -> 0
K20: =IF(OR(LEFT(E20,2)="ĐA",LEFT(E20,2)="DA",LEFT(E20,5)="Đồ án",LEFT(E20,5)="Đồán ",LEFT(E20,9)="Sinh hoạt",LEFT(E20,9)="sinh hoạt",LEFT(E20,6)="Cố vấn",LEFT(E20,6)="cố vấn",LEFT(E20,4)="cvht",LEFT(E20,4)="CVHT",LEFT(E20,4)="shcn",LEFT(E20,4)="SHCN"),0,(IF(AND(H20>0,J20>0),IF(J20>60,1.3,IF(J20>35,1.2,1)),0))) -> 0 | L20: =IF(OR(LEFT(E20,2)="ĐA",LEFT(E20,2)="DA",LEFT(E20,5)="Đồ án",LEFT(E20,5)="Đồán "),0,IF(AND(J20>0,I20>0),IF(AND(OR(LEFT(E20,4)="GDQP",LEFT(E20,4)="gdqp",LEFT(E20,19)="Giáo dục quốc phòng"),J20>50),1.3,IF(J20>35,1.2,IF(J20>29,1.1,1))),0)) -> 0 | M20: =ROUND(IF(OR(LEFT(E20,2)="ĐA",LEFT(E20,2)="DA",LEFT(E20,5)="Đồ án",LEFT(E20,5)="Đồán "),J20*0.5,(IF(H20>0,H20*K20,"0")+IF(I20>0,(I20*0.75)*L20,"0"))),1) -> 0
K21: =IF(OR(LEFT(E21,2)="ĐA",LEFT(E21,2)="DA",LEFT(E21,5)="Đồ án",LEFT(E21,5)="Đồán ",LEFT(E21,9)="Sinh hoạt",LEFT(E21,9)="sinh hoạt",LEFT(E21,6)="Cố vấn",LEFT(E21,6)="cố vấn",LEFT(E21,4)="cvht",LEFT(E21,4)="CVHT",LEFT(E21,4)="shcn",LEFT(E21,4)="SHCN"),0,(IF(AND(H21>0,J21>0),IF(J21>60,1.3,IF(J21>35,1.2,1)),0))) -> 0 | L21: =IF(OR(LEFT(E21,2)="ĐA",LEFT(E21,2)="DA",LEFT(E21,5)="Đồ án",LEFT(E21,5)="Đồán "),0,IF(AND(J21>0,I21>0),IF(AND(OR(LEFT(E21,4)="GDQP",LEFT(E21,4)="gdqp",LEFT(E21,19)="Giáo dục quốc phòng"),J21>50),1.3,IF(J21>35,1.2,IF(J21>29,1.1,1))),0)) -> 0 | M21: =ROUND(IF(OR(LEFT(E21,2)="ĐA",LEFT(E21,2)="DA",LEFT(E21,5)="Đồ án",LEFT(E21,5)="Đồán "),J21*0.5,(IF(H21>0,H21*K21,"0")+IF(I21>0,(I21*0.75)*L21,"0"))),1) -> 0
K22: =IF(OR(LEFT(E22,2)="ĐA",LEFT(E22,2)="DA",LEFT(E22,5)="Đồ án",LEFT(E22,5)="Đồán ",LEFT(E22,9)="Sinh hoạt",LEFT(E22,9)="sinh hoạt",LEFT(E22,6)="Cố vấn",LEFT(E22,6)="cố vấn",LEFT(E22,4)="cvht",LEFT(E22,4)="CVHT",LEFT(E22,4)="shcn",LEFT(E22,4)="SHCN"),0,(IF(AND(H22>0,J22>0),IF(J22>60,1.3,IF(J22>35,1.2,1)),0))) -> 0 | L22: =IF(OR(LEFT(E22,2)="ĐA",LEFT(E22,2)="DA",LEFT(E22,5)="Đồ án",LEFT(E22,5)="Đồán "),0,IF(AND(J22>0,I22>0),IF(AND(OR(LEFT(E22,4)="GDQP",LEFT(E22,4)="gdqp",LEFT(E22,19)="Giáo dục quốc phòng"),J22>50),1.3,IF(J22>35,1.2,IF(J22>29,1.1,1))),0)) -> 0 | M22: =ROUND(IF(OR(LEFT(E22,2)="ĐA",LEFT(E22,2)="DA",LEFT(E22,5)="Đồ án",LEFT(E22,5)="Đồán "),J22*0.5,(IF(H22>0,H22*K22,"0")+IF(I22>0,(I22*0.75)*L22,"0"))),1) -> 0
A23: 2 | B23: Nguyễn | C23: Khoa | K23: =IF(OR(LEFT(E23,2)="ĐA",LEFT(E23,2)="DA",LEFT(E23,5)="Đồ án",LEFT(E23,5)="Đồán ",LEFT(E23,9)="Sinh hoạt",LEFT(E23,9)="sinh hoạt",LEFT(E23,6)="Cố vấn",LEFT(E23,6)="cố vấn",LEFT(E23,4)="cvht",LEFT(E23,4)="CVHT",LEFT(E23,4)="shcn",LEFT(E23,4)="SHCN"),0,(IF(AND(H23>0,J23>0),IF(J23>60,1.3,IF(J23>35,1.2,1)),0))) -> 0 | L23: =IF(OR(LEFT(E23,2)="ĐA",LEFT(E23,2)="DA",LEFT(E23,5)="Đồ án",LEFT(E23,5)="Đồán "),0,IF(AND(J23>0,I23>0),IF(AND(OR(LEFT(E23,4)="GDQP",LEFT(E23,4)="gdqp",LEFT(E23,19)="Giáo dục quốc phòng"),J23>50),1.3,IF(J23>35,1.2,IF(J23>29,1.1,1))),0)) -> 0 | M23: =ROUND(IF(OR(LEFT(E23,2)="ĐA",LEFT(E23,2)="DA",LEFT(E23,5)="Đồ án",LEFT(E23,5)="Đồán "),J23*0.5,(IF(H23>0,H23*K23,"0")+IF(I23>0,(I23*0.75)*L23,"0"))),1) -> 0 | N23: 213.8 | O23: 0 | P23: =SUM(M23:M33)+N23+O23 -> 213.8 | Q23: 0 | R23: 29 | S23: 450 | T23: 450 | U23: 112 | V23: 112 | W23: 56 | X23: 56 | Y23: =ROUND((P23-T23),1) -> -236.2 | Z23: =IF(OR(SUM(V23)="",SUM(Q23)=""),0,IF(OR(SUM(U23)=320,SUM(V23)>0),ROUND((SUM(Q23)-SUM(V23)),1),0)) -> -112 | AA23: =IF(OR(SUM(X23)="",SUM(R23)=""),0,IF(OR(SUM(W23)=160,SUM(X23)>0),ROUND((SUM(R23)-SUM(X23)),1),0)) -> -27 | AC23: =SUM(Y23:AA33) -> -375.2
K24: =IF(OR(LEFT(E24,2)="ĐA",LEFT(E24,2)="DA",LEFT(E24,5)="Đồ án",LEFT(E24,5)="Đồán ",LEFT(E24,9)="Sinh hoạt",LEFT(E24,9)="sinh hoạt",LEFT(E24,6)="Cố vấn",LEFT(E24,6)="cố vấn",LEFT(E24,4)="cvht",LEFT(E24,4)="CVHT",LEFT(E24,4)="shcn",LEFT(E24,4)="SHCN"),0,(IF(AND(H24>0,J24>0),IF(J24>60,1.3,IF(J24>35,1.2,1)),0))) -> 0 | L24: =IF(OR(LEFT(E24,2)="ĐA",LEFT(E24,2)="DA",LEFT(E24,5)="Đồ án",LEFT(E24,5)="Đồán "),0,IF(AND(J24>0,I24>0),IF(AND(OR(LEFT(E24,4)="GDQP",LEFT(E24,4)="gdqp",LEFT(E24,19)="Giáo dục quốc phòng"),J24>50),1.3,IF(J24>35,1.2,IF(J24>29,1.1,1))),0)) -> 0 | M24: =ROUND(IF(OR(LEFT(E24,2)="ĐA",LEFT(E24,2)="DA",LEFT(E24,5)="Đồ án",LEFT(E24,5)="Đồán "),J24*0.5,(IF(H24>0,H24*K24,"0")+IF(I24>0,(I24*0.75)*L24,"0"))),1) -> 0
K25: =IF(OR(LEFT(E25,2)="ĐA",LEFT(E25,2)="DA",LEFT(E25,5)="Đồ án",LEFT(E25,5)="Đồán ",LEFT(E25,9)="Sinh hoạt",LEFT(E25,9)="sinh hoạt",LEFT(E25,6)="Cố vấn",LEFT(E25,6)="cố vấn",LEFT(E25,4)="cvht",LEFT(E25,4)="CVHT",LEFT(E25,4)="shcn",LEFT(E25,4)="SHCN"),0,(IF(AND(H25>0,J25>0),IF(J25>60,1.3,IF(J25>35,1.2,1)),0))) -> 0 | L25: =IF(OR(LEFT(E25,2)="ĐA",LEFT(E25,2)="DA",LEFT(E25,5)="Đồ án",LEFT(E25,5)="Đồán "),0,IF(AND(J25>0,I25>0),IF(AND(OR(LEFT(E25,4)="GDQP",LEFT(E25,4)="gdqp",LEFT(E25,19)="Giáo dục quốc phòng"),J25>50),1.3,IF(J25>35,1.2,IF(J25>29,1.1,1))),0)) -> 0 | M25: =ROUND(IF(OR(LEFT(E25,2)="ĐA",LEFT(E25,2)="DA",LEFT(E25,5)="Đồ án",LEFT(E25,5)="Đồán "),J25*0.5,(IF(H25>0,H25*K25,"0")+IF(I25>0,(I25*0.75)*L25,"0"))),1) -> 0
K26: =IF(OR(LEFT(E26,2)="ĐA",LEFT(E26,2)="DA",LEFT(E26,5)="Đồ án",LEFT(E26,5)="Đồán ",LEFT(E26,9)="Sinh hoạt",LEFT(E26,9)="sinh hoạt",LEFT(E26,6)="Cố vấn",LEFT(E26,6)="cố vấn",LEFT(E26,4)="cvht",LEFT(E26,4)="CVHT",LEFT(E26,4)="shcn",LEFT(E26,4)="SHCN"),0,(IF(AND(H26>0,J26>0),IF(J26>60,1.3,IF(J26>35,1.2,1)),0))) -> 0 | L26: =IF(OR(LEFT(E26,2)="ĐA",LEFT(E26,2)="DA",LEFT(E26,5)="Đồ án",LEFT(E26,5)="Đồán "),0,IF(AND(J26>0,I26>0),IF(AND(OR(LEFT(E26,4)="GDQP",LEFT(E26,4)="gdqp",LEFT(E26,19)="Giáo dục quốc phòng"),J26>50),1.3,IF(J26>35,1.2,IF(J26>29,1.1,1))),0)) -> 0 | M26: =ROUND(IF(OR(LEFT(E26,2)="ĐA",LEFT(E26,2)="DA",LEFT(E26,5)="Đồ án",LEFT(E26,5)="Đồán "),J26*0.5,(IF(H26>0,H26*K26,"0")+IF(I26>0,(I26*0.75)*L26,"0"))),1) -> 0
K27: =IF(OR(LEFT(E27,2)="ĐA",LEFT(E27,2)="DA",LEFT(E27,5)="Đồ án",LEFT(E27,5)="Đồán ",LEFT(E27,9)="Sinh hoạt",LEFT(E27,9)="sinh hoạt",LEFT(E27,6)="Cố vấn",LEFT(E27,6)="cố vấn",LEFT(E27,4)="cvht",LEFT(E27,4)="CVHT",LEFT(E27,4)="shcn",LEFT(E27,4)="SHCN"),0,(IF(AND(H27>0,J27>0),IF(J27>60,1.3,IF(J27>35,1.2,1)),0))) -> 0 | L27: =IF(OR(LEFT(E27,2)="ĐA",LEFT(E27,2)="DA",LEFT(E27,5)="Đồ án",LEFT(E27,5)="Đồán "),0,IF(AND(J27>0,I27>0),IF(AND(OR(LEFT(E27,4)="GDQP",LEFT(E27,4)="gdqp",LEFT(E27,19)="Giáo dục quốc phòng"),J27>50),1.3,IF(J27>35,1.2,IF(J27>29,1.1,1))),0)) -> 0 | M27: =ROUND(IF(OR(LEFT(E27,2)="ĐA",LEFT(E27,2)="DA",LEFT(E27,5)="Đồ án",LEFT(E27,5)="Đồán "),J27*0.5,(IF(H27>0,H27*K27,"0")+IF(I27>0,(I27*0.75)*L27,"0"))),1) -> 0
K28: =IF(OR(LEFT(E28,2)="ĐA",LEFT(E28,2)="DA",LEFT(E28,5)="Đồ án",LEFT(E28,5)="Đồán ",LEFT(E28,9)="Sinh hoạt",LEFT(E28,9)="sinh hoạt",LEFT(E28,6)="Cố vấn",LEFT(E28,6)="cố vấn",LEFT(E28,4)="cvht",LEFT(E28,4)="CVHT",LEFT(E28,4)="shcn",LEFT(E28,4)="SHCN"),0,(IF(AND(H28>0,J28>0),IF(J28>60,1.3,IF(J28>35,1.2,1)),0))) -> 0 | L28: =IF(OR(LEFT(E28,2)="ĐA",LEFT(E28,2)="DA",LEFT(E28,5)="Đồ án",LEFT(E28,5)="Đồán "),0,IF(AND(J28>0,I28>0),IF(AND(OR(LEFT(E28,4)="GDQP",LEFT(E28,4)="gdqp",LEFT(E28,19)="Giáo dục quốc phòng"),J28>50),1.3,IF(J28>35,1.2,IF(J28>29,1.1,1))),0)) -> 0 | M28: =ROUND(IF(OR(LEFT(E28,2)="ĐA",LEFT(E28,2)="DA",LEFT(E28,5)="Đồ án",LEFT(E28,5)="Đồán "),J28*0.5,(IF(H28>0,H28*K28,"0")+IF(I28>0,(I28*0.75)*L28,"0"))),1) -> 0
K29: =IF(OR(LEFT(E29,2)="ĐA",LEFT(E29,2)="DA",LEFT(E29,5)="Đồ án",LEFT(E29,5)="Đồán ",LEFT(E29,9)="Sinh hoạt",LEFT(E29,9)="sinh hoạt",LEFT(E29,6)="Cố vấn",LEFT(E29,6)="cố vấn",LEFT(E29,4)="cvht",LEFT(E29,4)="CVHT",LEFT(E29,4)="shcn",LEFT(E29,4)="SHCN"),0,(IF(AND(H29>0,J29>0),IF(J29>60,1.3,IF(J29>35,1.2,1)),0))) -> 0 | L29: =IF(OR(LEFT(E29,2)="ĐA",LEFT(E29,2)="DA",LEFT(E29,5)="Đồ án",LEFT(E29,5)="Đồán "),0,IF(AND(J29>0,I29>0),IF(AND(OR(LEFT(E29,4)="GDQP",LEFT(E29,4)="gdqp",LEFT(E29,19)="Giáo dục quốc phòng"),J29>50),1.3,IF(J29>35,1.2,IF(J29>29,1.1,1))),0)) -> 0 | M29: =ROUND(IF(OR(LEFT(E29,2)="ĐA",LEFT(E29,2)="DA",LEFT(E29,5)="Đồ án",LEFT(E29,5)="Đồán "),J29*0.5,(IF(H29>0,H29*K29,"0")+IF(I29>0,(I29*0.75)*L29,"0"))),1) -> 0
K30: =IF(OR(LEFT(E30,2)="ĐA",LEFT(E30,2)="DA",LEFT(E30,5)="Đồ án",LEFT(E30,5)="Đồán ",LEFT(E30,9)="Sinh hoạt",LEFT(E30,9)="sinh hoạt",LEFT(E30,6)="Cố vấn",LEFT(E30,6)="cố vấn",LEFT(E30,4)="cvht",LEFT(E30,4)="CVHT",LEFT(E30,4)="shcn",LEFT(E30,4)="SHCN"),0,(IF(AND(H30>0,J30>0),IF(J30>60,1.3,IF(J30>35,1.2,1)),0))) -> 0 | L30: =IF(OR(LEFT(E30,2)="ĐA",LEFT(E30,2)="DA",LEFT(E30,5)="Đồ án",LEFT(E30,5)="Đồán "),0,IF(AND(J30>0,I30>0),IF(AND(OR(LEFT(E30,4)="GDQP",LEFT(E30,4)="gdqp",LEFT(E30,19)="Giáo dục quốc phòng"),J30>50),1.3,IF(J30>35,1.2,IF(J30>29,1.1,1))),0)) -> 0 | M30: =ROUND(IF(OR(LEFT(E30,2)="ĐA",LEFT(E30,2)="DA",LEFT(E30,5)="Đồ án",LEFT(E30,5)="Đồán "),J30*0.5,(IF(H30>0,H30*K30,"0")+IF(I30>0,(I30*0.75)*L30,"0"))),1) -> 0
K31: =IF(OR(LEFT(E31,2)="ĐA",LEFT(E31,2)="DA",LEFT(E31,5)="Đồ án",LEFT(E31,5)="Đồán ",LEFT(E31,9)="Sinh hoạt",LEFT(E31,9)="sinh hoạt",LEFT(E31,6)="Cố vấn",LEFT(E31,6)="cố vấn",LEFT(E31,4)="cvht",LEFT(E31,4)="CVHT",LEFT(E31,4)="shcn",LEFT(E31,4)="SHCN"),0,(IF(AND(H31>0,J31>0),IF(J31>60,1.3,IF(J31>35,1.2,1)),0))) -> 0 | L31: =IF(OR(LEFT(E31,2)="ĐA",LEFT(E31,2)="DA",LEFT(E31,5)="Đồ án",LEFT(E31,5)="Đồán "),0,IF(AND(J31>0,I31>0),IF(AND(OR(LEFT(E31,4)="GDQP",LEFT(E31,4)="gdqp",LEFT(E31,19)="Giáo dục quốc phòng"),J31>50),1.3,IF(J31>35,1.2,IF(J31>29,1.1,1))),0)) -> 0 | M31: =ROUND(IF(OR(LEFT(E31,2)="ĐA",LEFT(E31,2)="DA",LEFT(E31,5)="Đồ án",LEFT(E31,5)="Đồán "),J31*0.5,(IF(H31>0,H31*K31,"0")+IF(I31>0,(I31*0.75)*L31,"0"))),1) -> 0
K32: =IF(OR(LEFT(E32,2)="ĐA",LEFT(E32,2)="DA",LEFT(E32,5)="Đồ án",LEFT(E32,5)="Đồán ",LEFT(E32,9)="Sinh hoạt",LEFT(E32,9)="sinh hoạt",LEFT(E32,6)="Cố vấn",LEFT(E32,6)="cố vấn",LEFT(E32,4)="cvht",LEFT(E32,4)="CVHT",LEFT(E32,4)="shcn",LEFT(E32,4)="SHCN"),0,(IF(AND(H32>0,J32>0),IF(J32>60,1.3,IF(J32>35,1.2,1)),0))) -> 0 | L32: =IF(OR(LEFT(E32,2)="ĐA",LEFT(E32,2)="DA",LEFT(E32,5)="Đồ án",LEFT(E32,5)="Đồán "),0,IF(AND(J32>0,I32>0),IF(AND(OR(LEFT(E32,4)="GDQP",LEFT(E32,4)="gdqp",LEFT(E32,19)="Giáo dục quốc phòng"),J32>50),1.3,IF(J32>35,1.2,IF(J32>29,1.1,1))),0)) -> 0 | M32: =ROUND(IF(OR(LEFT(E32,2)="ĐA",LEFT(E32,2)="DA",LEFT(E32,5)="Đồ án",LEFT(E32,5)="Đồán "),J32*0.5,(IF(H32>0,H32*K32,"0")+IF(I32>0,(I32*0.75)*L32,"0"))),1) -> 0
K33: =IF(OR(LEFT(E33,2)="ĐA",LEFT(E33,2)="DA",LEFT(E33,5)="Đồ án",LEFT(E33,5)="Đồán ",LEFT(E33,9)="Sinh hoạt",LEFT(E33,9)="sinh hoạt",LEFT(E33,6)="Cố vấn",LEFT(E33,6)="cố vấn",LEFT(E33,4)="cvht",LEFT(E33,4)="CVHT",LEFT(E33,4)="shcn",LEFT(E33,4)="SHCN"),0,(IF(AND(H33>0,J33>0),IF(J33>60,1.3,IF(J33>35,1.2,1)),0))) -> 0 | L33: =IF(OR(LEFT(E33,2)="ĐA",LEFT(E33,2)="DA",LEFT(E33,5)="Đồ án",LEFT(E33,5)="Đồán "),0,IF(AND(J33>0,I33>0),IF(AND(OR(LEFT(E33,4)="GDQP",LEFT(E33,4)="gdqp",LEFT(E33,19)="Giáo dục quốc phòng"),J33>50),1.3,IF(J33>35,1.2,IF(J33>29,1.1,1))),0)) -> 0 | M33: =ROUND(IF(OR(LEFT(E33,2)="ĐA",LEFT(E33,2)="DA",LEFT(E33,5)="Đồ án",LEFT(E33,5)="Đồán "),J33*0.5,(IF(H33>0,H33*K33,"0")+IF(I33>0,(I33*0.75)*L33,"0"))),1) -> 0
A34: 3 | B34: Nguyễn Văn | C34: Minh | D34: 21100094401 | E34: Cấu trúc dữ liệu & giải thuật | F34: 17C1-ANM1 | G34: 1 | H34: 15 | I34: 60 | J34: 22 | K34: =IF(OR(LEFT(E34,2)="ĐA",LEFT(E34,2)="DA",LEFT(E34,5)="Đồ án",LEFT(E34,5)="Đồán ",LEFT(E34,9)="Sinh hoạt",LEFT(E34,9)="sinh hoạt",LEFT(E34,6)="Cố vấn",LEFT(E34,6)="cố vấn",LEFT(E34,4)="cvht",LEFT(E34,4)="CVHT",LEFT(E34,4)="shcn",LEFT(E34,4)="SHCN"),0,(IF(AND(H34>0,J34>0),IF(J34>60,1.3,IF(J34>35,1.2,1)),0))) -> 1 | L34: =IF(OR(LEFT(E34,2)="ĐA",LEFT(E34,2)="DA",LEFT(E34,5)="Đồ án",LEFT(E34,5)="Đồán "),0,IF(AND(J34>0,I34>0),IF(AND(OR(LEFT(E34,4)="GDQP",LEFT(E34,4)="gdqp",LEFT(E34,19)="Giáo dục quốc phòng"),J34>50),1.3,IF(J34>35,1.2,IF(J34>29,1.1,1))),0)) -> 1 | M34: =ROUND(IF(OR(LEFT(E34,2)="ĐA",LEFT(E34,2)="DA",LEFT(E34,5)="Đồ án",LEFT(E34,5)="Đồán "),J34*0.5,(IF(H34>0,H34*K34,"0")+IF(I34>0,(I34*0.75)*L34,"0"))),1) -> 60 | N34: 37.5 | O34: 0 | P34: =SUM(M34:M44)+N34+O34 -> 417 | Q34: 0 | R34: 38 | S34: 450 | T34: 450 | U34: 112 | V34: 112 | W34: 56 | X34: 56 | Y34: =ROUND((P34-T34),1) -> -33 | Z34: =IF(OR(SUM(V34:V44)="",SUM(Q34:Q44)=""),0,IF(OR(SUM(U34:U44)=320,SUM(V34:V44)>0),ROUND((SUM(Q34:Q44)-SUM(V34:V44)),1),0)) -> -112 | AA34: =IF(OR(SUM(X34:X44)="",SUM(R34:R44)=""),0,IF(OR(SUM(W34:W44)=160,SUM(X34:X44)>0),ROUND((SUM(R34:R44)-SUM(X34:X44)),1),0)) -> -18 | AC34: =SUM(Y34:AA44) -> -163
D35: 21100094404 | E35: Cấu trúc dữ liệu & giải thuật | F35: 17C1-QTM1 | G35: 1 | H35: 15 | I35: 60 | J35: 53 | K35: =IF(OR(LEFT(E35,2)="ĐA",LEFT(E35,2)="DA",LEFT(E35,5)="Đồ án",LEFT(E35,5)="Đồán ",LEFT(E35,9)="Sinh hoạt",LEFT(E35,9)="sinh hoạt",LEFT(E35,6)="Cố vấn",LEFT(E35,6)="cố vấn",LEFT(E35,4)="cvht",LEFT(E35,4)="CVHT",LEFT(E35,4)="shcn",LEFT(E35,4)="SHCN"),0,(IF(AND(H35>0,J35>0),IF(J35>60,1.3,IF(J35>35,1.2,1)),0))) -> 1.2 | L35: =IF(OR(LEFT(E35,2)="ĐA",LEFT(E35,2)="DA",LEFT(E35,5)="Đồ án",LEFT(E35,5)="Đồán "),0,IF(AND(J35>0,I35>0),IF(AND(OR(LEFT(E35,4)="GDQP",LEFT(E35,4)="gdqp",LEFT(E35,19)="Giáo dục quốc phòng"),J35>50),1.3,IF(J35>35,1.2,IF(J35>29,1.1,1))),0)) -> 1.2 | M35: =ROUND(IF(OR(LEFT(E35,2)="ĐA",LEFT(E35,2)="DA",LEFT(E35,5)="Đồ án",LEFT(E35,5)="Đồán "),J35*0.5,(IF(H35>0,H35*K35,"0")+IF(I35>0,(I35*0.75)*L35,"0"))),1) -> 72
D36: 71400106702 | E36: Kỹ thuật lập trình 1 | F36: 18T4-THU1 | G36: 1 | H36: 15 | I36: 0 | J36: 77 | K36: =IF(OR(LEFT(E36,2)="ĐA",LEFT(E36,2)="DA",LEFT(E36,5)="Đồ án",LEFT(E36,5)="Đồán ",LEFT(E36,9)="Sinh hoạt",LEFT(E36,9)="sinh hoạt",LEFT(E36,6)="Cố vấn",LEFT(E36,6)="cố vấn",LEFT(E36,4)="cvht",LEFT(E36,4)="CVHT",LEFT(E36,4)="shcn",LEFT(E36,4)="SHCN"),0,(IF(AND(H36>0,J36>0),IF(J36>60,1.3,IF(J36>35,1.2,1)),0))) -> 1.3 | L36: =IF(OR(LEFT(E36,2)="ĐA",LEFT(E36,2)="DA",LEFT(E36,5)="Đồ án",LEFT(E36,5)="Đồán "),0,IF(AND(J36>0,I36>0),IF(AND(OR(LEFT(E36,4)="GDQP",LEFT(E36,4)="gdqp",LEFT(E36,19)="Giáo dục quốc phòng"),J36>50),1.3,IF(J36>35,1.2,IF(J36>29,1.1,1))),0)) -> 0 | M36: =ROUND(IF(OR(LEFT(E36,2)="ĐA",LEFT(E36,2)="DA",LEFT(E36,5)="Đồ án",LEFT(E36,5)="Đồán "),J36*0.5,(IF(H36>0,H36*K36,"0")+IF(I36>0,(I36*0.75)*L36,"0"))),1) -> 19.5
D37: 71400106702 | E37: Kỹ thuật lập trình 1 | F37: 18T4-THU1 | G37: 1 | H37: 0 | I37: 60 | J37: 39 | K37: =IF(OR(LEFT(E37,2)="ĐA",LEFT(E37,2)="DA",LEFT(E37,5)="Đồ án",LEFT(E37,5)="Đồán ",LEFT(E37,9)="Sinh hoạt",LEFT(E37,9)="sinh hoạt",LEFT(E37,6)="Cố vấn",LEFT(E37,6)="cố vấn",LEFT(E37,4)="cvht",LEFT(E37,4)="CVHT",LEFT(E37,4)="shcn",LEFT(E37,4)="SHCN"),0,(IF(AND(H37>0,J37>0),IF(J37>60,1.3,IF(J37>35,1.2,1)),0))) -> 0 | L37: =IF(OR(LEFT(E37,2)="ĐA",LEFT(E37,2)="DA",LEFT(E37,5)="Đồ án",LEFT(E37,5)="Đồán "),0,IF(AND(J37>0,I37>0),IF(AND(OR(LEFT(E37,4)="GDQP",LEFT(E37,4)="gdqp",LEFT(E37,19)="Giáo dục quốc phòng"),J37>50),1.3,IF(J37>35,1.2,IF(J37>29,1.1,1))),0)) -> 1.2 | M37: =ROUND(IF(OR(LEFT(E37,2)="ĐA",LEFT(E37,2)="DA",LEFT(E37,5)="Đồ án",LEFT(E37,5)="Đồán "),J37*0.5,(IF(H37>0,H37*K37,"0")+IF(I37>0,(I37*0.75)*L37,"0"))),1) -> 54
D38: 71400106708 | E38: Kỹ thuật lập trình 1 | F38: 18T4-THU2 | G38: 1 | H38: 0 | I38: 60 | J38: 38 | K38: =IF(OR(LEFT(E38,2)="ĐA",LEFT(E38,2)="DA",LEFT(E38,5)="Đồ án",LEFT(E38,5)="Đồán ",LEFT(E38,9)="Sinh hoạt",LEFT(E38,9)="sinh hoạt",LEFT(E38,6)="Cố vấn",LEFT(E38,6)="cố vấn",LEFT(E38,4)="cvht",LEFT(E38,4)="CVHT",LEFT(E38,4)="shcn",LEFT(E38,4)="SHCN"),0,(IF(AND(H38>0,J38>0),IF(J38>60,1.3,IF(J38>35,1.2,1)),0))) -> 0 | L38: =IF(OR(LEFT(E38,2)="ĐA",LEFT(E38,2)="DA",LEFT(E38,5)="Đồ án",LEFT(E38,5)="Đồán "),0,IF(AND(J38>0,I38>0),IF(AND(OR(LEFT(E38,4)="GDQP",LEFT(E38,4)="gdqp",LEFT(E38,19)="Giáo dục quốc phòng"),J38>50),1.3,IF(J38>35,1.2,IF(J38>29,1.1,1))),0)) -> 1.2 | M38: =ROUND(IF(OR(LEFT(E38,2)="ĐA",LEFT(E38,2)="DA",LEFT(E38,5)="Đồ án",LEFT(E38,5)="Đồán "),J38*0.5,(IF(H38>0,H38*K38,"0")+IF(I38>0,(I38*0.75)*L38,"0"))),1) -> 54
D39: 21100093906 | E39: Cơ sở dữ liệu | F39: 18C1-LTM2 | G39: 1 | H39: 15 | I39: 30 | J39: 54 | K39: =IF(OR(LEFT(E39,2)="ĐA",LEFT(E39,2)="DA",LEFT(E39,5)="Đồ án",LEFT(E39,5)="Đồán ",LEFT(E39,9)="Sinh hoạt",LEFT(E39,9)="sinh hoạt",LEFT(E39,6)="Cố vấn",LEFT(E39,6)="cố vấn",LEFT(E39,4)="cvht",LEFT(E39,4)="CVHT",LEFT(E39,4)="shcn",LEFT(E39,4)="SHCN"),0,(IF(AND(H39>0,J39>0),IF(J39>60,1.3,IF(J39>35,1.2,1)),0))) -> 1.2 | L39: =IF(OR(LEFT(E39,2)="ĐA",LEFT(E39,2)="DA",LEFT(E39,5)="Đồ án",LEFT(E39,5)="Đồán "),0,IF(AND(J39>0,I39>0),IF(AND(OR(LEFT(E39,4)="GDQP",LEFT(E39,4)="gdqp",LEFT(E39,19)="Giáo dục quốc phòng"),J39>50),1.3,IF(J39>35,1.2,IF(J39>29,1.1,1))),0)) -> 1.2 | M39: =ROUND(IF(OR(LEFT(E39,2)="ĐA",LEFT(E39,2)="DA",LEFT(E39,5)="Đồ án",LEFT(E39,5)="Đồán "),J39*0.5,(IF(H39>0,H39*K39,"0")+IF(I39>0,(I39*0.75)*L39,"0"))),1) -> 45
D40: 21100119809 | E40: Tin học | F40: 18C1-TMĐ1 | G40: 1 | H40: 30 | I40: 60 | J40: 17 | K40: =IF(OR(LEFT(E40,2)="ĐA",LEFT(E40,2)="DA",LEFT(E40,5)="Đồ án",LEFT(E40,5)="Đồán ",LEFT(E40,9)="Sinh hoạt",LEFT(E40,9)="sinh hoạt",LEFT(E40,6)="Cố vấn",LEFT(E40,6)="cố vấn",LEFT(E40,4)="cvht",LEFT(E40,4)="CVHT",LEFT(E40,4)="shcn",LEFT(E40,4)="SHCN"),0,(IF(AND(H40>0,J40>0),IF(J40>60,1.3,IF(J40>35,1.2,1)),0))) -> 1 | L40: =IF(OR(LEFT(E40,2)="ĐA",LEFT(E40,2)="DA",LEFT(E40,5)="Đồ án",LEFT(E40,5)="Đồán "),0,IF(AND(J40>0,I40>0),IF(AND(OR(LEFT(E40,4)="GDQP",LEFT(E40,4)="gdqp",LEFT(E40,19)="Giáo dục quốc phòng"),J40>50),1.3,IF(J40>35,1.2,IF(J40>29,1.1,1))),0)) -> 1 | M40: =ROUND(IF(OR(LEFT(E40,2)="ĐA",LEFT(E40,2)="DA",LEFT(E40,5)="Đồ án",LEFT(E40,5)="Đồán "),J40*0.5,(IF(H40>0,H40*K40,"0")+IF(I40>0,(I40*0.75)*L40,"0"))),1) -> 75
K41: =IF(OR(LEFT(E41,2)="ĐA",LEFT(E41,2)="DA",LEFT(E41,5)="Đồ án",LEFT(E41,5)="Đồán ",LEFT(E41,9)="Sinh hoạt",LEFT(E41,9)="sinh hoạt",LEFT(E41,6)="Cố vấn",LEFT(E41,6)="cố vấn",LEFT(E41,4)="cvht",LEFT(E41,4)="CVHT",LEFT(E41,4)="shcn",LEFT(E41,4)="SHCN"),0,(IF(AND(H41>0,J41>0),IF(J41>60,1.3,IF(J41>35,1.2,1)),0))) -> 0 | L41: =IF(OR(LEFT(E41,2)="ĐA",LEFT(E41,2)="DA",LEFT(E41,5)="Đồ án",LEFT(E41,5)="Đồán "),0,IF(AND(J41>0,I41>0),IF(AND(OR(LEFT(E41,4)="GDQP",LEFT(E41,4)="gdqp",LEFT(E41,19)="Giáo dục quốc phòng"),J41>50),1.3,IF(J41>35,1.2,IF(J41>29,1.1,1))),0)) -> 0 | M41: =ROUND(IF(OR(LEFT(E41,2)="ĐA",LEFT(E41,2)="DA",LEFT(E41,5)="Đồ án",LEFT(E41,5)="Đồán "),J41*0.5,(IF(H41>0,H41*K41,"0")+IF(I41>0,(I41*0.75)*L41,"0"))),1) -> 0
K42: =IF(OR(LEFT(E42,2)="ĐA",LEFT(E42,2)="DA",LEFT(E42,5)="Đồ án",LEFT(E42,5)="Đồán ",LEFT(E42,9)="Sinh hoạt",LEFT(E42,9)="sinh hoạt",LEFT(E42,6)="Cố vấn",LEFT(E42,6)="cố vấn",LEFT(E42,4)="cvht",LEFT(E42,4)="CVHT",LEFT(E42,4)="shcn",LEFT(E42,4)="SHCN"),0,(IF(AND(H42>0,J42>0),IF(J42>60,1.3,IF(J42>35,1.2,1)),0))) -> 0 | L42: =IF(OR(LEFT(E42,2)="ĐA",LEFT(E42,2)="DA",LEFT(E42,5)="Đồ án",LEFT(E42,5)="Đồán "),0,IF(AND(J42>0,I42>0),IF(AND(OR(LEFT(E42,4)="GDQP",LEFT(E42,4)="gdqp",LEFT(E42,19)="Giáo dục quốc phòng"),J42>50),1.3,IF(J42>35,1.2,IF(J42>29,1.1,1))),0)) -> 0 | M42: =ROUND(IF(OR(LEFT(E42,2)="ĐA",LEFT(E42,2)="DA",LEFT(E42,5)="Đồ án",LEFT(E42,5)="Đồán "),J42*0.5,(IF(H42>0,H42*K42,"0")+IF(I42>0,(I42*0.75)*L42,"0"))),1) -> 0
K43: =IF(OR(LEFT(E43,2)="ĐA",LEFT(E43,2)="DA",LEFT(E43,5)="Đồ án",LEFT(E43,5)="Đồán ",LEFT(E43,9)="Sinh hoạt",LEFT(E43,9)="sinh hoạt",LEFT(E43,6)="Cố vấn",LEFT(E43,6)="cố vấn",LEFT(E43,4)="cvht",LEFT(E43,4)="CVHT",LEFT(E43,4)="shcn",LEFT(E43,4)="SHCN"),0,(IF(AND(H43>0,J43>0),IF(J43>60,1.3,IF(J43>35,1.2,1)),0))) -> 0 | L43: =IF(OR(LEFT(E43,2)="ĐA",LEFT(E43,2)="DA",LEFT(E43,5)="Đồ án",LEFT(E43,5)="Đồán "),0,IF(AND(J43>0,I43>0),IF(AND(OR(LEFT(E43,4)="GDQP",LEFT(E43,4)="gdqp",LEFT(E43,19)="Giáo dục quốc phòng"),J43>50),1.3,IF(J43>35,1.2,IF(J43>29,1.1,1))),0)) -> 0 | M43: =ROUND(IF(OR(LEFT(E43,2)="ĐA",LEFT(E43,2)="DA",LEFT(E43,5)="Đồ án",LEFT(E43,5)="Đồán "),J43*0.5,(IF(H43>0,H43*K43,"0")+IF(I43>0,(I43*0.75)*L43,"0"))),1) -> 0
L44: =IF(OR(LEFT(E44,2)="ĐA",LEFT(E44,2)="DA",LEFT(E44,5)="Đồ án",LEFT(E44,5)="Đồán "),0,IF(AND(J44>0,I44>0),IF(AND(OR(LEFT(E44,4)="GDQP",LEFT(E44,4)="gdqp",LEFT(E44,19)="Giáo dục quốc phòng"),J44>50),1.3,IF(J44>35,1.2,IF(J44>29,1.1,1))),0)) -> 0 | M44: =ROUND(IF(OR(LEFT(E44,2)="ĐA",LEFT(E44,2)="DA",LEFT(E44,5)="Đồ án",LEFT(E44,5)="Đồán "),J44*0.5,(IF(H44>0,H44*K44,"0")+IF(I44>0,(I44*0.75)*L44,"0"))),1) -> 0
A45: 4 | B45: Vũ Thị Thái | C45: Linh | N45: 139.5 | O45: 0 | P45: =SUM(M45:M63)+N45+O45 -> 139.5 | Q45: 0 | R45: 40 | S45: 450 | T45: 450 | U45: 112 | V45: 112 | W45: 56 | X45: 56 | Y45: =ROUND((P45-T45),1) -> -310.5 | Z45: =IF(OR(SUM(V45:V63)="",SUM(Q45:Q63)=""),0,IF(OR(SUM(U45:U63)=320,SUM(V45:V63)>0),ROUND((SUM(Q45:Q63)-SUM(V45:V63)),1),0)) -> -112 | AA45: =IF(OR(SUM(X45:X63)="",SUM(R45:R63)=""),0,IF(OR(SUM(W45:W63)=160,SUM(X45:X63)>0),ROUND((SUM(R45:R63)-SUM(X45:X63)),1),0)) -> -16 | AC45: =SUM(Y45:AA63) -> -438.5
A64: 5 | B64: Nguyễn Văn | C64: Danh | N64: 67.5 | O64: 0 | P64: =SUM(M64:M82)+N64+O64 -> 67.5 | Q64: 0 | R64: 39 | S64: 450 | T64: 450 | U64: 112 | V64: 112 | W64: 56 | X64: 56 | Y64: =ROUND((P64-T64),1) -> -382.5 | Z64: =IF(OR(SUM(V64:V82)="",SUM(Q64:Q82)=""),0,IF(OR(SUM(U64:U82)=320,SUM(V64:V82)>0),ROUND((SUM(Q64:Q82)-SUM(V64:V82)),1),0)) -> -112 | AA64: =IF(OR(SUM(X64:X82)="",SUM(R64:R82)=""),0,IF(OR(SUM(W64:W82)=160,SUM(X64:X82)>0),ROUND((SUM(R64:R82)-SUM(X64:X82)),1),0)) -> -17 | AC64: =SUM(Y64:AA82) -> -511.5
A83: 6 | B83: Nguyễn Thị | C83: Thủy | N83: 67.5 | O83: 0 | P83: =SUM(M83:M98)+N83+O83 -> 67.5 | Q83: 0 | R83: 53 | S83: 450 | T83: 450 | U83: 112 | V83: 112 | W83: 56 | X83: 56 | Y83: =ROUND((P83-T83),1) -> -382.5 | Z83: =IF(OR(SUM(V83:V98)="",SUM(Q83:Q98)=""),0,IF(OR(SUM(U83:U98)=320,SUM(V83:V98)>0),ROUND((SUM(Q83:Q98)-SUM(V83:V98)),1),0)) -> -112 | AA83: =IF(OR(SUM(X83:X98)="",SUM(R83:R98)=""),0,IF(OR(SUM(W83:W98)=160,SUM(X83:X98)>0),ROUND((SUM(R83:R98)-SUM(X83:X98)),1),0)) -> -3 | AC83: =SUM(Y83:AA98) -> -497.5
A99: 7 | B99: Nguyễn Thị Thu | C99: Hồng | N99: 67.5 | O99: 0 | P99: =SUM(M99:M117)+N99+O99 -> 67.5 | Q99: 0 | R99: 55 | S99: 450 | T99: 450 | U99: 112 | V99: 112 | W99: 56 | X99: 56 | Y99: =ROUND((P99-T99),1) -> -382.5 | Z99: =IF(OR(SUM(V99:V117)="",SUM(Q99:Q117)=""),0,IF(OR(SUM(U99:U117)=320,SUM(V99:V117)>0),ROUND((SUM(Q99:Q117)-SUM(V99:V117)),1),0)) -> -112 | AA99: =IF(OR(SUM(X99:X117)="",SUM(R99:R117)=""),0,IF(OR(SUM(W99:W117)=160,SUM(X99:X117)>0),ROUND((SUM(R99:R117)-SUM(X99:X117)),1),0)) -> -1 | AC99: =SUM(Y99:AA117) -> -495.5
A118: 8 | B118: Lê Hồng | C118: Thái | N118: 89.5 | O118: 0 | P118: =SUM(M118:M133)+N118+O118 -> 89.5 | Q118: 0 | R118: 36 | S118: 267.2 | T118: 267.2 | U118: 112 | V118: 112 | W118: 56 | X118: 56 | Y118: =ROUND((P118-T118),1) -> -177.7 | Z118: =IF(OR(SUM(V118:V133)="",SUM(Q118:Q133)=""),0,IF(OR(SUM(U118:U133)=320,SUM(V118:V133)>0),ROUND((SUM(Q118:Q133)-SUM(V118:V133)),1),0)) -> -112 | AA118: =IF(OR(SUM(X118:X133)="",SUM(R118:R133)=""),0,IF(OR(SUM(W118:W133)=160,SUM(X118:X133)>0),ROUND((SUM(R118:R133)-SUM(X118:X133)),1),0)) -> -20 | AC118: =SUM(Y118:AA133) -> -309.7
A134: 9 | B134: Nguyễn Thị Khánh | C134: Thư | N134: 67.5 | O134: 0 | P134: =SUM(M134:M147)+N134+O134 -> 67.5 | Q134: 0 | R134: 44 | S134: 450 | T134: 450 | U134: 112 | V134: 112 | W134: 56 | X134: 56 | Y134: =ROUND((P134-T134),1) -> -382.5 | Z134: =IF(OR(SUM(V134:V146)="",SUM(Q134:Q146)=""),0,IF(OR(SUM(U134:U146)=320,SUM(V134:V146)>0),ROUND((SUM(Q134:Q146)-SUM(V134:V146)),1),0)) -> -112 | AA134: =IF(OR(SUM(X134:X146)="",SUM(R134:R146)=""),0,IF(OR(SUM(W134:W146)=160,SUM(X134:X146)>0),ROUND((SUM(R134:R146)-SUM(X134:X146)),1),0)) -> -12 | AC134: =SUM(Y134:AA146) -> -506.5
A149: 10 | B149: Nguyễn Sanh | C149: Cường | N149: 67.5 | P149: =SUM(M149:M160)+N149+O163 -> 67.5 | Q149: 0.0 | R149: 55 | S149: 450.0 | T149: 450.0 | U149: 112.0 | V149: 112 | W149: 56.0 | X149: 56 | Y149: =ROUND((P149-T149),1) -> -382.5 | Z149: =IF(OR(SUM(V149:V161)="",SUM(Q149:Q161)=""),0,IF(OR(SUM(U149:U161)=320,SUM(V149:V161)>0),ROUND((SUM(Q149:Q161)-SUM(V149:V161)),1),0)) -> -112 | AA149: =IF(OR(SUM(X149:X161)="",SUM(R149:R161)=""),0,IF(OR(SUM(W149:W161)=160,SUM(X149:X161)>0),ROUND((SUM(R149:R161)-SUM(X149:X161)),1),0)) -> -1 | AC149: =SUM(Y149:AA163) -> -495.5
A164: 11 | B164: Võ Anh | C164: Trang | N164: 67.5 | P164: =SUM(M164:M178)+N164+O178 -> 67.5 | Q164: 0.1 | R164: 56 | S164: 450.0 | T164: 450.0 | U164: 112.1 | V164: 112 | W164: 56 | X164: 56 | Y164: =ROUND((P164-T164),1) -> -382.5 | Z164: =IF(OR(SUM(V164:V176)="",SUM(Q164:Q176)=""),0,IF(OR(SUM(U164:U176)=320,SUM(V164:V176)>0),ROUND((SUM(Q164:Q176)-SUM(V164:V176)),1),0)) -> -112 | AA164: =IF(OR(SUM(X164:X176)="",SUM(R164:R176)=""),0,IF(OR(SUM(W164:W176)=160,SUM(X164:X176)>0),ROUND((SUM(R164:R176)-SUM(X164:X176)),1),0)) -> 0 | AC164: =SUM(Y164:AA178) -> -494.5
A179: 12 | B179: Ng Ng Hoàng Ngọc | C179: Quyên | N179: 67.5 | O179: 0 | P179: =SUM(M179:M191)+N179+O191 -> 67.5 | Q179: 0.1 | R179: 50 | S179: 450.0 | T179: 450.0 | U179: 112.1 | V179: 112 | W179: 56 | X179: 56 | Y179: =ROUND((P179-T179),1) -> -382.5 | Z179: =IF(OR(SUM(V179:V190)="",SUM(Q179:Q190)=""),0,IF(OR(SUM(U179:U190)=320,SUM(V179:V190)>0),ROUND((SUM(Q179:Q190)-SUM(V179:V190)),1),0)) -> -112 | AA179: =IF(OR(SUM(X179:X190)="",SUM(R179:R190)=""),0,IF(OR(SUM(W179:W190)=160,SUM(X179:X190)>0),ROUND((SUM(R179:R190)-SUM(X179:X190)),1),0)) -> -6 | AC179: =SUM(Y179:AA191) -> -500.5
A192: 13 | B192: Trần Việt | C192: Khánh | N192: 112.5 | O192: 0 | P192: =SUM(M192:M203)+N192+O192 -> 112.5 | Q192: 0 | R192: 50 | S192: 450 | T192: 450 | U192: 112 | V192: 112 | W192: 56 | X192: 56 | Y192: =ROUND((P192-T192),1) -> -337.5 | Z192: =IF(OR(SUM(V192:V203)="",SUM(Q192:Q203)=""),0,IF(OR(SUM(U192:U203)=320,SUM(V192:V203)>0),ROUND((SUM(Q192:Q203)-SUM(V192:V203)),1),0)) -> -112 | AA192: =IF(OR(SUM(X192:X203)="",SUM(R192:R203)=""),0,IF(OR(SUM(W192:W203)=160,SUM(X192:X203)>0),ROUND((SUM(R192:R203)-SUM(X192:X203)),1),0)) -> -6 | AC192: =SUM(Y192:AA203) -> -455.5
A204: 14 | B204: Đỗ Thị Hải | C204: Yến | N204: 67.5 | O204: 0 | P204: =SUM(M204:M215)+N204+O204 -> 67.5 | Q204: 0 | R204: 55 | S204: 450 | T204: 450 | U204: 112 | V204: 112 | W204: 56 | X204: 56 | Y204: =ROUND((P204-T204),1) -> -382.5 | Z204: =IF(OR(SUM(V204:V215)="",SUM(Q204:Q215)=""),0,IF(OR(SUM(U204:U215)=320,SUM(V204:V215)>0),ROUND((SUM(Q204:Q215)-SUM(V204:V215)),1),0)) -> -112 | AA204: =IF(OR(SUM(X204:X215)="",SUM(R204:R215)=""),0,IF(OR(SUM(W204:W215)=160,SUM(X204:X215)>0),ROUND((SUM(R204:R215)-SUM(X204:X215)),1),0)) -> -1 | AC204: =SUM(Y204:AA215) -> -495.5
A216: 15 | B216: Trần Vĩnh | C216: Xuyên | N216: 67.5 | O216: 0 | P216: =SUM(M216:M228)+N216+O216 -> 67.5 | Q216: 0 | R216: 52 | S216: 450 | T216: 450 | U216: 112 | V216: 112 | W216: 56 | X216: 56 | Y216: =ROUND((P216-T216),1) -> -382.5 | Z216: =IF(OR(SUM(V216:V228)="",SUM(Q216:Q228)=""),0,IF(OR(SUM(U216:U228)=320,SUM(V216:V228)>0),ROUND((SUM(Q216:Q228)-SUM(V216:V228)),1),0)) -> -112 | AA216: =IF(OR(SUM(X216:X228)="",SUM(R216:R228)=""),0,IF(OR(SUM(W216:W228)=160,SUM(X216:X228)>0),ROUND((SUM(R216:R228)-SUM(X216:X228)),1),0)) -> -4 | AC216: =SUM(Y216:AA228) -> -498.5
A229: 16 | B229: Nguyễn Cao | C229: Phong | N229: 89.5 | P229: =SUM(M229:M243)+N229+O229 -> 89.5 | Q229: 0 | R229: 35 | S229: 450 | T229: 450 | U229: 112 | V229: 112 | W229: 56 | X229: 56 | Y229: =ROUND((P229-T229),1) -> -360.5 | Z229: -112 | AA229: -21 | AC229: =SUM(Y229:AA243) -> -493.5
A244: 17 | B244: Mai Chiếm | C244: Tuấn | N244: 67.5 | P244: =SUM(M244:M255)+N244+O244 -> 67.5 | Q244: 0 | R244: 55 | S244: 450 | T244: 450 | U244: 112 | V244: 112 | W244: 56 | X244: 56 | Y244: =ROUND((P244-T244),1) -> -382.5 | Z244: =IF(OR(SUM(V244:V255)="",SUM(Q244:Q255)=""),0,IF(OR(SUM(U244:U255)=320,SUM(V244:V255)>0),ROUND((SUM(Q244:Q255)-SUM(V244:V255)),1),0)) -> -112 | AA244: =IF(OR(SUM(X244:X255)="",SUM(R244:R255)=""),0,IF(OR(SUM(W244:W255)=160,SUM(X244:X255)>0),ROUND((SUM(R244:R255)-SUM(X244:X255)),1),0)) -> -1 | AC244: =SUM(Y244:AA255) -> -495.5
A256: 18 | B256: Lê Quý Hưng | C256: Quốc | N256: 67.5 | O256: 0 | P256: =SUM(M256:M278)+N256+O256 -> 67.5 | Q256: 0 | R256: 45 | S256: 450 | T256: =450 -> 450 | U256: 112 | V256: =112 -> 112 | W256: 56 | X256: =56 -> 56 | Y256: =ROUND((P256-T256),1) -> -382.5 | Z256: =IF(OR(SUM(V256:V278)="",SUM(Q256:Q278)=""),0,IF(OR(SUM(U256:U278)=320,SUM(V256:V278)>0),ROUND((SUM(Q256:Q278)-SUM(V256:V278)),1),0)) -> -112 | AA256: =IF(OR(SUM(X256:X278)="",SUM(R256:R278)=""),0,IF(OR(SUM(W256:W278)=160,SUM(X256:X278)>0),ROUND((SUM(R256:R278)-SUM(X256:X278)),1),0)) -> -11 | AC256: =SUM(Y256:AA278) -> -505.5
A279: 19 | B279: Nguyễn Văn | C279: Đôn | N279: 112.5 | O279: 0 | P279: =SUM(M279:M293)+N279+O279 -> 112.5 | Q279: 42.9 | R279: 56 | S279: 450 | T279: 450 | U279: 112 | V279: 112 | W279: 56 | X279: 56 | Y279: =ROUND((P279-T279),1) -> -337.5 | Z279: =IF(OR(SUM(V279:V293)="",SUM(Q279:Q293)=""),0,IF(OR(SUM(U279:U293)=320,SUM(V279:V293)>0),ROUND((SUM(Q279:Q293)-SUM(V279:V293)),1),0)) -> -69.1 | AA279: =IF(OR(SUM(X279:X293)="",SUM(R279:R293)=""),0,IF(OR(SUM(W279:W293)=160,SUM(X279:X293)>0),ROUND((SUM(R279:R293)-SUM(X279:X293)),1),0)) -> 0 | AC279: =SUM(Y279:AA293) -> -406.6
A294: 20 | B294: Bùi Văn | C294: Dũng | N294: 67.5 | P294: =SUM(M294:M314)+N294+O294 -> 67.5 | Q294: 0 | R294: 56 | S294: 450 | T294: 450 | U294: 112 | V294: 112 | W294: 56 | X294: 56 | Y294: =ROUND((P294-T294),1) -> -382.5 | Z294: =IF(OR(SUM(V294:V314)="",SUM(Q294:Q314)=""),0,IF(OR(SUM(U294:U314)=320,SUM(V294:V314)>0),ROUND((SUM(Q294:Q314)-SUM(V294:V314)),1),0)) -> -112 | AA294: =IF(OR(SUM(X294:X314)="",SUM(R294:R314)=""),0,IF(OR(SUM(W294:W314)=160,SUM(X294:X314)>0),ROUND((SUM(R294:R314)-SUM(X294:X314)),1),0)) -> 0 | AC294: =SUM(Y294:AA314) -> -494.5
A315: 21 | B315: Đậng Ngọc | C315: Đoàn | N315: 67.5 | P315: =SUM(M315:M344)+N315+O315 -> 67.5 | Q315: 0 | R315: 56 | S315: 450 | T315: 450 | U315: 112 | V315: 112 | W315: 56 | X315: 56 | Y315: =ROUND((P315-T315),1) -> -382.5 | Z315: =IF(OR(SUM(V315:V344)="",SUM(Q315:Q344)=""),0,IF(OR(SUM(U315:U344)=320,SUM(V315:V344)>0),ROUND((SUM(Q315:Q344)-SUM(V315:V344)),1),0)) -> -112 | AA315: =IF(OR(SUM(X315:X344)="",SUM(R315:R344)=""),0,IF(OR(SUM(W315:W344)=160,SUM(X315:X344)>0),ROUND((SUM(R315:R344)-SUM(X315:X344)),1),0)) -> 0 | AB315: 0 | AC315: =SUM(Y315:AA344) -> -494.5
A345: 22 | B345: Lê Tất | C345: Đạt | N345: 67.5 | P345: =SUM(M345:M361)+N345+O345 -> 67.5 | R345: 41 | S345: 450 | T345: 450 | U345: 112 | V345: 112 | W345: 56 | X345: 56 | Y345: =ROUND((P345-T345),1) -> -382.5 | Z345: =IF(OR(SUM(V345:V361)="",SUM(Q345:Q361)=""),0,IF(OR(SUM(U345:U361)=320,SUM(V345:V361)>0),ROUND((SUM(Q345:Q361)-SUM(V345:V361)),1),0)) -> -112 | AA345: =IF(OR(SUM(X345:X361)="",SUM(R345:R361)=""),0,IF(OR(SUM(W345:W361)=160,SUM(X345:X361)>0),ROUND((SUM(R345:R361)-SUM(X345:X361)),1),0)) -> -15 | AC345: =SUM(Y345:AA361) -> -509.5
A362: 23 | B362: Dương Ngọc | C362: Vọng | N362: 67.5 | P362: =SUM(M362:M379)+N362+O362 -> 67.5 | Q362: 0 | R362: 21 | S362: 450 | T362: 450 | U362: 112 | V362: 112 | W362: 56 | X362: 56 | Y362: =ROUND((P362-T362),1) -> -382.5 | Z362: =IF(OR(SUM(V362:V379)="",SUM(Q362:Q379)=""),0,IF(OR(SUM(U362:U379)=320,SUM(V362:V379)>0),ROUND((SUM(Q362:Q379)-SUM(V362:V379)),1),0)) -> -112 | AA362: =IF(OR(SUM(X362:X379)="",SUM(R362:R379)=""),0,IF(OR(SUM(W362:W379)=160,SUM(X362:X379)>0),ROUND((SUM(R362:R379)-SUM(X362:X379)),1),0)) -> -35 | AC362: =SUM(Y362:AA379) -> -529.5
A380: 24 | B380: Lê Phi | C380: Trường | N380: 67.5 | P380: =SUM(M380:M408)+N380+O380 -> 67.5 | Q380: 0 | R380: 56 | S380: 450 | T380: 450 | U380: 112 | V380: 112 | W380: 56 | X380: 56 | Y380: =ROUND((P380-T380),1) -> -382.5 | Z380: =IF(OR(SUM(V380:V408)="",SUM(Q380:Q408)=""),0,IF(OR(SUM(U380:U408)=320,SUM(V380:V408)>0),ROUND((SUM(Q380:Q408)-SUM(V380:V408)),1),0)) -> -112 | AA380: =IF(OR(SUM(X380:X408)="",SUM(R380:R408)=""),0,IF(OR(SUM(W380:W408)=160,SUM(X380:X408)>0),ROUND((SUM(R380:R408)-SUM(X380:X408)),1),0)) -> 0 | AC380: =SUM(Y380:AA408) -> -494.5
A409: 25 | B409: Nguyễn Ngọc | C409: Tuyên | N409: 67.5 | P409: =SUM(M409:M422)+N409+O409 -> 67.5 | Q409: 0 | R409: 56 | S409: 450 | T409: 450 | U409: 112 | V409: 112 | W409: 56 | X409: 56 | Y409: =ROUND((P409-T409),1) -> -382.5 | Z409: =IF(OR(SUM(V409)="",SUM(Q409)=""),0,IF(OR(SUM(U409)=320,SUM(V409)>0),ROUND((SUM(Q409)-SUM(V409)),1),0)) -> -112 | AA409: =IF(OR(SUM(X409:X438)="",SUM(R409:R438)=""),0,IF(OR(SUM(W409:W438)=160,SUM(X409:X438)>0),ROUND((SUM(R409:R438)-SUM(X409:X438)),1),0)) -> 0 | AC409: =SUM(Y409:AA422) -> -494.5
A439: 26 | B439: Nguyễn Duy | C439: Đạt | N439: =67.5/2 -> 33.75 | O439: 32.4 | P439: =SUM(M439:M446)+N439+O439 -> 66.15 | Q439: 140.4 | R439: 0 | S439: =450/44*25 -> 255.68182 | T439: 255.7 | U439: 112 | V439: 112 | W439: 56 | X439: 56 | Y439: =ROUND((P439-T439),1) -> -189.6 | Z439: 0 | AA439: -56 | AC439: =SUM(Y439:AA468) -> -245.6
A1189: TỔNG CỘNG | H1189: =SUM(H11:H1188) -> 225 | I1189: =SUM(I11:I1188) -> 600 | M1189: =SUM(M11:M1188) -> 769.5 | N1189: =SUM(N11:N1188) -> 2133.55 | O1189: =SUM(O11:O1188) -> 32.4 | P1189: =SUM(P11:P1188) -> 2935.45 | Q1189: =SUM(Q11:Q1188) -> 204.7 | R1189: =SUM(R11:R1188) -> 1181 | S1189: =SUM(S11:S1188) -> 9972.8818 | T1189: =SUM(T11:T1188) -> 9972.9 | ... AC1189: =SUM(AC11:AC1188) -> -11398.2
B1190: Cách tính: Cột (10) = cột (6) x cột (8) + (cột (7) x cột (9)) X 0.75 | K1190: Cột (13) = cột (10) + cột (11) + cột (12). | S1190: Cột (19) = cột (13) - cột (16).
B1191: Cột (20) = cột (14) - cột (17) | K1191: Cột (21) = cột (15) - cột (18) | S1191: Cột (23) = cột (19) + cột (20) + cột (21).
B1193: Lưu ý: Cột (8), cột (9), Cột (10) , cột (13), cột (19), cột (20), cột (21), cột (23) : Không nhập dữ liệu vì đã cài sẵn công thức tính.
Y1195: Thành phố Hồ Chí Minh, ngày tháng năm 2018
C1196: TRƯỞNG P. TS-ĐT | H1196: TRƯỞNG TỔ THANH TRA - PHÁP CHẾ | Q1196: TRƯỞNG PHÒNG KT&ĐBCL | Y1196: TRƯỞNG KHOA

Sheet GV
AB1: Mẫu A1
A2: UBND THÀNH PHỐ HỒ CHÍ MINH | V2: CỘNG HÒA XÃ HỘI CHỦ NGHĨA VIỆT NAM
A3: TRƯỜNG CAO ĐẲNG LÝ TỰ TRỌNG THÀNH PHỐ HỒ CHÍ MINH | V3: Độc lập - Tự do - Hạnh phúc
A4: BẢNG TÍNH KHỐI LƯỢNG CÔNG VIỆC CỦA GIẢNG VIÊN TRONG NĂM HỌC 2017 - 2018
A5: KHOA : CÔNG NGHỆ THÔNG TIN
A7: TT | B7: Họ và Tên | D7: MÃ LỚP HP | E7: Môn dạy | F7: lớp dạy | G7: Học kỳ | H7: Thực hiện trong năm học | S7: Số tiết chuẩn giảng dạy | T7: Số tiết chuẩn giảng dạy còn lại | U7: Số tiết chuẩn "Học tập, bồi dưỡng chuẩn hóa, bồi dưỡng nâng cao, nghiên cứu khoa học" | V7: Số tiết chuẩn "Học tập, bồi dưỡng chuẩn hóa, bồi dưỡng nâng cao, nghiên cứu khoa học" còn lại | W7: Số tiết chuẩn "Thực tập tại doanh nghiệp hoặc cơ quan chuyên môn" | X7: Số tiết chuẩn "Thực tập tại doanh nghiệp hoặc cơ quan chuyên môn" còn lại | Y7: Số tiết thừa, thiếu giảng dạy | Z7: Số tiết thừa, thiếu "Học tập, bồi dưỡng chuẩn hóa, bồi dưỡng nâng cao, nghiên cứu khoa học" | AA7: Số tiết thừa, thiếu "Thực tập tại doanh nghiệp hoặc cơ quan chuyên môn" | AB7: Số tiết thiếu năm học 2016-2017 | AC7: Tổng số tiết thừa, thiếu năm học 2017-2018
H8: Chưa nhân hệ số | J8: Sĩ số LHP | K8: Hệ số | M8: Số tiết quy đổi và đã nhân hệ số | N8: Kiêm nhiệm | O8: Số tiết soạn đề, coi thi, chấm thi | P8: Tổng tiết thực hiện | Q8: Số tiết "Học tập, bồi dưỡng chuẩn hóa, bồi dưỡng nâng cao, nghiên cứu khoa học" | R8: Số tiết "Thực tập tại doanh nghiệp hoặc cơ quan chuyên môn"
H9: LT | I9: TH | J9: Chính thức và học lại | K9: LT | L9: TH
A10: (1) | B10: (2) | E10: (3) | F10: (4) | G10: (5) | H10: (6) | I10: (7) | K10: =IF(OR(LEFT(E10,2)="ĐA",LEFT(E10,2)="DA",LEFT(E10,5)="Đồ án",LEFT(E10,5)="Đồán ",LEFT(E10,9)="Sinh hoạt",LEFT(E10,9)="sinh hoạt",LEFT(E10,6)="Cố vấn",LEFT(E10,6)="cố vấn",LEFT(E10,4)="cvht",LEFT(E10,4)="CVHT",LEFT(E10,4)="shcn",LEFT(E10,4)="SHCN"),0,(IF(AND(H10>0,J10>0),IF(J10>60,1.3,IF(J10>35,1.2,1)),0))) -> 0 | L10: =IF(OR(LEFT(E10,2)="ĐA",LEFT(E10,2)="DA",LEFT(E10,5)="Đồ án",LEFT(E10,5)="Đồán "),0,IF(AND(J10>0,I10>0),IF(AND(OR(LEFT(E10,4)="GDQP",LEFT(E10,4)="gdqp",LEFT(E10,19)="Giáo dục quốc phòng"),J10>50),1.3,IF(J10>35,1.2,IF(J10>29,1.1,1))),0)) -> 0 | M10: =ROUND(IF(OR(LEFT(E10,2)="ĐA",LEFT(E10,2)="DA",LEFT(E10,5)="Đồ án",LEFT(E10,5)="Đồán "),J10*0.5,(IF(H10>0,H10*K10,"0")+IF(I10>0,(I10*0.75)*L10,"0"))),1) -> 0 | N10: (11) | O10: (12) | P10: (13) | Q10: (14) | R10: (15) | T10: (16) | V10: (17) | X10: (18) | Y10: (19) | Z10: (20) | AA10: (21) | AB10: (22) | AC10: (23)
A11: 1 | K11: =IF(OR(LEFT(E11,2)="ĐA",LEFT(E11,2)="DA",LEFT(E11,5)="Đồ án",LEFT(E11,5)="Đồán ",LEFT(E11,9)="Sinh hoạt",LEFT(E11,9)="sinh hoạt",LEFT(E11,6)="Cố vấn",LEFT(E11,6)="cố vấn",LEFT(E11,4)="cvht",LEFT(E11,4)="CVHT",LEFT(E11,4)="shcn",LEFT(E11,4)="SHCN"),0,(IF(AND(H11>0,J11>0),IF(J11>60,1.3,IF(J11>35,1.2,1)),0))) -> 0 | L11: =IF(OR(LEFT(E11,2)="ĐA",LEFT(E11,2)="DA",LEFT(E11,5)="Đồ án",LEFT(E11,5)="Đồán "),0,IF(AND(J11>0,I11>0),IF(AND(OR(LEFT(E11,4)="GDQP",LEFT(E11,4)="gdqp",LEFT(E11,19)="Giáo dục quốc phòng"),J11>50),1.3,IF(J11>35,1.2,IF(J11>29,1.1,1))),0)) -> 0 | M11: =ROUND(IF(OR(LEFT(E11,2)="ĐA",LEFT(E11,2)="DA",LEFT(E11,5)="Đồ án",LEFT(E11,5)="Đồán "),J11*0.5,(IF(H11>0,H11*K11,"0")+IF(I11>0,(I11*0.75)*L11,"0"))),1) -> 0 | O11: 0 | P11: =SUM(M11:M22)+N11+O11 -> 0 | S11: 450 | T11: 450 | U11: 112 | V11: 112 | W11: 56 | X11: 56 | Y11: =ROUND((P11-T11),1) -> -450 | Z11: =IF(OR(SUM(V11:V22)="",SUM(Q11:Q22)=""),0,IF(OR(SUM(U11:U22)=320,SUM(V11:V22)>0),ROUND((SUM(Q11:Q22)-SUM(V11:V22)),1),0)) -> -112 | AA11: =IF(OR(SUM(X11:X22)="",SUM(R11:R22)=""),0,IF(OR(SUM(W11:W22)=160,SUM(X11:X22)>0),ROUND((SUM(R11:R22)-SUM(X11:X22)),1),0)) -> -56 | AC11: =SUM(Y11:AA22) -> -618
K12: =IF(OR(LEFT(E12,2)="ĐA",LEFT(E12,2)="DA",LEFT(E12,5)="Đồ án",LEFT(E12,5)="Đồán ",LEFT(E12,9)="Sinh hoạt",LEFT(E12,9)="sinh hoạt",LEFT(E12,6)="Cố vấn",LEFT(E12,6)="cố vấn",LEFT(E12,4)="cvht",LEFT(E12,4)="CVHT",LEFT(E12,4)="shcn",LEFT(E12,4)="SHCN"),0,(IF(AND(H12>0,J12>0),IF(J12>60,1.3,IF(J12>35,1.2,1)),0))) -> 0 | L12: =IF(OR(LEFT(E12,2)="ĐA",LEFT(E12,2)="DA",LEFT(E12,5)="Đồ án",LEFT(E12,5)="Đồán "),0,IF(AND(J12>0,I12>0),IF(AND(OR(LEFT(E12,4)="GDQP",LEFT(E12,4)="gdqp",LEFT(E12,19)="Giáo dục quốc phòng"),J12>50),1.3,IF(J12>35,1.2,IF(J12>29,1.1,1))),0)) -> 0 | M12: =ROUND(IF(OR(LEFT(E12,2)="ĐA",LEFT(E12,2)="DA",LEFT(E12,5)="Đồ án",LEFT(E12,5)="Đồán "),J12*0.5,(IF(H12>0,H12*K12,"0")+IF(I12>0,(I12*0.75)*L12,"0"))),1) -> 0
K13: =IF(OR(LEFT(E13,2)="ĐA",LEFT(E13,2)="DA",LEFT(E13,5)="Đồ án",LEFT(E13,5)="Đồán ",LEFT(E13,9)="Sinh hoạt",LEFT(E13,9)="sinh hoạt",LEFT(E13,6)="Cố vấn",LEFT(E13,6)="cố vấn",LEFT(E13,4)="cvht",LEFT(E13,4)="CVHT",LEFT(E13,4)="shcn",LEFT(E13,4)="SHCN"),0,(IF(AND(H13>0,J13>0),IF(J13>60,1.3,IF(J13>35,1.2,1)),0))) -> 0 | L13: =IF(OR(LEFT(E13,2)="ĐA",LEFT(E13,2)="DA",LEFT(E13,5)="Đồ án",LEFT(E13,5)="Đồán "),0,IF(AND(J13>0,I13>0),IF(AND(OR(LEFT(E13,4)="GDQP",LEFT(E13,4)="gdqp",LEFT(E13,19)="Giáo dục quốc phòng"),J13>50),1.3,IF(J13>35,1.2,IF(J13>29,1.1,1))),0)) -> 0 | M13: =ROUND(IF(OR(LEFT(E13,2)="ĐA",LEFT(E13,2)="DA",LEFT(E13,5)="Đồ án",LEFT(E13,5)="Đồán "),J13*0.5,(IF(H13>0,H13*K13,"0")+IF(I13>0,(I13*0.75)*L13,"0"))),1) -> 0
K14: =IF(OR(LEFT(E14,2)="ĐA",LEFT(E14,2)="DA",LEFT(E14,5)="Đồ án",LEFT(E14,5)="Đồán ",LEFT(E14,9)="Sinh hoạt",LEFT(E14,9)="sinh hoạt",LEFT(E14,6)="Cố vấn",LEFT(E14,6)="cố vấn",LEFT(E14,4)="cvht",LEFT(E14,4)="CVHT",LEFT(E14,4)="shcn",LEFT(E14,4)="SHCN"),0,(IF(AND(H14>0,J14>0),IF(J14>60,1.3,IF(J14>35,1.2,1)),0))) -> 0 | L14: =IF(OR(LEFT(E14,2)="ĐA",LEFT(E14,2)="DA",LEFT(E14,5)="Đồ án",LEFT(E14,5)="Đồán "),0,IF(AND(J14>0,I14>0),IF(AND(OR(LEFT(E14,4)="GDQP",LEFT(E14,4)="gdqp",LEFT(E14,19)="Giáo dục quốc phòng"),J14>50),1.3,IF(J14>35,1.2,IF(J14>29,1.1,1))),0)) -> 0 | M14: =ROUND(IF(OR(LEFT(E14,2)="ĐA",LEFT(E14,2)="DA",LEFT(E14,5)="Đồ án",LEFT(E14,5)="Đồán "),J14*0.5,(IF(H14>0,H14*K14,"0")+IF(I14>0,(I14*0.75)*L14,"0"))),1) -> 0
K15: =IF(OR(LEFT(E15,2)="ĐA",LEFT(E15,2)="DA",LEFT(E15,5)="Đồ án",LEFT(E15,5)="Đồán ",LEFT(E15,9)="Sinh hoạt",LEFT(E15,9)="sinh hoạt",LEFT(E15,6)="Cố vấn",LEFT(E15,6)="cố vấn",LEFT(E15,4)="cvht",LEFT(E15,4)="CVHT",LEFT(E15,4)="shcn",LEFT(E15,4)="SHCN"),0,(IF(AND(H15>0,J15>0),IF(J15>60,1.3,IF(J15>35,1.2,1)),0))) -> 0 | L15: =IF(OR(LEFT(E15,2)="ĐA",LEFT(E15,2)="DA",LEFT(E15,5)="Đồ án",LEFT(E15,5)="Đồán "),0,IF(AND(J15>0,I15>0),IF(AND(OR(LEFT(E15,4)="GDQP",LEFT(E15,4)="gdqp",LEFT(E15,19)="Giáo dục quốc phòng"),J15>50),1.3,IF(J15>35,1.2,IF(J15>29,1.1,1))),0)) -> 0 | M15: =ROUND(IF(OR(LEFT(E15,2)="ĐA",LEFT(E15,2)="DA",LEFT(E15,5)="Đồ án",LEFT(E15,5)="Đồán "),J15*0.5,(IF(H15>0,H15*K15,"0")+IF(I15>0,(I15*0.75)*L15,"0"))),1) -> 0
K16: =IF(OR(LEFT(E16,2)="ĐA",LEFT(E16,2)="DA",LEFT(E16,5)="Đồ án",LEFT(E16,5)="Đồán ",LEFT(E16,9)="Sinh hoạt",LEFT(E16,9)="sinh hoạt",LEFT(E16,6)="Cố vấn",LEFT(E16,6)="cố vấn",LEFT(E16,4)="cvht",LEFT(E16,4)="CVHT",LEFT(E16,4)="shcn",LEFT(E16,4)="SHCN"),0,(IF(AND(H16>0,J16>0),IF(J16>60,1.3,IF(J16>35,1.2,1)),0))) -> 0 | L16: =IF(OR(LEFT(E16,2)="ĐA",LEFT(E16,2)="DA",LEFT(E16,5)="Đồ án",LEFT(E16,5)="Đồán "),0,IF(AND(J16>0,I16>0),IF(AND(OR(LEFT(E16,4)="GDQP",LEFT(E16,4)="gdqp",LEFT(E16,19)="Giáo dục quốc phòng"),J16>50),1.3,IF(J16>35,1.2,IF(J16>29,1.1,1))),0)) -> 0 | M16: =ROUND(IF(OR(LEFT(E16,2)="ĐA",LEFT(E16,2)="DA",LEFT(E16,5)="Đồ án",LEFT(E16,5)="Đồán "),J16*0.5,(IF(H16>0,H16*K16,"0")+IF(I16>0,(I16*0.75)*L16,"0"))),1) -> 0
K17: =IF(OR(LEFT(E17,2)="ĐA",LEFT(E17,2)="DA",LEFT(E17,5)="Đồ án",LEFT(E17,5)="Đồán ",LEFT(E17,9)="Sinh hoạt",LEFT(E17,9)="sinh hoạt",LEFT(E17,6)="Cố vấn",LEFT(E17,6)="cố vấn",LEFT(E17,4)="cvht",LEFT(E17,4)="CVHT",LEFT(E17,4)="shcn",LEFT(E17,4)="SHCN"),0,(IF(AND(H17>0,J17>0),IF(J17>60,1.3,IF(J17>35,1.2,1)),0))) -> 0 | L17: =IF(OR(LEFT(E17,2)="ĐA",LEFT(E17,2)="DA",LEFT(E17,5)="Đồ án",LEFT(E17,5)="Đồán "),0,IF(AND(J17>0,I17>0),IF(AND(OR(LEFT(E17,4)="GDQP",LEFT(E17,4)="gdqp",LEFT(E17,19)="Giáo dục quốc phòng"),J17>50),1.3,IF(J17>35,1.2,IF(J17>29,1.1,1))),0)) -> 0 | M17: =ROUND(IF(OR(LEFT(E17,2)="ĐA",LEFT(E17,2)="DA",LEFT(E17,5)="Đồ án",LEFT(E17,5)="Đồán "),J17*0.5,(IF(H17>0,H17*K17,"0")+IF(I17>0,(I17*0.75)*L17,"0"))),1) -> 0
K18: =IF(OR(LEFT(E18,2)="ĐA",LEFT(E18,2)="DA",LEFT(E18,5)="Đồ án",LEFT(E18,5)="Đồán ",LEFT(E18,9)="Sinh hoạt",LEFT(E18,9)="sinh hoạt",LEFT(E18,6)="Cố vấn",LEFT(E18,6)="cố vấn",LEFT(E18,4)="cvht",LEFT(E18,4)="CVHT",LEFT(E18,4)="shcn",LEFT(E18,4)="SHCN"),0,(IF(AND(H18>0,J18>0),IF(J18>60,1.3,IF(J18>35,1.2,1)),0))) -> 0 | L18: =IF(OR(LEFT(E18,2)="ĐA",LEFT(E18,2)="DA",LEFT(E18,5)="Đồ án",LEFT(E18,5)="Đồán "),0,IF(AND(J18>0,I18>0),IF(AND(OR(LEFT(E18,4)="GDQP",LEFT(E18,4)="gdqp",LEFT(E18,19)="Giáo dục quốc phòng"),J18>50),1.3,IF(J18>35,1.2,IF(J18>29,1.1,1))),0)) -> 0 | M18: =ROUND(IF(OR(LEFT(E18,2)="ĐA",LEFT(E18,2)="DA",LEFT(E18,5)="Đồ án",LEFT(E18,5)="Đồán "),J18*0.5,(IF(H18>0,H18*K18,"0")+IF(I18>0,(I18*0.75)*L18,"0"))),1) -> 0
K19: =IF(OR(LEFT(E19,2)="ĐA",LEFT(E19,2)="DA",LEFT(E19,5)="Đồ án",LEFT(E19,5)="Đồán ",LEFT(E19,9)="Sinh hoạt",LEFT(E19,9)="sinh hoạt",LEFT(E19,6)="Cố vấn",LEFT(E19,6)="cố vấn",LEFT(E19,4)="cvht",LEFT(E19,4)="CVHT",LEFT(E19,4)="shcn",LEFT(E19,4)="SHCN"),0,(IF(AND(H19>0,J19>0),IF(J19>60,1.3,IF(J19>35,1.2,1)),0))) -> 0 | L19: =IF(OR(LEFT(E19,2)="ĐA",LEFT(E19,2)="DA",LEFT(E19,5)="Đồ án",LEFT(E19,5)="Đồán "),0,IF(AND(J19>0,I19>0),IF(AND(OR(LEFT(E19,4)="GDQP",LEFT(E19,4)="gdqp",LEFT(E19,19)="Giáo dục quốc phòng"),J19>50),1.3,IF(J19>35,1.2,IF(J19>29,1.1,1))),0)) -> 0 | M19: =ROUND(IF(OR(LEFT(E19,2)="ĐA",LEFT(E19,2)="DA",LEFT(E19,5)="Đồ án",LEFT(E19,5)="Đồán "),J19*0.5,(IF(H19>0,H19*K19,"0")+IF(I19>0,(I19*0.75)*L19,"0"))),1) -> 0
K20: =IF(OR(LEFT(E20,2)="ĐA",LEFT(E20,2)="DA",LEFT(E20,5)="Đồ án",LEFT(E20,5)="Đồán ",LEFT(E20,9)="Sinh hoạt",LEFT(E20,9)="sinh hoạt",LEFT(E20,6)="Cố vấn",LEFT(E20,6)="cố vấn",LEFT(E20,4)="cvht",LEFT(E20,4)="CVHT",LEFT(E20,4)="shcn",LEFT(E20,4)="SHCN"),0,(IF(AND(H20>0,J20>0),IF(J20>60,1.3,IF(J20>35,1.2,1)),0))) -> 0 | L20: =IF(OR(LEFT(E20,2)="ĐA",LEFT(E20,2)="DA",LEFT(E20,5)="Đồ án",LEFT(E20,5)="Đồán "),0,IF(AND(J20>0,I20>0),IF(AND(OR(LEFT(E20,4)="GDQP",LEFT(E20,4)="gdqp",LEFT(E20,19)="Giáo dục quốc phòng"),J20>50),1.3,IF(J20>35,1.2,IF(J20>29,1.1,1))),0)) -> 0 | M20: =ROUND(IF(OR(LEFT(E20,2)="ĐA",LEFT(E20,2)="DA",LEFT(E20,5)="Đồ án",LEFT(E20,5)="Đồán "),J20*0.5,(IF(H20>0,H20*K20,"0")+IF(I20>0,(I20*0.75)*L20,"0"))),1) -> 0
K21: =IF(OR(LEFT(E21,2)="ĐA",LEFT(E21,2)="DA",LEFT(E21,5)="Đồ án",LEFT(E21,5)="Đồán ",LEFT(E21,9)="Sinh hoạt",LEFT(E21,9)="sinh hoạt",LEFT(E21,6)="Cố vấn",LEFT(E21,6)="cố vấn",LEFT(E21,4)="cvht",LEFT(E21,4)="CVHT",LEFT(E21,4)="shcn",LEFT(E21,4)="SHCN"),0,(IF(AND(H21>0,J21>0),IF(J21>60,1.3,IF(J21>35,1.2,1)),0))) -> 0 | L21: =IF(OR(LEFT(E21,2)="ĐA",LEFT(E21,2)="DA",LEFT(E21,5)="Đồ án",LEFT(E21,5)="Đồán "),0,IF(AND(J21>0,I21>0),IF(AND(OR(LEFT(E21,4)="GDQP",LEFT(E21,4)="gdqp",LEFT(E21,19)="Giáo dục quốc phòng"),J21>50),1.3,IF(J21>35,1.2,IF(J21>29,1.1,1))),0)) -> 0 | M21: =ROUND(IF(OR(LEFT(E21,2)="ĐA",LEFT(E21,2)="DA",LEFT(E21,5)="Đồ án",LEFT(E21,5)="Đồán "),J21*0.5,(IF(H21>0,H21*K21,"0")+IF(I21>0,(I21*0.75)*L21,"0"))),1) -> 0
K22: =IF(OR(LEFT(E22,2)="ĐA",LEFT(E22,2)="DA",LEFT(E22,5)="Đồ án",LEFT(E22,5)="Đồán ",LEFT(E22,9)="Sinh hoạt",LEFT(E22,9)="sinh hoạt",LEFT(E22,6)="Cố vấn",LEFT(E22,6)="cố vấn",LEFT(E22,4)="cvht",LEFT(E22,4)="CVHT",LEFT(E22,4)="shcn",LEFT(E22,4)="SHCN"),0,(IF(AND(H22>0,J22>0),IF(J22>60,1.3,IF(J22>35,1.2,1)),0))) -> 0 | L22: =IF(OR(LEFT(E22,2)="ĐA",LEFT(E22,2)="DA",LEFT(E22,5)="Đồ án",LEFT(E22,5)="Đồán "),0,IF(AND(J22>0,I22>0),IF(AND(OR(LEFT(E22,4)="GDQP",LEFT(E22,4)="gdqp",LEFT(E22,19)="Giáo dục quốc phòng"),J22>50),1.3,IF(J22>35,1.2,IF(J22>29,1.1,1))),0)) -> 0 | M22: =ROUND(IF(OR(LEFT(E22,2)="ĐA",LEFT(E22,2)="DA",LEFT(E22,5)="Đồ án",LEFT(E22,5)="Đồán "),J22*0.5,(IF(H22>0,H22*K22,"0")+IF(I22>0,(I22*0.75)*L22,"0"))),1) -> 0
